{"text_format":"1","workbook":"xlsx","n_sheets":16,"sheets":["記入例","1枚目","2枚目","3枚目","4枚目","5枚目","6枚目","7枚目","8枚目","9枚目","10枚目","11枚目","12枚目","13枚目","14枚目","15枚目"],"not_rendered":{"charts":0,"images":0,"macros":1,"external_links":0,"defined_names":1,"comments":0,"pivot_tables":0},"unopened":[],"bounds":{"document_bytes":16777216,"sheet_cells":100000,"rows_first":2000,"rows_last":500,"rows_between":2000,"halvings":0,"cell_chars":16384,"cell_head_chars":4096},"cells_cut":0,"cells_raw":0,"read":"whole","date_system":"1900"}

{"sheet":"記入例","index":0,"n_rows":50,"n_cols":37,"rows_kept":50,"cut":false,"hidden":false,"merged":[[12,1,13,2],[12,3,12,15],[12,16,12,20],[1,0,1,37],[2,20,2,31],[2,32,2,36],[4,18,4,19],[4,20,4,21],[4,23,4,24],[4,26,4,27],[6,1,9,16],[6,19,6,23],[6,24,6,37],[7,19,7,23],[7,24,7,37],[8,19,8,23],[8,24,8,37],[9,19,9,23],[9,24,9,37],[13,3,13,4],[13,5,13,8],[13,9,13,10],[13,11,13,15],[13,16,13,20],[13,29,13,30],[10,36,10,37],[5,17,10,17],[5,18,10,18],[5,19,5,23],[5,24,5,37],[12,33,13,36],[13,31,13,32],[15,5,15,8],[15,9,15,10],[15,11,15,15],[15,16,15,20],[10,19,10,25],[10,27,10,35],[14,29,15,30],[14,31,15,31],[14,32,15,32],[14,33,15,36],[12,21,13,25],[12,26,13,28],[12,29,12,32],[14,21,15,25],[14,26,15,28],[14,1,15,2],[14,3,14,4],[14,5,14,8],[14,9,14,10],[14,11,14,15],[14,16,14,20],[15,3,15,4],[16,16,16,20],[17,3,17,4],[17,5,17,8],[17,9,17,10],[16,31,17,31],[16,32,17,32],[16,33,17,36],[18,31,19,31],[18,32,19,32],[18,33,19,36],[17,11,17,15],[17,16,17,20],[18,1,19,2],[18,3,18,4],[18,5,18,8],[18,9,18,10],[18,11,18,15],[19,11,19,15],[16,1,17,2],[16,3,16,4],[16,5,16,8],[16,9,16,10],[16,11,16,15],[16,21,17,25],[16,26,17,28],[16,29,17,30],[22,21,23,25],[23,3,23,4],[18,21,19,25],[18,26,19,28],[18,29,19,30],[18,16,18,20],[19,3,19,4],[19,5,19,8],[19,9,19,10],[22,11,22,15],[22,16,22,20],[20,21,21,25],[19,16,19,20],[20,1,21,2],[20,3,20,4],[20,5,20,8],[20,9,20,10],[20,11,20,15],[20,16,20,20],[23,5,23,8],[23,9,23,10],[23,11,23,15],[23,16,23,20],[21,5,21,8],[21,9,21,10],[21,11,21,15],[21,16,21,20],[22,5,22,8],[22,9,22,10],[22,1,23,2],[22,3,22,4],[21,3,21,4],[22,33,23,36],[20,26,21,28],[20,29,21,30],[20,31,21,31],[20,32,21,32],[20,33,21,36],[24,26,25,28],[24,29,25,30],[24,31,25,31],[24,32,25,32],[22,26,23,28],[22,29,23,30],[22,31,23,31],[22,32,23,32],[24,33,25,36],[25,3,25,4],[25,5,25,8],[25,9,25,10],[25,11,25,15],[25,16,25,20],[24,16,24,20],[24,21,25,25],[27,16,27,20],[24,1,25,2],[24,3,24,4],[24,5,24,8],[24,9,24,10],[24,11,24,15],[26,1,27,2],[26,3,26,4],[26,5,26,8],[26,9,26,10],[26,11,26,15],[26,16,26,20],[27,3,27,4],[27,5,27,8],[27,9,27,10],[27,11,27,15],[26,21,27,25],[26,26,27,28],[26,29,27,30],[26,31,27,31],[26,32,27,32],[26,33,27,36],[28,1,29,2],[28,3,28,4],[28,5,28,8],[28,9,28,10],[28,11,28,15],[28,16,28,20],[29,3,29,4],[29,5,29,8],[29,9,29,10],[28,21,29,25],[28,26,29,28],[28,29,29,30],[28,31,29,31],[28,32,29,32],[28,33,29,36],[30,32,31,32],[30,33,31,36],[29,11,29,15],[29,16,29,20],[30,1,31,2],[30,3,30,4],[30,5,30,8],[30,9,30,10],[30,11,30,15],[30,16,30,20],[30,21,31,25],[30,26,31,28],[30,29,31,30],[30,31,31,31],[31,3,31,4],[31,5,31,8],[31,9,31,10],[31,11,31,15],[31,16,31,20],[32,1,33,2],[32,3,32,4],[32,5,32,8],[32,9,32,10],[32,11,32,15],[32,16,32,20],[33,3,33,4],[32,21,33,25],[32,26,33,28],[32,32,33,32],[32,33,33,36],[34,29,35,30],[34,31,35,31],[34,32,35,32],[34,33,35,36],[33,5,33,8],[33,9,33,10],[33,11,33,15],[33,16,33,20],[34,5,34,8],[34,9,34,10],[34,21,35,25],[35,11,35,15],[35,16,35,20],[32,29,33,30],[32,31,33,31],[38,5,38,8],[38,9,38,10],[38,11,38,15],[34,26,35,28],[34,11,34,15],[34,16,34,20],[35,5,35,8],[35,9,35,10],[38,1,39,2],[38,3,38,4],[38,16,38,20],[39,3,39,4],[39,5,39,8],[39,9,39,10],[39,11,39,15],[35,3,35,4],[34,1,35,2],[34,3,34,4],[36,31,37,31],[36,32,37,32],[36,1,37,2],[36,3,36,4],[36,5,36,8],[36,9,36,10],[36,11,36,15],[36,33,37,36],[37,3,37,4],[37,5,37,8],[37,9,37,10],[37,11,37,15],[37,16,37,20],[36,16,36,20],[36,21,37,25],[36,26,37,28],[36,29,37,30],[43,16,43,20],[40,1,41,2],[40,3,40,4],[40,5,40,8],[40,9,40,10],[40,11,40,15],[40,16,40,20],[41,3,41,4],[41,5,41,8],[41,9,41,10],[42,1,43,2],[42,3,42,4],[42,5,42,8],[42,9,42,10],[42,11,42,15],[42,16,42,20],[43,3,43,4],[43,5,43,8],[43,9,43,10],[43,11,43,15],[41,11,41,15],[0,11,0,26],[45,17,49,18],[46,19,46,36],[47,19,47,36],[42,21,43,25],[42,26,43,28],[42,29,43,30],[42,31,43,31],[42,32,43,32],[42,33,43,36],[40,32,41,32],[40,33,41,36],[39,16,39,20],[38,21,39,25],[38,26,39,28],[38,29,39,30],[38,31,39,31],[38,32,39,32],[38,33,39,36],[41,16,41,20],[40,21,41,25],[40,26,41,28],[40,29,41,30],[40,31,41,31]]}
["様式1-(1)",null,null,null,null,null,null,null,null,null,null,"記入例",null,null,null,null,null,null,null,null,null,null,null,null,null,null,null,null,null,null,null,"(査定協会提出用)"]
["商品中古自動車証明申請書"]
[null,null,null,null,null,null,null,null,null,null,null,null,null,null,null,null,null,null,null,null,"（企業コード番号　　　　　　　　　　　　）",null,null,null,null,null,null,null,null,null,null,null,"（1枚目）"]
[]
[null,"一般財団法人　日本自動車査定協会",null,null,null,null,null,null,null,null,null,null,null,null,null,null,null,null,"令和",null,5,null,"年",12,null,"月",11,null,"日"]
[null,"　　　　　　　　　　　　　　　京都府支所長　　様",null,null,null,null,null,null,null,null,null,null,null,null,null,null,null,"申請者","（登録名義人）","住所(所在地)",null,null,null,null,"京都市"]
[null,"　商品中古自動車確認証明業務実施要領に基づき下記の自動車が商品中古自動車であることの証明を申請します。\n　なお、下記の自動車が商品自動車であること及び記載事項に相違ないこと並びに現地調査が行われる場合には協力することを確約いたします。",null,null,null,null,null,null,null,null,null,null,null,null,null,null,null,null,null,"氏名(名称)",null,null,null,null,"京都太郎"]
[null,null,null,null,null,null,null,null,null,null,null,null,null,null,null,null,null,null,null,"代表者名",null,null,null,null,"〃"]
[null,null,null,null,null,null,null,null,null,null,null,null,null,null,null,null,null,null,null,"電話番号",null,null,null,null,"０７５－８８８－８８８８"]
[null,null,null,null,null,null,null,null,null,null,null,null,null,null,null,null,null,null,null,"担当者名",null,null,null,null,"京都太郎"]
[null,null,null,null,null,null,null,null,null,null,null,null,null,null,null,null,null,null,null,"古物商許可番号",null,null,null,null,null,null,"第","1234567890123",null,null,null,null,null,null,null,null,"号"]
[]
[null,"NO.",null,"登録番号",null,null,null,null,null,null,null,null,null,null,null,null,"車台番号",null,null,null,null,"登録\n年月日",null,null,null,null,"展示場",null,null,"調査",null,null,null,"備考"]
[null,null,null,"区分",null,"車種",null,null,null,"かな",null,"番号",null,null,null,null,"(下3ｹﾀ)",null,null,null,null,null,null,null,null,null,null,null,null,"月日",null,"結果"]
[null,1,null,null,null,null,null,null,null,null,null,null,null,null,null,null,null,null,null,null,null,"2023-12-01",null,null,null,null,"店舗",null,null,null,null,"現","帳"]
[null,null,null,"京都",null,503,null,null,null,"あ",null,1234,null,null,null,null,567]
[null,2,null,null,null,null,null,null,null,null,null,null,null,null,null,null,null,null,null,null,null,"2023-11-11",null,null,null,null,"店舗",null,null,null,null,"現","帳"]
[null,null,null,"京都",null,303,null,null,null,"て",null,9876,null,null,null,null,667]
[null,3,null,null,null,null,null,null,null,null,null,null,null,null,null,null,null,null,null,null,null,null,null,null,null,null,null,null,null,null,null,"現","帳"]
[null,null,null,"京都"]
[null,4,null,null,null,null,null,null,null,null,null,null,null,null,null,null,null,null,null,null,null,null,null,null,null,null,null,null,null,null,null,"現","帳"]
[null,null,null,"京都"]
[null,5,null,null,null,null,null,null,null,null,null,null,null,null,null,null,null,null,null,null,null,null,null,null,null,null,null,null,null,null,null,"現","帳"]
[null,null,null,"京都"]
[null,6,null,null,null,null,null,null,null,null,null,null,null,null,null,null,null,null,null,null,null,null,null,null,null,null,null,null,null,null,null,"現","帳"]
[null,null,null,"京都"]
[null,7,null,null,null,null,null,null,null,null,null,null,null,null,null,null,null,null,null,null,null,null,null,null,null,null,null,null,null,null,null,"現","帳"]
[null,null,null,"京都"]
[null,8,null,null,null,null,null,null,null,null,null,null,null,null,null,null,null,null,null,null,null,null,null,null,null,null,null,null,null,null,null,"現","帳"]
[null,null,null,"京都"]
[null,9,null,null,null,null,null,null,null,null,null,null,null,null,null,null,null,null,null,null,null,null,null,null,null,null,null,null,null,null,null,"現","帳"]
[null,null,null,"京都"]
[null,10,null,null,null,null,null,null,null,null,null,null,null,null,null,null,null,null,null,null,null,null,null,null,null,null,null,null,null,null,null,"現","帳"]
[null,null,null,"京都"]
[null,11,null,null,null,null,null,null,null,null,null,null,null,null,null,null,null,null,null,null,null,null,null,null,null,null,null,null,null,null,null,"現","帳"]
[null,null,null,"京都"]
[null,12,null,null,null,null,null,null,null,null,null,null,null,null,null,null,null,null,null,null,null,null,null,null,null,null,null,null,null,null,null,"現","帳"]
[null,null,null,"京都"]
[null,13,null,null,null,null,null,null,null,null,null,null,null,null,null,null,null,null,null,null,null,null,null,null,null,null,null,null,null,null,null,"現","帳"]
[null,null,null,"京都"]
[null,14,null,null,null,null,null,null,null,null,null,null,null,null,null,null,null,null,null,null,null,null,null,null,null,null,null,null,null,null,null,"現","帳"]
[null,null,null,"京都"]
[null,15,null,null,null,null,null,null,null,null,null,null,null,null,null,null,null,null,null,null,null,null,null,null,null,null,null,null,null,null,null,"現","帳"]
[null,null,null,"京都"]
[]
[null,null,null,null,null,null,null,null,null,null,null,null,null,null,null,null,null,"誓約事項"]
[null,null,null,null,null,null,null,null,null,null,null,null,null,null,null,null,null,null,null,"申請する自動車には、取得時の登録事由が新規登"]
[null,null,null,null,null,null,null,null,null,null,null,null,null,null,null,null,null,null,null,"録（新車・中古車とも）のものを含みません。"]
[]
[null,null,null,null,null,null,null,null,null,null,null,null,null,null,null,null,null,null,null,null,null,"担当者署名欄"]

{"sheet":"1枚目","index":1,"n_rows":155,"n_cols":49,"rows_kept":155,"cut":false,"hidden":false,"merged":[[147,33,148,36],[147,21,148,25],[147,26,148,28],[143,31,144,31],[143,32,144,32],[143,33,144,36],[145,21,146,25],[145,26,146,28],[145,29,146,30],[145,31,146,31],[1,48,2,51],[45,17,49,18],[46,19,46,36],[47,19,47,36],[150,17,154,18],[151,19,151,36],[152,19,152,36],[147,29,148,30],[147,31,148,31],[147,32,148,32],[141,32,142,32],[137,31,138,31],[139,31,140,31],[139,32,140,32],[139,33,140,36],[133,21,134,25],[133,26,134,28],[133,29,134,30],[133,31,134,31],[133,32,134,32],[133,33,134,36],[132,16,132,20],[131,21,132,25],[131,26,132,28],[145,1,146,2],[145,3,145,4],[145,5,145,8],[145,9,145,10],[145,11,145,15],[6,24,6,37],[145,32,146,32],[145,33,146,36],[143,21,144,25],[146,16,146,20],[141,31,142,31],[141,33,142,36],[143,1,144,2],[143,3,143,4],[143,5,143,8],[143,9,143,10],[143,11,143,15],[143,16,143,20],[146,3,146,4],[146,5,146,8],[146,9,146,10],[146,11,146,15],[143,26,144,28],[143,29,144,30],[147,1,148,2],[147,3,147,4],[147,5,147,8],[147,9,147,10],[147,11,147,15],[147,16,147,20],[148,3,148,4],[148,5,148,8],[148,9,148,10],[148,11,148,15],[148,16,148,20],[144,3,144,4],[144,5,144,8],[144,9,144,10],[144,11,144,15],[144,16,144,20],[145,16,145,20],[137,26,138,28],[137,29,138,30],[140,16,140,20],[142,3,142,4],[142,5,142,8],[142,9,142,10],[142,11,142,15],[142,16,142,20],[141,29,142,30],[141,16,141,20],[141,21,142,25],[141,26,142,28],[137,3,137,4],[137,5,137,8],[137,9,137,10],[137,11,137,15],[137,16,137,20],[137,21,138,25],[137,1,138,2],[141,1,142,2],[141,3,141,4],[141,5,141,8],[141,9,141,10],[141,11,141,15],[139,21,140,25],[139,26,140,28],[139,29,140,30],[139,1,140,2],[139,3,139,4],[139,5,139,8],[139,9,139,10],[139,11,139,15],[139,16,139,20],[140,3,140,4],[140,5,140,8],[140,9,140,10],[140,11,140,15],[137,32,138,32],[137,33,138,36],[138,3,138,4],[138,5,138,8],[138,9,138,10],[138,11,138,15],[138,16,138,20],[135,21,136,25],[135,26,136,28],[135,29,136,30],[135,31,136,31],[135,32,136,32],[135,33,136,36],[134,11,134,15],[134,16,134,20],[135,1,136,2],[135,3,135,4],[135,5,135,8],[135,9,135,10],[135,11,135,15],[135,16,135,20],[136,3,136,4],[136,5,136,8],[133,1,134,2],[133,3,133,4],[133,5,133,8],[133,9,133,10],[133,11,133,15],[133,16,133,20],[134,3,134,4],[134,5,134,8],[134,9,134,10],[136,9,136,10],[136,11,136,15],[136,16,136,20],[131,29,132,30],[131,31,132,31],[131,32,132,32],[131,33,132,36],[131,1,132,2],[131,3,131,4],[131,5,131,8],[131,9,131,10],[131,11,131,15],[131,16,131,20],[132,3,132,4],[132,5,132,8],[132,9,132,10],[132,11,132,15],[129,1,130,2],[129,3,129,4],[129,5,129,8],[129,9,129,10],[129,11,129,15],[127,1,128,2],[127,3,127,4],[129,33,130,36],[130,3,130,4],[130,5,130,8],[130,9,130,10],[130,11,130,15],[130,16,130,20],[129,16,129,20],[129,21,130,25],[129,26,130,28],[129,29,130,30],[129,31,130,31],[129,32,130,32],[127,26,128,28],[127,29,128,30],[127,31,128,31],[127,32,128,32],[127,33,128,36],[125,26,126,28],[125,29,126,30],[125,31,126,31],[125,32,126,32],[125,33,126,36],[128,5,128,8],[128,9,128,10],[128,11,128,15],[128,16,128,20],[126,5,126,8],[126,9,126,10],[126,11,126,15],[126,16,126,20],[127,5,127,8],[127,9,127,10],[127,11,127,15],[127,16,127,20],[125,21,126,25],[124,16,124,20],[125,1,126,2],[125,3,125,4],[125,5,125,8],[125,9,125,10],[125,11,125,15],[125,16,125,20],[126,3,126,4],[127,21,128,25],[128,3,128,4],[123,21,124,25],[123,26,124,28],[123,29,124,30],[123,31,124,31],[123,32,124,32],[123,33,124,36],[122,11,122,15],[122,16,122,20],[123,1,124,2],[123,3,123,4],[123,5,123,8],[123,9,123,10],[123,11,123,15],[123,16,123,20],[124,3,124,4],[124,5,124,8],[121,21,122,25],[121,26,122,28],[121,29,122,30],[121,31,122,31],[121,32,122,32],[121,33,122,36],[124,9,124,10],[124,11,124,15],[121,1,122,2],[121,3,121,4],[121,5,121,8],[121,9,121,10],[121,11,121,15],[121,16,121,20],[122,3,122,4],[122,5,122,8],[122,9,122,10],[119,21,120,25],[119,26,120,28],[119,29,120,30],[119,31,120,31],[119,32,120,32],[119,33,120,36],[119,1,120,2],[119,3,119,4],[119,5,119,8],[119,9,119,10],[119,11,119,15],[119,16,119,20],[120,3,120,4],[120,5,120,8],[120,9,120,10],[120,11,120,15],[120,16,120,20],[118,5,118,8],[118,9,118,10],[118,11,118,15],[118,16,118,20],[118,29,118,30],[118,31,118,32],[115,36,115,37],[111,24,111,37],[117,1,118,2],[117,3,117,15],[117,16,117,20],[117,21,118,25],[117,26,118,28],[117,29,117,32],[117,33,118,36],[118,3,118,4],[111,1,114,16],[111,19,111,23],[112,19,112,23],[112,24,112,37],[113,19,113,23],[113,24,113,37],[114,19,114,23],[114,24,114,37],[96,19,96,36],[100,18,100,21],[102,18,102,21],[104,18,104,21],[110,17,115,17],[110,18,115,18],[110,19,110,23],[110,24,110,37],[115,19,115,25],[115,27,115,35],[91,21,92,36],[93,21,94,36],[94,3,94,4],[94,5,94,8],[94,9,94,10],[94,11,94,15],[94,16,94,20],[92,16,92,20],[93,1,94,2],[93,3,93,4],[93,5,93,8],[93,9,93,10],[93,11,93,15],[93,16,93,20],[91,1,92,2],[91,3,91,4],[91,5,91,8],[91,9,91,10],[91,11,91,15],[91,16,91,20],[92,3,92,4],[92,5,92,8],[92,9,92,10],[92,11,92,15],[89,21,90,36],[90,3,90,4],[90,5,90,8],[90,9,90,10],[90,11,90,15],[90,16,90,20],[89,1,90,2],[89,3,89,4],[89,5,89,8],[89,9,89,10],[89,11,89,15],[89,16,89,20],[85,21,86,36],[87,21,88,36],[88,3,88,4],[88,5,88,8],[88,9,88,10],[88,11,88,15],[88,16,88,20],[86,16,86,20],[87,1,88,2],[87,3,87,4],[87,5,87,8],[87,9,87,10],[87,11,87,15],[87,16,87,20],[85,1,86,2],[85,3,85,4],[85,5,85,8],[85,9,85,10],[85,11,85,15],[85,16,85,20],[86,3,86,4],[86,5,86,8],[86,9,86,10],[86,11,86,15],[83,21,84,36],[84,3,84,4],[84,5,84,8],[84,9,84,10],[84,11,84,15],[84,16,84,20],[83,1,84,2],[83,3,83,4],[83,5,83,8],[83,9,83,10],[83,11,83,15],[83,16,83,20],[79,21,80,36],[81,21,82,36],[82,3,82,4],[82,5,82,8],[82,9,82,10],[82,11,82,15],[82,16,82,20],[80,16,80,20],[81,1,82,2],[81,3,81,4],[81,5,81,8],[81,9,81,10],[81,11,81,15],[81,16,81,20],[79,1,80,2],[79,3,79,4],[79,5,79,8],[79,9,79,10],[79,11,79,15],[79,16,79,20],[80,3,80,4],[80,5,80,8],[80,9,80,10],[80,11,80,15],[77,21,78,36],[78,3,78,4],[78,5,78,8],[78,9,78,10],[78,11,78,15],[78,16,78,20],[77,1,78,2],[77,3,77,4],[77,5,77,8],[77,9,77,10],[77,11,77,15],[77,16,77,20],[73,21,74,36],[75,21,76,36],[76,3,76,4],[76,5,76,8],[76,9,76,10],[76,11,76,15],[76,16,76,20],[74,16,74,20],[75,1,76,2],[75,3,75,4],[75,5,75,8],[75,9,75,10],[75,11,75,15],[75,16,75,20],[73,1,74,2],[73,3,73,4],[73,5,73,8],[73,9,73,10],[73,11,73,15],[73,16,73,20],[74,3,74,4],[74,5,74,8],[74,9,74,10],[74,11,74,15],[71,21,72,36],[72,3,72,4],[72,5,72,8],[72,9,72,10],[72,11,72,15],[72,16,72,20],[70,3,70,4],[70,5,70,8],[70,9,70,10],[70,11,70,15],[70,16,70,20],[67,1,68,2],[67,3,67,4],[67,5,67,8],[67,9,67,10],[67,11,67,15],[67,16,67,20],[68,3,68,4],[71,1,72,2],[71,3,71,4],[71,5,71,8],[71,9,71,10],[71,11,71,15],[68,5,68,8],[68,9,68,10],[68,11,68,15],[68,16,68,20],[69,1,70,2],[69,3,69,4],[69,5,69,8],[69,9,69,10],[69,11,69,15],[69,16,69,20],[71,16,71,20],[64,11,64,15],[64,16,64,20],[65,1,66,2],[65,3,65,4],[65,5,65,8],[65,9,65,10],[65,11,65,15],[65,16,65,20],[66,3,66,4],[66,5,66,8],[66,9,66,10],[66,11,66,15],[66,16,66,20],[14,33,15,36],[65,21,66,36],[67,21,68,36],[69,21,70,36],[63,1,64,2],[63,3,63,15],[63,16,63,20],[64,3,64,4],[64,5,64,8],[64,9,64,10],[16,33,17,36],[17,3,17,4],[17,5,17,8],[17,9,17,10],[17,11,17,15],[17,16,17,20],[16,3,16,4],[16,5,16,8],[16,26,17,28],[16,29,17,30],[18,32,19,32],[18,33,19,36],[19,3,19,4],[19,5,19,8],[16,21,17,25],[14,9,14,10],[16,31,17,31],[16,32,17,32],[14,31,15,31],[14,32,15,32],[14,29,15,30],[15,16,15,20],[13,16,13,20],[12,26,13,28],[14,26,15,28],[12,16,12,20],[12,21,13,25],[12,1,13,2],[13,3,13,4],[14,3,14,4],[14,5,14,8],[15,3,15,4],[13,5,13,8],[14,1,15,2],[12,3,12,15],[14,21,15,25],[14,11,14,15],[14,16,14,20],[15,5,15,8],[15,9,15,10],[15,11,15,15],[13,9,13,10],[13,11,13,15],[19,9,19,10],[19,11,19,15],[19,16,19,20],[18,21,19,25],[18,26,19,28],[18,29,19,30],[21,3,21,4],[21,5,21,8],[21,9,21,10],[18,31,19,31],[20,32,21,32],[24,21,25,25],[24,26,25,28],[24,29,25,30],[20,31,21,31],[20,11,20,15],[20,16,20,20],[21,11,21,15],[21,16,21,20],[24,31,25,31],[24,11,24,15],[24,16,24,20],[22,21,23,25],[22,26,23,28],[22,29,23,30],[22,31,23,31],[22,11,22,15],[22,16,22,20],[22,32,23,32],[24,32,25,32],[25,5,25,8],[25,9,25,10],[27,3,27,4],[27,5,27,8],[27,11,27,15],[25,11,25,15],[20,33,21,36],[20,21,21,25],[20,26,21,28],[20,29,21,30],[26,29,27,30],[26,31,27,31],[26,11,26,15],[26,16,26,20],[22,33,23,36],[26,21,27,25],[26,26,27,28],[24,33,25,36],[26,32,27,32],[26,33,27,36],[23,11,23,15],[23,16,23,20],[27,16,27,20],[25,16,25,20],[28,33,29,36],[29,3,29,4],[29,5,29,8],[29,9,29,10],[29,11,29,15],[29,16,29,20],[28,3,28,4],[28,5,28,8],[28,9,28,10],[28,21,29,25],[28,26,29,28],[28,29,29,30],[28,31,29,31],[28,11,28,15],[28,16,28,20],[28,32,29,32],[30,21,31,25],[30,26,31,28],[30,29,31,30],[30,31,31,31],[30,11,30,15],[30,16,30,20],[30,32,31,32],[30,33,31,36],[31,3,31,4],[31,5,31,8],[31,9,31,10],[31,11,31,15],[31,16,31,20],[30,3,30,4],[30,5,30,8],[30,9,30,10],[32,21,33,25],[32,26,33,28],[32,29,33,30],[32,31,33,31],[32,11,32,15],[32,16,32,20],[32,32,33,32],[32,33,33,36],[33,3,33,4],[33,5,33,8],[33,9,33,10],[33,11,33,15],[33,16,33,20],[32,3,32,4],[32,5,32,8],[32,9,32,10],[34,21,35,25],[34,26,35,28],[34,29,35,30],[34,31,35,31],[34,11,34,15],[34,16,34,20],[34,32,35,32],[34,33,35,36],[35,3,35,4],[35,5,35,8],[35,9,35,10],[35,11,35,15],[35,16,35,20],[34,3,34,4],[34,5,34,8],[34,9,34,10],[36,21,37,25],[36,26,37,28],[36,29,37,30],[36,31,37,31],[36,11,36,15],[36,16,36,20],[36,32,37,32],[36,33,37,36],[37,3,37,4],[37,5,37,8],[37,9,37,10],[37,11,37,15],[37,16,37,20],[36,3,36,4],[36,5,36,8],[36,9,36,10],[38,32,39,32],[38,33,39,36],[39,3,39,4],[39,5,39,8],[39,9,39,10],[39,11,39,15],[39,16,39,20],[38,3,38,4],[38,5,38,8],[38,9,38,10],[40,31,41,31],[40,11,40,15],[40,16,40,20],[38,21,39,25],[38,26,39,28],[38,29,39,30],[40,21,41,25],[38,31,39,31],[38,11,38,15],[38,16,38,20],[41,11,41,15],[41,16,41,20],[40,5,40,8],[40,9,40,10],[26,1,27,2],[20,9,20,10],[24,1,25,2],[30,1,31,2],[28,1,29,2],[41,3,41,4],[41,5,41,8],[41,9,41,10],[27,9,27,10],[22,1,23,2],[24,3,24,4],[24,5,24,8],[20,3,20,4],[20,5,20,8],[23,3,23,4],[23,5,23,8],[23,9,23,10],[20,1,21,2],[26,3,26,4],[26,5,26,8],[26,9,26,10],[25,3,25,4],[2,32,2,36],[2,20,2,31],[5,19,5,23],[6,19,6,23],[7,19,7,23],[8,19,8,23],[9,19,9,23],[5,17,10,17],[10,36,10,37],[7,24,7,37],[8,24,8,37],[9,24,9,37],[10,27,10,35],[4,20,4,21],[4,23,4,24],[4,26,4,27],[5,18,10,18],[10,19,10,25],[5,24,5,37],[16,1,17,2],[18,1,19,2],[22,3,22,4],[22,5,22,8],[22,9,22,10],[24,9,24,10],[6,1,9,16],[42,16,42,20],[40,1,41,2],[38,1,39,2],[36,1,37,2],[34,1,35,2],[32,1,33,2],[42,1,43,2],[16,9,16,10],[16,11,16,15],[16,16,16,20],[18,3,18,4],[18,5,18,8],[18,9,18,10],[18,11,18,15],[18,16,18,20],[40,3,40,4],[43,11,43,15],[43,16,43,20],[42,3,42,4],[42,5,42,8],[42,9,42,10],[42,21,43,25],[43,3,43,4],[43,5,43,8],[43,9,43,10],[42,11,42,15],[60,19,60,25],[60,27,60,35],[60,36,60,37],[12,29,12,32],[13,29,13,30],[13,31,13,32],[12,33,13,36],[40,32,41,32],[40,33,41,36],[55,19,55,23],[57,24,57,37],[58,19,58,23],[58,24,58,37],[59,19,59,23],[59,24,59,37],[56,24,56,37],[55,24,55,37],[42,32,43,32],[42,33,43,36],[42,26,43,28],[42,29,43,30],[42,31,43,31],[40,26,41,28],[40,29,41,30],[1,0,1,37],[51,0,51,37],[106,0,106,37],[107,20,107,31],[107,32,107,36],[109,18,109,19],[109,20,109,21],[109,23,109,24],[109,26,109,27],[4,18,4,19],[63,21,64,36],[62,1,62,20],[62,21,62,36],[52,20,52,31],[52,32,52,36],[55,17,60,17],[55,18,60,18],[56,1,59,16],[56,19,56,23],[57,19,57,23],[54,18,54,19],[54,20,54,21],[54,23,54,24],[54,26,54,27]]}
["様式1-(1)",null,null,null,null,null,null,null,null,null,null,null,null,null,null,null,null,null,null,null,null,null,null,null,null,null,null,null,null,null,null,"(査定協会提出用)"]
["商品中古自動車証明申請書",null,null,null,null,null,null,null,null,null,null,null,null,null,null,null,null,null,null,null,null,null,null,null,null,null,null,null,null,null,null,null,null,null,null,null,null,null,null,null,null,null,null,null,null,null,null,null,"記入箇所"]
[null,null,null,null,null,null,null,null,null,null,null,null,null,null,null,null,null,null,null,null,"（企業コード番号　　　　　　　　　　　　）",null,null,null,null,null,null,null,null,null,null,null,"（1枚目）"]
[]
[null,"一般財団法人　日本自動車査定協会",null,null,null,null,null,null,null,null,null,null,null,null,null,null,null,null,"令和",null,null,null,"年",null,null,"月",null,null,"日"]
[null,"　　　　　　　　　　　　　　　京都府支所長　　様",null,null,null,null,null,null,null,null,null,null,null,null,null,null,null,"申請者","（登録名義人）","住所(所在地)"]
[null,"　商品中古自動車確認証明業務実施要領に基づき下記の自動車が商品中古自動車であることの証明を申請します。\n　なお、下記の自動車が商品自動車であること及び記載事項に相違ないこと並びに現地調査が行われる場合には協力することを確約いたします。",null,null,null,null,null,null,null,null,null,null,null,null,null,null,null,null,null,"氏名(名称)"]
[null,null,null,null,null,null,null,null,null,null,null,null,null,null,null,null,null,null,null,"代表者名"]
[null,null,null,null,null,null,null,null,null,null,null,null,null,null,null,null,null,null,null,"電話番号"]
[null,null,null,null,null,null,null,null,null,null,null,null,null,null,null,null,null,null,null,"担当者名"]
[null,null,null,null,null,null,null,null,null,null,null,null,null,null,null,null,null,null,null,"古物商許可番号",null,null,null,null,null,null,"第",null,null,null,null,null,null,null,null,null,"号"]
[]
[null,"NO.",null,"登録番号",null,null,null,null,null,null,null,null,null,null,null,null,"車台番号",null,null,null,null,"登録\n年月日",null,null,null,null,"展示場",null,null,"調査",null,null,null,"備考"]
[null,null,null,"区分",null,"車種",null,null,null,"かな",null,"番号",null,null,null,null,"(下3ｹﾀ)",null,null,null,null,null,null,null,null,null,null,null,null,"月日",null,"結果"]
[null,1,null,null,null,null,null,null,null,null,null,null,null,null,null,null,null,null,null,null,null,null,null,null,null,null,null,null,null,null,null,"現","帳"]
[null,null,null,"京都"]
[null,2,null,null,null,null,null,null,null,null,null,null,null,null,null,null,null,null,null,null,null,null,null,null,null,null,null,null,null,null,null,"現","帳"]
[null,null,null,"京都"]
[null,3,null,null,null,null,null,null,null,null,null,null,null,null,null,null,null,null,null,null,null,null,null,null,null,null,null,null,null,null,null,"現","帳"]
[null,null,null,"京都"]
[null,4,null,null,null,null,null,null,null,null,null,null,null,null,null,null,null,null,null,null,null,null,null,null,null,null,null,null,null,null,null,"現","帳"]
[null,null,null,"京都"]
[null,5,null,null,null,null,null,null,null,null,null,null,null,null,null,null,null,null,null,null,null,null,null,null,null,null,null,null,null,null,null,"現","帳"]
[null,null,null,"京都"]
[null,6,null,null,null,null,null,null,null,null,null,null,null,null,null,null,null,null,null,null,null,null,null,null,null,null,null,null,null,null,null,"現","帳"]
[null,null,null,"京都"]
[null,7,null,null,null,null,null,null,null,null,null,null,null,null,null,null,null,null,null,null,null,null,null,null,null,null,null,null,null,null,null,"現","帳"]
[null,null,null,"京都"]
[null,8,null,null,null,null,null,null,null,null,null,null,null,null,null,null,null,null,null,null,null,null,null,null,null,null,null,null,null,null,null,"現","帳"]
[null,null,null,"京都"]
[null,9,null,null,null,null,null,null,null,null,null,null,null,null,null,null,null,null,null,null,null,null,null,null,null,null,null,null,null,null,null,"現","帳"]
[null,null,null,"京都"]
[null,10,null,null,null,null,null,null,null,null,null,null,null,null,null,null,null,null,null,null,null,null,null,null,null,null,null,null,null,null,null,"現","帳"]
[null,null,null,"京都"]
[null,11,null,null,null,null,null,null,null,null,null,null,null,null,null,null,null,null,null,null,null,null,null,null,null,null,null,null,null,null,null,"現","帳"]
[null,null,null,"京都"]
[null,12,null,null,null,null,null,null,null,null,null,null,null,null,null,null,null,null,null,null,null,null,null,null,null,null,null,null,null,null,null,"現","帳"]
[null,null,null,"京都"]
[null,13,null,null,null,null,null,null,null,null,null,null,null,null,null,null,null,null,null,null,null,null,null,null,null,null,null,null,null,null,null,"現","帳"]
[null,null,null,"京都"]
[null,14,null,null,null,null,null,null,null,null,null,null,null,null,null,null,null,null,null,null,null,null,null,null,null,null,null,null,null,null,null,"現","帳"]
[null,null,null,"京都"]
[null,15,null,null,null,null,null,null,null,null,null,null,null,null,null,null,null,null,null,null,null,null,null,null,null,null,null,null,null,null,null,"現","帳"]
[null,null,null,"京都"]
[]
[null,null,null,null,null,null,null,null,null,null,null,null,null,null,null,null,null,"誓約事項"]
[null,null,null,null,null,null,null,null,null,null,null,null,null,null,null,null,null,null,null,"申請する自動車には、取得時の登録事由が新規登"]
[null,null,null,null,null,null,null,null,null,null,null,null,null,null,null,null,null,null,null,"録（新車・中古車とも）のものを含みません。"]
[]
[null,null,null,null,null,null,null,null,null,null,null,null,null,null,null,null,null,null,null,null,null,"担当者署名欄"]
["様式1-(2)",null,null,null,null,null,null,null,null,null,null,null,null,null,null,null,null,null,null,null,null,null,null,null,null,null,null,"(自動車税管理事務所提出用)"]
["商品中古自動車の自動車税の種別割減免申請書"]
[null,null,null,null,null,null,null,null,null,null,null,null,null,null,null,null,null,null,null,null,"（企業コード番号　　　　　　　　　　　　）",null,null,null,null,null,null,null,null,null,null,null,{"$f":"AG3","v":"（1枚目）"}]
[]
[null,"京都府自動車税管理事務所長　様",null,null,null,null,null,null,null,null,null,null,null,null,null,null,null,null,"令和",null,{"$f":"U5","v":0},null,"年",{"$f":"X5","v":0},null,"月",{"$f":"AA5","v":0},null,"日"]
[null,null,null,null,null,null,null,null,null,null,null,null,null,null,null,null,null,"申請者","（登録名義人）","住所(所在地)",null,null,null,null,{"$f":"Y6","v":0}]
[null,"　   京都府府税条例第70条第2項の規定に基づき、\n  下記のとおり申請します。",null,null,null,null,null,null,null,null,null,null,null,null,null,null,null,null,null,"氏名(名称)",null,null,null,null,{"$f":"Y7","v":0}]
[null,null,null,null,null,null,null,null,null,null,null,null,null,null,null,null,null,null,null,"代表者名",null,null,null,null,{"$f":"Y8","v":0}]
[null,null,null,null,null,null,null,null,null,null,null,null,null,null,null,null,null,null,null,"電話番号",null,null,null,null,{"$f":"Y9","v":0}]
[null,null,null,null,null,null,null,null,null,null,null,null,null,null,null,null,null,null,null,"担当者名",null,null,null,null,{"$f":"Y10","v":0}]
[null,null,null,null,null,null,null,null,null,null,null,null,null,null,null,null,null,null,null,"古物商許可番号",null,null,null,null,null,null,"第",{"$f":"AB11","v":0},null,null,null,null,null,null,null,null,"号"]
[]
[null,"減　免　対　象　自　動　車　の　総　台　数",null,null,null,null,null,null,null,null,null,null,null,null,null,null,null,null,null,null,null,"台"]
[null,"NO.",null,"登録番号",null,null,null,null,null,null,null,null,null,null,null,null,"車台番号",null,null,null,null,"備　　　　　考"]
[null,null,null,"区分",null,"車種",null,null,null,"かな",null,"番号",null,null,null,null,"(下3ｹﾀ)"]
[null,{"$f":"B15","v":1}]
[null,null,null,{"$f":"D16","v":"京都"},null,{"$f":"F16","v":0},null,null,null,{"$f":"J16","v":0},null,{"$f":"L16","v":0},null,null,null,null,{"$f":"Q16","v":0}]
[null,{"$f":"B17","v":2}]
[null,null,null,{"$f":"D18","v":"京都"},null,{"$f":"F18","v":0},null,null,null,{"$f":"J18","v":0},null,{"$f":"L18","v":0},null,null,null,null,{"$f":"Q18","v":0}]
[null,{"$f":"B19","v":3}]
[null,null,null,{"$f":"D20","v":"京都"},null,{"$f":"F20","v":0},null,null,null,{"$f":"J20","v":0},null,{"$f":"L20","v":0},null,null,null,null,{"$f":"Q20","v":0}]
[null,{"$f":"B21","v":4}]
[null,null,null,{"$f":"D22","v":"京都"},null,{"$f":"F22","v":0},null,null,null,{"$f":"J22","v":0},null,{"$f":"L22","v":0},null,null,null,null,{"$f":"Q22","v":0}]
[null,{"$f":"B23","v":5}]
[null,null,null,{"$f":"D24","v":"京都"},null,{"$f":"F24","v":0},null,null,null,{"$f":"J24","v":0},null,{"$f":"L24","v":0},null,null,null,null,{"$f":"Q24","v":0}]
[null,{"$f":"B25","v":6}]
[null,null,null,{"$f":"D26","v":"京都"},null,{"$f":"F26","v":0},null,null,null,{"$f":"J26","v":0},null,{"$f":"L26","v":0},null,null,null,null,{"$f":"Q26","v":0}]
[null,{"$f":"B27","v":7}]
[null,null,null,{"$f":"D28","v":"京都"},null,{"$f":"F28","v":0},null,null,null,{"$f":"J28","v":0},null,{"$f":"L28","v":0},null,null,null,null,{"$f":"Q28","v":0}]
[null,{"$f":"B29","v":8}]
[null,null,null,{"$f":"D30","v":"京都"},null,{"$f":"F30","v":0},null,null,null,{"$f":"J30","v":0},null,{"$f":"L30","v":0},null,null,null,null,{"$f":"Q30","v":0}]
[null,{"$f":"B31","v":9}]
[null,null,null,{"$f":"D32","v":"京都"},null,{"$f":"F32","v":0},null,null,null,{"$f":"J32","v":0},null,{"$f":"L32","v":0},null,null,null,null,{"$f":"Q32","v":0}]
[null,{"$f":"B33","v":10}]
[null,null,null,{"$f":"D34","v":"京都"},null,{"$f":"F34","v":0},null,null,null,{"$f":"J34","v":0},null,{"$f":"L34","v":0},null,null,null,null,{"$f":"Q34","v":0}]
[null,{"$f":"B35","v":11}]
[null,null,null,{"$f":"D36","v":"京都"},null,{"$f":"F36","v":0},null,null,null,{"$f":"J36","v":0},null,{"$f":"L36","v":0},null,null,null,null,{"$f":"Q36","v":0}]
[null,{"$f":"B37","v":12}]
[null,null,null,{"$f":"D38","v":"京都"},null,{"$f":"F38","v":0},null,null,null,{"$f":"J38","v":0},null,{"$f":"L38","v":0},null,null,null,null,{"$f":"Q38","v":0}]
[null,{"$f":"B39","v":13}]
[null,null,null,{"$f":"D40","v":"京都"},null,{"$f":"F40","v":0},null,null,null,{"$f":"J40","v":0},null,{"$f":"L40","v":0},null,null,null,null,{"$f":"Q40","v":0}]
[null,{"$f":"B41","v":14}]
[null,null,null,{"$f":"D42","v":"京都"},null,{"$f":"F42","v":0},null,null,null,{"$f":"J42","v":0},null,{"$f":"L42","v":0},null,null,null,null,{"$f":"Q42","v":0}]
[null,{"$f":"B43","v":15}]
[null,null,null,{"$f":"D44","v":"京都"},null,{"$f":"F44","v":0},null,null,null,{"$f":"J44","v":0},null,{"$f":"L44","v":0},null,null,null,null,{"$f":"Q44","v":0}]
[]
[null,null,null,null,null,null,null,null,null,null,null,null,null,null,null,null,null,null,null,"　上記は、商品中古自動車確認証明業務実施要領\nに定める商品中古自動車であることを証明する。"]
[]
[null,null,null,null,null,null,null,null,null,null,null,null,null,null,null,null,null,null,null,null,"令和　　　年　　　月　　　日"]
[]
[null,null,null,null,null,null,null,null,null,null,null,null,null,null,null,null,null,null,"住　　所"]
[]
[null,null,null,null,null,null,null,null,null,null,null,null,null,null,null,null,null,null,"支 所 名"]
[]
[null,null,null,null,null,null,null,null,null,null,null,null,null,null,null,null,null,null,"代表者名",null,null,null,null,null,null,null,null,null,null,null,null,null,null,null,null,null,"㊞"]
["様式1-(3)",null,null,null,null,null,null,null,null,null,null,null,null,null,null,null,null,null,null,null,null,null,null,null,null,null,null,null,null,null,null,null,null,"(申請者控)"]
["商品中古自動車証明申請書"]
[null,null,null,null,null,null,null,null,null,null,null,null,null,null,null,null,null,null,null,null,"（企業コード番号　　　　　　　　　　　　）",null,null,null,null,null,null,null,null,null,null,null,{"$f":"AG3","v":"（1枚目）"}]
[]
[null,"一般財団法人　日本自動車査定協会",null,null,null,null,null,null,null,null,null,null,null,null,null,null,null,null,"令和",null,{"$f":"U5","v":0},null,"年",{"$f":"X5","v":0},null,"月",{"$f":"AA5","v":0},null,"日"]
[null,"　　　　　　　　　　　　　　　京都府支所長　　様",null,null,null,null,null,null,null,null,null,null,null,null,null,null,null,"申請者","（登録名義人）","住所(所在地)",null,null,null,null,{"$f":"Y6","v":0}]
[null,"　商品中古自動車確認証明業務実施要領に基づき下記の自動車が商品中古自動車であることの証明を申請します。\n　なお、下記の自動車が商品自動車であること及び記載事項に相違ないこと並びに現地調査が行われる場合には協力することを確約いたします。",null,null,null,null,null,null,null,null,null,null,null,null,null,null,null,null,null,"氏名(名称)",null,null,null,null,{"$f":"Y7","v":0}]
[null,null,null,null,null,null,null,null,null,null,null,null,null,null,null,null,null,null,null,"代表者名",null,null,null,null,{"$f":"Y8","v":0}]
[null,null,null,null,null,null,null,null,null,null,null,null,null,null,null,null,null,null,null,"電話番号",null,null,null,null,{"$f":"Y9","v":0}]
[null,null,null,null,null,null,null,null,null,null,null,null,null,null,null,null,null,null,null,"担当者名",null,null,null,null,{"$f":"Y10","v":0}]
[null,null,null,null,null,null,null,null,null,null,null,null,null,null,null,null,null,null,null,"古物商許可番号",null,null,null,null,null,null,"第",{"$f":"AB11","v":0},null,null,null,null,null,null,null,null,"号"]
[]
[null,"NO.",null,"登録番号",null,null,null,null,null,null,null,null,null,null,null,null,"車台番号",null,null,null,null,"登録\n年月日",null,null,null,null,"展示場",null,null,"調査",null,null,null,"備考"]
[null,null,null,"区分",null,"車種",null,null,null,"かな",null,"番号",null,null,null,null,"(下3ｹﾀ)",null,null,null,null,null,null,null,null,null,null,null,null,"月日",null,"結果"]
[null,{"$f":"B15","v":1},null,null,null,null,null,null,null,null,null,null,null,null,null,null,null,null,null,null,null,{"$f":"V15","v":"00:00:00"},null,null,null,null,{"$f":"AA15","v":0},null,null,null,null,"現","帳"]
[null,null,null,{"$f":"D16","v":"京都"},null,{"$f":"F16","v":0},null,null,null,{"$f":"J16","v":0},null,{"$f":"L16","v":0},null,null,null,null,{"$f":"Q16","v":0}]
[null,{"$f":"B17","v":2},null,null,null,null,null,null,null,null,null,null,null,null,null,null,null,null,null,null,null,{"$f":"V17","v":"00:00:00"},null,null,null,null,{"$f":"AA17","v":0},null,null,null,null,"現","帳"]
[null,null,null,{"$f":"D18","v":"京都"},null,{"$f":"F18","v":0},null,null,null,{"$f":"J18","v":0},null,{"$f":"L18","v":0},null,null,null,null,{"$f":"Q18","v":0}]
[null,{"$f":"B19","v":3},null,null,null,null,null,null,null,null,null,null,null,null,null,null,null,null,null,null,null,{"$f":"V19","v":"00:00:00"},null,null,null,null,{"$f":"AA19","v":0},null,null,null,null,"現","帳"]
[null,null,null,{"$f":"D20","v":"京都"},null,{"$f":"F20","v":0},null,null,null,{"$f":"J20","v":0},null,{"$f":"L20","v":0},null,null,null,null,{"$f":"Q20","v":0}]
[null,{"$f":"B21","v":4},null,null,null,null,null,null,null,null,null,null,null,null,null,null,null,null,null,null,null,{"$f":"V21","v":"00:00:00"},null,null,null,null,{"$f":"AA21","v":0},null,null,null,null,"現","帳"]
[null,null,null,{"$f":"D22","v":"京都"},null,{"$f":"F22","v":0},null,null,null,{"$f":"J22","v":0},null,{"$f":"L22","v":0},null,null,null,null,{"$f":"Q22","v":0}]
[null,{"$f":"B23","v":5},null,null,null,null,null,null,null,null,null,null,null,null,null,null,null,null,null,null,null,{"$f":"V23","v":"00:00:00"},null,null,null,null,{"$f":"AA23","v":0},null,null,null,null,"現","帳"]
[null,null,null,{"$f":"D24","v":"京都"},null,{"$f":"F24","v":0},null,null,null,{"$f":"J24","v":0},null,{"$f":"L24","v":0},null,null,null,null,{"$f":"Q24","v":0}]
[null,{"$f":"B25","v":6},null,null,null,null,null,null,null,null,null,null,null,null,null,null,null,null,null,null,null,{"$f":"V25","v":"00:00:00"},null,null,null,null,{"$f":"AA25","v":0},null,null,null,null,"現","帳"]
[null,null,null,{"$f":"D26","v":"京都"},null,{"$f":"F26","v":0},null,null,null,{"$f":"J26","v":0},null,{"$f":"L26","v":0},null,null,null,null,{"$f":"Q26","v":0}]
[null,{"$f":"B27","v":7},null,null,null,null,null,null,null,null,null,null,null,null,null,null,null,null,null,null,null,{"$f":"V27","v":"00:00:00"},null,null,null,null,{"$f":"AA27","v":0},null,null,null,null,"現","帳"]
[null,null,null,{"$f":"D28","v":"京都"},null,{"$f":"F28","v":0},null,null,null,{"$f":"J28","v":0},null,{"$f":"L28","v":0},null,null,null,null,{"$f":"Q28","v":0}]
[null,{"$f":"B29","v":8},null,null,null,null,null,null,null,null,null,null,null,null,null,null,null,null,null,null,null,{"$f":"V29","v":"00:00:00"},null,null,null,null,{"$f":"AA29","v":0},null,null,null,null,"現","帳"]
[null,null,null,{"$f":"D30","v":"京都"},null,{"$f":"F30","v":0},null,null,null,{"$f":"J30","v":0},null,{"$f":"L30","v":0},null,null,null,null,{"$f":"Q30","v":0}]
[null,{"$f":"B31","v":9},null,null,null,null,null,null,null,null,null,null,null,null,null,null,null,null,null,null,null,{"$f":"V31","v":"00:00:00"},null,null,null,null,{"$f":"AA31","v":0},null,null,null,null,"現","帳"]
[null,null,null,{"$f":"D32","v":"京都"},null,{"$f":"F32","v":0},null,null,null,{"$f":"J32","v":0},null,{"$f":"L32","v":0},null,null,null,null,{"$f":"Q32","v":0}]
[null,{"$f":"B33","v":10},null,null,null,null,null,null,null,null,null,null,null,null,null,null,null,null,null,null,null,{"$f":"V33","v":"00:00:00"},null,null,null,null,{"$f":"AA33","v":0},null,null,null,null,"現","帳"]
[null,null,null,{"$f":"D34","v":"京都"},null,{"$f":"F34","v":0},null,null,null,{"$f":"J34","v":0},null,{"$f":"L34","v":0},null,null,null,null,{"$f":"Q34","v":0}]
[null,{"$f":"B35","v":11},null,null,null,null,null,null,null,null,null,null,null,null,null,null,null,null,null,null,null,{"$f":"V35","v":"00:00:00"},null,null,null,null,{"$f":"AA35","v":0},null,null,null,null,"現","帳"]
[null,null,null,{"$f":"D36","v":"京都"},null,{"$f":"F36","v":0},null,null,null,{"$f":"J36","v":0},null,{"$f":"L36","v":0},null,null,null,null,{"$f":"Q36","v":0}]
[null,{"$f":"B37","v":12},null,null,null,null,null,null,null,null,null,null,null,null,null,null,null,null,null,null,null,{"$f":"V37","v":"00:00:00"},null,null,null,null,{"$f":"AA37","v":0},null,null,null,null,"現","帳"]
[null,null,null,{"$f":"D38","v":"京都"},null,{"$f":"F38","v":0},null,null,null,{"$f":"J38","v":0},null,{"$f":"L38","v":0},null,null,null,null,{"$f":"Q38","v":0}]
[null,{"$f":"B39","v":13},null,null,null,null,null,null,null,null,null,null,null,null,null,null,null,null,null,null,null,{"$f":"V39","v":"00:00:00"},null,null,null,null,{"$f":"AA39","v":0},null,null,null,null,"現","帳"]
[null,null,null,{"$f":"D40","v":"京都"},null,{"$f":"F40","v":0},null,null,null,{"$f":"J40","v":0},null,{"$f":"L40","v":0},null,null,null,null,{"$f":"Q40","v":0}]
[null,{"$f":"B41","v":14},null,null,null,null,null,null,null,null,null,null,null,null,null,null,null,null,null,null,null,{"$f":"V41","v":"00:00:00"},null,null,null,null,{"$f":"AA41","v":0},null,null,null,null,"現","帳"]
[null,null,null,{"$f":"D42","v":"京都"},null,{"$f":"F42","v":0},null,null,null,{"$f":"J42","v":0},null,{"$f":"L42","v":0},null,null,null,null,{"$f":"Q42","v":0}]
[null,{"$f":"B43","v":15},null,null,null,null,null,null,null,null,null,null,null,null,null,null,null,null,null,null,null,{"$f":"V43","v":"00:00:00"},null,null,null,null,{"$f":"AA43","v":0},null,null,null,null,"現","帳"]
[null,null,null,{"$f":"D44","v":"京都"},null,{"$f":"F44","v":0},null,null,null,{"$f":"J44","v":0},null,{"$f":"L44","v":0},null,null,null,null,{"$f":"Q44","v":0}]
[]
[null,null,null,null,null,null,null,null,null,null,null,null,null,null,null,null,null,"誓約事項"]
[null,null,null,null,null,null,null,null,null,null,null,null,null,null,null,null,null,null,null,"申請する自動車には、取得時の登録事由が新規登"]
[null,null,null,null,null,null,null,null,null,null,null,null,null,null,null,null,null,null,null,"録（新車・中古車とも）のものを含みません。"]
[]
[null,null,null,null,null,null,null,null,null,null,null,null,null,null,null,null,null,null,null,null,null,"担当者署名欄"]

{"sheet":"2枚目","index":2,"n_rows":155,"n_cols":49,"rows_kept":155,"cut":false,"hidden":false,"merged":[[150,17,154,18],[151,19,151,36],[152,19,152,36],[147,21,148,25],[147,26,148,28],[147,29,148,30],[147,31,148,31],[147,32,148,32],[147,33,148,36],[147,1,148,2],[147,3,147,4],[147,5,147,8],[147,9,147,10],[147,11,147,15],[147,16,147,20],[148,3,148,4],[148,5,148,8],[148,9,148,10],[148,11,148,15],[148,16,148,20],[145,21,146,25],[145,26,146,28],[145,29,146,30],[145,31,146,31],[145,32,146,32],[145,33,146,36],[145,1,146,2],[145,3,145,4],[145,5,145,8],[145,9,145,10],[145,11,145,15],[145,16,145,20],[146,3,146,4],[146,5,146,8],[146,9,146,10],[146,11,146,15],[146,16,146,20],[143,1,144,2],[143,3,143,4],[143,5,143,8],[143,9,143,10],[143,11,143,15],[141,1,142,2],[141,3,141,4],[143,33,144,36],[144,3,144,4],[144,5,144,8],[144,9,144,10],[144,11,144,15],[144,16,144,20],[143,16,143,20],[143,21,144,25],[143,26,144,28],[143,29,144,30],[143,31,144,31],[143,32,144,32],[141,26,142,28],[141,29,142,30],[141,31,142,31],[141,32,142,32],[141,33,142,36],[139,26,140,28],[139,29,140,30],[139,31,140,31],[139,32,140,32],[139,33,140,36],[142,5,142,8],[142,9,142,10],[142,11,142,15],[142,16,142,20],[140,5,140,8],[140,9,140,10],[140,11,140,15],[140,16,140,20],[141,5,141,8],[141,9,141,10],[141,11,141,15],[141,16,141,20],[139,21,140,25],[138,16,138,20],[139,1,140,2],[139,3,139,4],[139,5,139,8],[139,9,139,10],[139,11,139,15],[139,16,139,20],[140,3,140,4],[141,21,142,25],[142,3,142,4],[137,21,138,25],[137,26,138,28],[137,29,138,30],[137,31,138,31],[137,32,138,32],[137,33,138,36],[136,11,136,15],[136,16,136,20],[137,1,138,2],[137,3,137,4],[137,5,137,8],[137,9,137,10],[137,11,137,15],[137,16,137,20],[138,3,138,4],[138,5,138,8],[135,21,136,25],[135,26,136,28],[135,29,136,30],[135,31,136,31],[135,32,136,32],[135,33,136,36],[138,9,138,10],[138,11,138,15],[135,1,136,2],[135,3,135,4],[135,5,135,8],[135,9,135,10],[135,11,135,15],[135,16,135,20],[136,3,136,4],[136,5,136,8],[136,9,136,10],[133,21,134,25],[133,26,134,28],[133,29,134,30],[133,31,134,31],[133,32,134,32],[133,33,134,36],[133,1,134,2],[133,3,133,4],[133,5,133,8],[133,9,133,10],[133,11,133,15],[133,16,133,20],[134,3,134,4],[134,5,134,8],[134,9,134,10],[134,11,134,15],[134,16,134,20],[131,1,132,2],[131,3,131,4],[131,5,131,8],[131,9,131,10],[131,11,131,15],[129,1,130,2],[129,3,129,4],[131,33,132,36],[132,3,132,4],[132,5,132,8],[132,9,132,10],[132,11,132,15],[132,16,132,20],[131,16,131,20],[131,21,132,25],[131,26,132,28],[131,29,132,30],[131,31,132,31],[131,32,132,32],[129,26,130,28],[129,29,130,30],[129,31,130,31],[129,32,130,32],[129,33,130,36],[127,26,128,28],[127,29,128,30],[127,31,128,31],[127,32,128,32],[127,33,128,36],[130,5,130,8],[130,9,130,10],[130,11,130,15],[130,16,130,20],[128,5,128,8],[128,9,128,10],[128,11,128,15],[128,16,128,20],[129,5,129,8],[129,9,129,10],[129,11,129,15],[129,16,129,20],[127,21,128,25],[126,16,126,20],[127,1,128,2],[127,3,127,4],[127,5,127,8],[127,9,127,10],[127,11,127,15],[127,16,127,20],[128,3,128,4],[129,21,130,25],[130,3,130,4],[125,21,126,25],[125,26,126,28],[125,29,126,30],[125,31,126,31],[125,32,126,32],[125,33,126,36],[124,11,124,15],[124,16,124,20],[125,1,126,2],[125,3,125,4],[125,5,125,8],[125,9,125,10],[125,11,125,15],[125,16,125,20],[126,3,126,4],[126,5,126,8],[123,21,124,25],[123,26,124,28],[123,29,124,30],[123,31,124,31],[123,32,124,32],[123,33,124,36],[126,9,126,10],[126,11,126,15],[123,1,124,2],[123,3,123,4],[123,5,123,8],[123,9,123,10],[123,11,123,15],[123,16,123,20],[124,3,124,4],[124,5,124,8],[124,9,124,10],[121,21,122,25],[121,26,122,28],[121,29,122,30],[121,31,122,31],[121,32,122,32],[121,33,122,36],[121,1,122,2],[121,3,121,4],[121,5,121,8],[121,9,121,10],[121,11,121,15],[121,16,121,20],[122,3,122,4],[122,5,122,8],[122,9,122,10],[122,11,122,15],[122,16,122,20],[119,1,120,2],[119,3,119,4],[119,5,119,8],[119,9,119,10],[119,11,119,15],[119,33,120,36],[120,3,120,4],[120,5,120,8],[120,9,120,10],[120,11,120,15],[120,16,120,20],[119,16,119,20],[119,21,120,25],[119,26,120,28],[119,29,120,30],[119,31,120,31],[119,32,120,32],[117,1,118,2],[117,3,117,15],[117,16,117,20],[117,21,118,25],[117,26,118,28],[117,29,117,32],[117,33,118,36],[118,3,118,4],[118,5,118,8],[118,9,118,10],[118,11,118,15],[118,16,118,20],[118,29,118,30],[118,31,118,32],[111,1,114,16],[111,19,111,23],[111,24,111,37],[112,19,112,23],[112,24,112,37],[113,19,113,23],[113,24,113,37],[114,19,114,23],[114,24,114,37],[109,18,109,19],[109,20,109,21],[109,23,109,24],[109,26,109,27],[110,17,115,17],[110,18,115,18],[110,19,110,23],[110,24,110,37],[115,19,115,25],[115,27,115,35],[115,36,115,37],[96,19,96,36],[100,18,100,21],[102,18,102,21],[104,18,104,21],[106,0,106,37],[107,20,107,31],[107,32,107,36],[93,21,94,36],[94,3,94,4],[94,5,94,8],[94,9,94,10],[94,11,94,15],[94,16,94,20],[93,1,94,2],[93,3,93,4],[93,5,93,8],[93,9,93,10],[93,11,93,15],[93,16,93,20],[91,21,92,36],[92,3,92,4],[92,5,92,8],[92,9,92,10],[92,11,92,15],[92,16,92,20],[91,1,92,2],[91,3,91,4],[91,5,91,8],[91,9,91,10],[91,11,91,15],[91,16,91,20],[89,21,90,36],[90,3,90,4],[90,5,90,8],[90,9,90,10],[90,11,90,15],[90,16,90,20],[89,1,90,2],[89,3,89,4],[89,5,89,8],[89,9,89,10],[89,11,89,15],[89,16,89,20],[87,21,88,36],[88,3,88,4],[88,5,88,8],[88,9,88,10],[88,11,88,15],[88,16,88,20],[87,1,88,2],[87,3,87,4],[87,5,87,8],[87,9,87,10],[87,11,87,15],[87,16,87,20],[85,21,86,36],[86,3,86,4],[86,5,86,8],[86,9,86,10],[86,11,86,15],[86,16,86,20],[85,1,86,2],[85,3,85,4],[85,5,85,8],[85,9,85,10],[85,11,85,15],[85,16,85,20],[83,21,84,36],[84,3,84,4],[84,5,84,8],[84,9,84,10],[84,11,84,15],[84,16,84,20],[83,1,84,2],[83,3,83,4],[83,5,83,8],[83,9,83,10],[83,11,83,15],[83,16,83,20],[81,21,82,36],[82,3,82,4],[82,5,82,8],[82,9,82,10],[82,11,82,15],[82,16,82,20],[81,1,82,2],[81,3,81,4],[81,5,81,8],[81,9,81,10],[81,11,81,15],[81,16,81,20],[79,21,80,36],[80,3,80,4],[80,5,80,8],[80,9,80,10],[80,11,80,15],[80,16,80,20],[79,1,80,2],[79,3,79,4],[79,5,79,8],[79,9,79,10],[79,11,79,15],[79,16,79,20],[77,21,78,36],[78,3,78,4],[78,5,78,8],[78,9,78,10],[78,11,78,15],[78,16,78,20],[77,1,78,2],[77,3,77,4],[77,5,77,8],[77,9,77,10],[77,11,77,15],[77,16,77,20],[75,21,76,36],[76,3,76,4],[76,5,76,8],[76,9,76,10],[76,11,76,15],[76,16,76,20],[75,1,76,2],[75,3,75,4],[75,5,75,8],[75,9,75,10],[75,11,75,15],[75,16,75,20],[73,21,74,36],[74,3,74,4],[74,5,74,8],[74,9,74,10],[74,11,74,15],[74,16,74,20],[73,1,74,2],[73,3,73,4],[73,5,73,8],[73,9,73,10],[73,11,73,15],[73,16,73,20],[71,21,72,36],[72,3,72,4],[72,5,72,8],[72,9,72,10],[72,11,72,15],[72,16,72,20],[71,1,72,2],[71,3,71,4],[71,5,71,8],[71,9,71,10],[71,11,71,15],[71,16,71,20],[69,21,70,36],[70,3,70,4],[70,5,70,8],[70,9,70,10],[70,11,70,15],[70,16,70,20],[69,1,70,2],[69,3,69,4],[69,5,69,8],[69,9,69,10],[69,11,69,15],[69,16,69,20],[67,21,68,36],[68,3,68,4],[68,5,68,8],[68,9,68,10],[68,11,68,15],[68,16,68,20],[67,1,68,2],[67,3,67,4],[67,5,67,8],[67,9,67,10],[67,11,67,15],[67,16,67,20],[63,1,64,2],[63,3,63,15],[63,16,63,20],[63,21,64,36],[64,3,64,4],[64,5,64,8],[64,9,64,10],[64,11,64,15],[65,21,66,36],[66,3,66,4],[66,5,66,8],[66,9,66,10],[66,11,66,15],[66,16,66,20],[64,16,64,20],[65,1,66,2],[65,3,65,4],[65,5,65,8],[65,9,65,10],[65,11,65,15],[65,16,65,20],[60,19,60,25],[60,27,60,35],[60,36,60,37],[55,17,60,17],[55,18,60,18],[55,19,55,23],[55,24,55,37],[62,1,62,20],[62,21,62,36],[56,1,59,16],[56,19,56,23],[56,24,56,37],[57,19,57,23],[57,24,57,37],[58,19,58,23],[51,0,51,37],[52,20,52,31],[52,32,52,36],[54,18,54,19],[54,20,54,21],[54,23,54,24],[54,26,54,27],[58,24,58,37],[59,19,59,23],[59,24,59,37],[45,17,49,18],[46,19,46,36],[47,19,47,36],[42,21,43,25],[42,26,43,28],[42,29,43,30],[42,31,43,31],[42,32,43,32],[42,33,43,36],[41,11,41,15],[41,16,41,20],[42,1,43,2],[42,3,42,4],[42,5,42,8],[42,9,42,10],[42,11,42,15],[42,16,42,20],[43,3,43,4],[43,5,43,8],[43,9,43,10],[43,11,43,15],[43,16,43,20],[40,21,41,25],[40,26,41,28],[40,29,41,30],[40,31,41,31],[40,32,41,32],[40,33,41,36],[39,16,39,20],[40,1,41,2],[40,3,40,4],[40,5,40,8],[40,9,40,10],[40,11,40,15],[40,16,40,20],[41,3,41,4],[41,5,41,8],[41,9,41,10],[38,21,39,25],[38,26,39,28],[38,29,39,30],[38,31,39,31],[38,32,39,32],[38,33,39,36],[38,1,39,2],[38,3,38,4],[38,16,38,20],[39,3,39,4],[39,5,39,8],[39,9,39,10],[39,11,39,15],[36,33,37,36],[37,3,37,4],[37,5,37,8],[37,9,37,10],[37,11,37,15],[37,16,37,20],[36,16,36,20],[36,21,37,25],[36,26,37,28],[36,29,37,30],[36,31,37,31],[36,32,37,32],[36,1,37,2],[36,3,36,4],[36,5,36,8],[36,9,36,10],[36,11,36,15],[34,1,35,2],[34,3,34,4],[38,5,38,8],[38,9,38,10],[38,11,38,15],[34,26,35,28],[34,29,35,30],[34,31,35,31],[34,32,35,32],[34,33,35,36],[33,5,33,8],[33,9,33,10],[33,11,33,15],[33,16,33,20],[34,5,34,8],[34,9,34,10],[34,11,34,15],[34,16,34,20],[32,21,33,25],[32,26,33,28],[32,29,33,30],[32,31,33,31],[32,32,33,32],[32,33,33,36],[35,5,35,8],[35,9,35,10],[35,11,35,15],[35,16,35,20],[31,16,31,20],[32,1,33,2],[32,3,32,4],[32,5,32,8],[32,9,32,10],[32,11,32,15],[32,16,32,20],[33,3,33,4],[34,21,35,25],[35,3,35,4],[30,21,31,25],[30,26,31,28],[30,29,31,30],[30,31,31,31],[30,32,31,32],[30,33,31,36],[29,11,29,15],[29,16,29,20],[30,1,31,2],[30,3,30,4],[30,5,30,8],[30,9,30,10],[30,11,30,15],[30,16,30,20],[31,3,31,4],[31,5,31,8],[28,21,29,25],[28,26,29,28],[28,29,29,30],[28,31,29,31],[28,32,29,32],[28,33,29,36],[31,9,31,10],[31,11,31,15],[28,1,29,2],[28,3,28,4],[28,5,28,8],[28,9,28,10],[28,11,28,15],[28,16,28,20],[29,3,29,4],[29,5,29,8],[29,9,29,10],[26,21,27,25],[26,26,27,28],[26,29,27,30],[26,31,27,31],[26,32,27,32],[26,33,27,36],[26,1,27,2],[26,3,26,4],[26,5,26,8],[26,9,26,10],[26,11,26,15],[26,16,26,20],[27,3,27,4],[27,5,27,8],[27,9,27,10],[27,11,27,15],[27,16,27,20],[24,1,25,2],[24,3,24,4],[24,5,24,8],[24,9,24,10],[24,11,24,15],[22,1,23,2],[22,3,22,4],[24,33,25,36],[25,3,25,4],[25,5,25,8],[25,9,25,10],[25,11,25,15],[25,16,25,20],[24,16,24,20],[24,21,25,25],[24,26,25,28],[24,29,25,30],[24,31,25,31],[24,32,25,32],[22,26,23,28],[22,29,23,30],[22,31,23,31],[22,32,23,32],[22,33,23,36],[20,26,21,28],[20,29,21,30],[20,31,21,31],[20,32,21,32],[20,33,21,36],[23,5,23,8],[23,9,23,10],[23,11,23,15],[23,16,23,20],[21,5,21,8],[21,9,21,10],[21,11,21,15],[21,16,21,20],[22,5,22,8],[22,9,22,10],[22,11,22,15],[22,16,22,20],[20,21,21,25],[19,16,19,20],[20,1,21,2],[20,3,20,4],[20,5,20,8],[20,9,20,10],[20,11,20,15],[20,16,20,20],[21,3,21,4],[22,21,23,25],[23,3,23,4],[18,21,19,25],[18,26,19,28],[18,29,19,30],[18,31,19,31],[18,32,19,32],[18,33,19,36],[17,11,17,15],[17,16,17,20],[18,1,19,2],[18,3,18,4],[18,5,18,8],[18,9,18,10],[18,11,18,15],[18,16,18,20],[19,3,19,4],[19,5,19,8],[16,21,17,25],[16,26,17,28],[16,29,17,30],[16,31,17,31],[16,32,17,32],[16,33,17,36],[19,9,19,10],[19,11,19,15],[16,1,17,2],[16,3,16,4],[16,5,16,8],[16,9,16,10],[16,11,16,15],[16,16,16,20],[17,3,17,4],[17,5,17,8],[17,9,17,10],[14,33,15,36],[14,1,15,2],[14,3,14,4],[14,5,14,8],[14,9,14,10],[14,11,14,15],[14,16,14,20],[15,3,15,4],[15,5,15,8],[15,9,15,10],[15,11,15,15],[15,16,15,20],[12,3,12,15],[12,16,12,20],[12,21,13,25],[12,26,13,28],[12,29,12,32],[14,21,15,25],[14,26,15,28],[14,29,15,30],[14,31,15,31],[14,32,15,32],[10,19,10,25],[10,27,10,35],[10,36,10,37],[5,17,10,17],[5,18,10,18],[5,19,5,23],[5,24,5,37],[12,33,13,36],[13,3,13,4],[13,5,13,8],[13,9,13,10],[13,11,13,15],[13,16,13,20],[13,29,13,30],[13,31,13,32],[6,1,9,16],[6,19,6,23],[6,24,6,37],[7,19,7,23],[7,24,7,37],[8,19,8,23],[9,19,9,23],[9,24,9,37],[12,1,13,2],[1,0,1,37],[1,48,2,51],[2,20,2,31],[2,32,2,36],[4,18,4,19],[4,20,4,21],[4,23,4,24],[4,26,4,27],[8,24,8,37]]}
["様式1-(1)",null,null,null,null,null,null,null,null,null,null,null,null,null,null,null,null,null,null,null,null,null,null,null,null,null,null,null,null,null,null,"(査定協会提出用)"]
["商品中古自動車証明申請書",null,null,null,null,null,null,null,null,null,null,null,null,null,null,null,null,null,null,null,null,null,null,null,null,null,null,null,null,null,null,null,null,null,null,null,null,null,null,null,null,null,null,null,null,null,null,null,"記入箇所"]
[null,null,null,null,null,null,null,null,null,null,null,null,null,null,null,null,null,null,null,null,"（企業コード番号　　　　　　　　　　　　）",null,null,null,null,null,null,null,null,null,null,null,"（2枚目）"]
[]
[null,"一般財団法人　日本自動車査定協会",null,null,null,null,null,null,null,null,null,null,null,null,null,null,null,null,"令和",null,{"$f":"'1枚目'!U5","v":0},null,"年",{"$f":"'1枚目'!X5","v":0},null,"月",{"$f":"'1枚目'!AA5","v":0},null,"日"]
[null,"　　　　　　　　　　　　　　　京都府支所長　　様",null,null,null,null,null,null,null,null,null,null,null,null,null,null,null,"申請者","（登録名義人）","住所(所在地)",null,null,null,null,{"$f":"'1枚目'!Y6","v":0}]
[null,"　商品中古自動車確認証明業務実施要領に基づき下記の自動車が商品中古自動車であることの証明を申請します。\n　なお、下記の自動車が商品自動車であること及び記載事項に相違ないこと並びに現地調査が行われる場合には協力することを確約いたします。",null,null,null,null,null,null,null,null,null,null,null,null,null,null,null,null,null,"氏名(名称)",null,null,null,null,{"$f":"'1枚目'!Y7","v":0}]
[null,null,null,null,null,null,null,null,null,null,null,null,null,null,null,null,null,null,null,"代表者名",null,null,null,null,{"$f":"'1枚目'!Y8","v":0}]
[null,null,null,null,null,null,null,null,null,null,null,null,null,null,null,null,null,null,null,"電話番号",null,null,null,null,{"$f":"'1枚目'!Y9","v":0}]
[null,null,null,null,null,null,null,null,null,null,null,null,null,null,null,null,null,null,null,"担当者名",null,null,null,null,{"$f":"'1枚目'!Y10","v":0}]
[null,null,null,null,null,null,null,null,null,null,null,null,null,null,null,null,null,null,null,"古物商許可番号",null,null,null,null,null,null,"第",{"$f":"'1枚目'!AB11","v":0},null,null,null,null,null,null,null,null,"号"]
[]
[null,"NO.",null,"登録番号",null,null,null,null,null,null,null,null,null,null,null,null,"車台番号",null,null,null,null,"登録\n年月日",null,null,null,null,"展示場",null,null,"調査",null,null,null,"備考"]
[null,null,null,"区分",null,"車種",null,null,null,"かな",null,"番号",null,null,null,null,"(下3ｹﾀ)",null,null,null,null,null,null,null,null,null,null,null,null,"月日",null,"結果"]
[null,16,null,null,null,null,null,null,null,null,null,null,null,null,null,null,null,null,null,null,null,null,null,null,null,null,null,null,null,null,null,"現","帳"]
[null,null,null,"京都"]
[null,17,null,null,null,null,null,null,null,null,null,null,null,null,null,null,null,null,null,null,null,null,null,null,null,null,null,null,null,null,null,"現","帳"]
[null,null,null,"京都"]
[null,18,null,null,null,null,null,null,null,null,null,null,null,null,null,null,null,null,null,null,null,null,null,null,null,null,null,null,null,null,null,"現","帳"]
[null,null,null,"京都"]
[null,19,null,null,null,null,null,null,null,null,null,null,null,null,null,null,null,null,null,null,null,null,null,null,null,null,null,null,null,null,null,"現","帳"]
[null,null,null,"京都"]
[null,20,null,null,null,null,null,null,null,null,null,null,null,null,null,null,null,null,null,null,null,null,null,null,null,null,null,null,null,null,null,"現","帳"]
[null,null,null,"京都"]
[null,21,null,null,null,null,null,null,null,null,null,null,null,null,null,null,null,null,null,null,null,null,null,null,null,null,null,null,null,null,null,"現","帳"]
[null,null,null,"京都"]
[null,22,null,null,null,null,null,null,null,null,null,null,null,null,null,null,null,null,null,null,null,null,null,null,null,null,null,null,null,null,null,"現","帳"]
[null,null,null,"京都"]
[null,23,null,null,null,null,null,null,null,null,null,null,null,null,null,null,null,null,null,null,null,null,null,null,null,null,null,null,null,null,null,"現","帳"]
[null,null,null,"京都"]
[null,24,null,null,null,null,null,null,null,null,null,null,null,null,null,null,null,null,null,null,null,null,null,null,null,null,null,null,null,null,null,"現","帳"]
[null,null,null,"京都"]
[null,25,null,null,null,null,null,null,null,null,null,null,null,null,null,null,null,null,null,null,null,null,null,null,null,null,null,null,null,null,null,"現","帳"]
[null,null,null,"京都"]
[null,26,null,null,null,null,null,null,null,null,null,null,null,null,null,null,null,null,null,null,null,null,null,null,null,null,null,null,null,null,null,"現","帳"]
[null,null,null,"京都"]
[null,27,null,null,null,null,null,null,null,null,null,null,null,null,null,null,null,null,null,null,null,null,null,null,null,null,null,null,null,null,null,"現","帳"]
[null,null,null,"京都"]
[null,28,null,null,null,null,null,null,null,null,null,null,null,null,null,null,null,null,null,null,null,null,null,null,null,null,null,null,null,null,null,"現","帳"]
[null,null,null,"京都"]
[null,29,null,null,null,null,null,null,null,null,null,null,null,null,null,null,null,null,null,null,null,null,null,null,null,null,null,null,null,null,null,"現","帳"]
[null,null,null,"京都"]
[null,30,null,null,null,null,null,null,null,null,null,null,null,null,null,null,null,null,null,null,null,null,null,null,null,null,null,null,null,null,null,"現","帳"]
[null,null,null,"京都"]
[]
[null,null,null,null,null,null,null,null,null,null,null,null,null,null,null,null,null,"誓約事項"]
[null,null,null,null,null,null,null,null,null,null,null,null,null,null,null,null,null,null,null,"申請する自動車には、取得時の登録事由が新規登"]
[null,null,null,null,null,null,null,null,null,null,null,null,null,null,null,null,null,null,null,"録（新車・中古車とも）のものを含みません。"]
[]
[null,null,null,null,null,null,null,null,null,null,null,null,null,null,null,null,null,null,null,null,null,"担当者署名欄"]
["様式1-(2)",null,null,null,null,null,null,null,null,null,null,null,null,null,null,null,null,null,null,null,null,null,null,null,null,null,null,"(自動車税管理事務所提出用)"]
["商品中古自動車の自動車税の種別割減免申請書"]
[null,null,null,null,null,null,null,null,null,null,null,null,null,null,null,null,null,null,null,null,"（企業コード番号　　　　　　　　　　　　）",null,null,null,null,null,null,null,null,null,null,null,{"$f":"AG3","v":"（2枚目）"}]
[]
[null,"京都府自動車税管理事務所長　様",null,null,null,null,null,null,null,null,null,null,null,null,null,null,null,null,"令和",null,{"$f":"U5","v":0},null,"年",{"$f":"X5","v":0},null,"月",{"$f":"AA5","v":0},null,"日"]
[null,null,null,null,null,null,null,null,null,null,null,null,null,null,null,null,null,"申請者","（登録名義人）","住所(所在地)",null,null,null,null,{"$f":"Y6","v":0}]
[null,"　   京都府府税条例第70条第2項の規定に基づき、\n  下記のとおり申請します。",null,null,null,null,null,null,null,null,null,null,null,null,null,null,null,null,null,"氏名(名称)",null,null,null,null,{"$f":"Y7","v":0}]
[null,null,null,null,null,null,null,null,null,null,null,null,null,null,null,null,null,null,null,"代表者名",null,null,null,null,{"$f":"Y8","v":0}]
[null,null,null,null,null,null,null,null,null,null,null,null,null,null,null,null,null,null,null,"電話番号",null,null,null,null,{"$f":"Y9","v":0}]
[null,null,null,null,null,null,null,null,null,null,null,null,null,null,null,null,null,null,null,"担当者名",null,null,null,null,{"$f":"Y10","v":0}]
[null,null,null,null,null,null,null,null,null,null,null,null,null,null,null,null,null,null,null,"古物商許可番号",null,null,null,null,null,null,"第",{"$f":"AB11","v":0},null,null,null,null,null,null,null,null,"号"]
[]
[null,"減　免　対　象　自　動　車　の　総　台　数",null,null,null,null,null,null,null,null,null,null,null,null,null,null,null,null,null,null,null,"台"]
[null,"NO.",null,"登録番号",null,null,null,null,null,null,null,null,null,null,null,null,"車台番号",null,null,null,null,"備　　　　　考"]
[null,null,null,"区分",null,"車種",null,null,null,"かな",null,"番号",null,null,null,null,"(下3ｹﾀ)"]
[null,{"$f":"B15","v":16}]
[null,null,null,{"$f":"D16","v":"京都"},null,null,null,null,null,{"$f":"J16","v":0}]
[null,{"$f":"B17","v":17}]
[null,null,null,{"$f":"D18","v":"京都"},null,{"$f":"F18","v":0},null,null,null,{"$f":"J18","v":0},null,{"$f":"L18","v":0},null,null,null,null,{"$f":"Q18","v":0}]
[null,{"$f":"B19","v":18}]
[null,null,null,{"$f":"D20","v":"京都"},null,{"$f":"F20","v":0},null,null,null,{"$f":"J20","v":0},null,{"$f":"L20","v":0},null,null,null,null,{"$f":"Q20","v":0}]
[null,{"$f":"B21","v":19}]
[null,null,null,{"$f":"D22","v":"京都"},null,{"$f":"F22","v":0},null,null,null,{"$f":"J22","v":0},null,{"$f":"L22","v":0},null,null,null,null,{"$f":"Q22","v":0}]
[null,{"$f":"B23","v":20}]
[null,null,null,{"$f":"D24","v":"京都"},null,{"$f":"F24","v":0},null,null,null,{"$f":"J24","v":0},null,{"$f":"L24","v":0},null,null,null,null,{"$f":"Q24","v":0}]
[null,{"$f":"B25","v":21}]
[null,null,null,{"$f":"D26","v":"京都"},null,{"$f":"F26","v":0},null,null,null,{"$f":"J26","v":0},null,{"$f":"L26","v":0},null,null,null,null,{"$f":"Q26","v":0}]
[null,{"$f":"B27","v":22}]
[null,null,null,{"$f":"D28","v":"京都"},null,{"$f":"F28","v":0},null,null,null,{"$f":"J28","v":0},null,{"$f":"L28","v":0},null,null,null,null,{"$f":"Q28","v":0}]
[null,{"$f":"B29","v":23}]
[null,null,null,{"$f":"D30","v":"京都"},null,{"$f":"F30","v":0},null,null,null,{"$f":"J30","v":0},null,{"$f":"L30","v":0},null,null,null,null,{"$f":"Q30","v":0}]
[null,{"$f":"B31","v":24}]
[null,null,null,{"$f":"D32","v":"京都"},null,{"$f":"F32","v":0},null,null,null,{"$f":"J32","v":0},null,{"$f":"L32","v":0},null,null,null,null,{"$f":"Q32","v":0}]
[null,{"$f":"B33","v":25}]
[null,null,null,{"$f":"D34","v":"京都"},null,{"$f":"F34","v":0},null,null,null,{"$f":"J34","v":0},null,{"$f":"L34","v":0},null,null,null,null,{"$f":"Q34","v":0}]
[null,{"$f":"B35","v":26}]
[null,null,null,{"$f":"D36","v":"京都"},null,{"$f":"F36","v":0},null,null,null,{"$f":"J36","v":0},null,{"$f":"L36","v":0},null,null,null,null,{"$f":"Q36","v":0}]
[null,{"$f":"B37","v":27}]
[null,null,null,{"$f":"D38","v":"京都"},null,{"$f":"F38","v":0},null,null,null,{"$f":"J38","v":0},null,{"$f":"L38","v":0},null,null,null,null,{"$f":"Q38","v":0}]
[null,{"$f":"B39","v":28}]
[null,null,null,{"$f":"D40","v":"京都"},null,{"$f":"F40","v":0},null,null,null,{"$f":"J40","v":0},null,{"$f":"L40","v":0},null,null,null,null,{"$f":"Q40","v":0}]
[null,{"$f":"B41","v":29}]
[null,null,null,{"$f":"D42","v":"京都"},null,{"$f":"F42","v":0},null,null,null,{"$f":"J42","v":0},null,{"$f":"L42","v":0},null,null,null,null,{"$f":"Q42","v":0}]
[null,{"$f":"B43","v":30}]
[null,null,null,{"$f":"D44","v":"京都"},null,{"$f":"F44","v":0},null,null,null,{"$f":"J44","v":0},null,{"$f":"L44","v":0},null,null,null,null,{"$f":"Q44","v":0}]
[]
[null,null,null,null,null,null,null,null,null,null,null,null,null,null,null,null,null,null,null,"　上記は、商品中古自動車確認証明業務実施要領\nに定める商品中古自動車であることを証明する。"]
[]
[null,null,null,null,null,null,null,null,null,null,null,null,null,null,null,null,null,null,null,null,"令和　　　年　　　月　　　日"]
[]
[null,null,null,null,null,null,null,null,null,null,null,null,null,null,null,null,null,null,"住　　所"]
[]
[null,null,null,null,null,null,null,null,null,null,null,null,null,null,null,null,null,null,"支 所 名"]
[]
[null,null,null,null,null,null,null,null,null,null,null,null,null,null,null,null,null,null,"代表者名",null,null,null,null,null,null,null,null,null,null,null,null,null,null,null,null,null,"㊞"]
["様式1-(3)",null,null,null,null,null,null,null,null,null,null,null,null,null,null,null,null,null,null,null,null,null,null,null,null,null,null,null,null,null,null,null,null,"(申請者控)"]
["商品中古自動車証明申請書"]
[null,null,null,null,null,null,null,null,null,null,null,null,null,null,null,null,null,null,null,null,"（企業コード番号　　　　　　　　　　　　）",null,null,null,null,null,null,null,null,null,null,null,{"$f":"AG3","v":"（2枚目）"}]
[]
[null,"一般財団法人　日本自動車査定協会",null,null,null,null,null,null,null,null,null,null,null,null,null,null,null,null,"令和",null,{"$f":"U5","v":0},null,"年",{"$f":"X5","v":0},null,"月",{"$f":"AA5","v":0},null,"日"]
[null,"　　　　　　　　　　　　　　　京都府支所長　　様",null,null,null,null,null,null,null,null,null,null,null,null,null,null,null,"申請者","（登録名義人）","住所(所在地)",null,null,null,null,{"$f":"Y6","v":0}]
[null,"　商品中古自動車確認証明業務実施要領に基づき下記の自動車が商品中古自動車であることの証明を申請します。\n　なお、下記の自動車が商品自動車であること及び記載事項に相違ないこと並びに現地調査が行われる場合には協力することを確約いたします。",null,null,null,null,null,null,null,null,null,null,null,null,null,null,null,null,null,"氏名(名称)",null,null,null,null,{"$f":"Y7","v":0}]
[null,null,null,null,null,null,null,null,null,null,null,null,null,null,null,null,null,null,null,"代表者名",null,null,null,null,{"$f":"Y8","v":0}]
[null,null,null,null,null,null,null,null,null,null,null,null,null,null,null,null,null,null,null,"電話番号",null,null,null,null,{"$f":"Y9","v":0}]
[null,null,null,null,null,null,null,null,null,null,null,null,null,null,null,null,null,null,null,"担当者名",null,null,null,null,{"$f":"Y10","v":0}]
[null,null,null,null,null,null,null,null,null,null,null,null,null,null,null,null,null,null,null,"古物商許可番号",null,null,null,null,null,null,"第",{"$f":"AB11","v":0},null,null,null,null,null,null,null,null,"号"]
[]
[null,"NO.",null,"登録番号",null,null,null,null,null,null,null,null,null,null,null,null,"車台番号",null,null,null,null,"登録\n年月日",null,null,null,null,"展示場",null,null,"調査",null,null,null,"備考"]
[null,null,null,"区分",null,"車種",null,null,null,"かな",null,"番号",null,null,null,null,"(下3ｹﾀ)",null,null,null,null,null,null,null,null,null,null,null,null,"月日",null,"結果"]
[null,{"$f":"B15","v":16},null,null,null,null,null,null,null,null,null,null,null,null,null,null,null,null,null,null,null,{"$f":"V15","v":"00:00:00"},null,null,null,null,{"$f":"AA15","v":0},null,null,null,null,"現","帳"]
[null,null,null,{"$f":"D16","v":"京都"},null,{"$f":"F16","v":0},null,null,null,{"$f":"J16","v":0},null,{"$f":"L16","v":0},null,null,null,null,{"$f":"Q16","v":0}]
[null,{"$f":"B17","v":17},null,null,null,null,null,null,null,null,null,null,null,null,null,null,null,null,null,null,null,{"$f":"V17","v":"00:00:00"},null,null,null,null,{"$f":"AA17","v":0},null,null,null,null,"現","帳"]
[null,null,null,{"$f":"D18","v":"京都"},null,{"$f":"F18","v":0},null,null,null,{"$f":"J18","v":0},null,{"$f":"L18","v":0},null,null,null,null,{"$f":"Q18","v":0}]
[null,{"$f":"B19","v":18},null,null,null,null,null,null,null,null,null,null,null,null,null,null,null,null,null,null,null,{"$f":"V19","v":"00:00:00"},null,null,null,null,{"$f":"AA19","v":0},null,null,null,null,"現","帳"]
[null,null,null,{"$f":"D20","v":"京都"},null,{"$f":"F20","v":0},null,null,null,{"$f":"J20","v":0},null,{"$f":"L20","v":0},null,null,null,null,{"$f":"Q20","v":0}]
[null,{"$f":"B21","v":19},null,null,null,null,null,null,null,null,null,null,null,null,null,null,null,null,null,null,null,{"$f":"V21","v":"00:00:00"},null,null,null,null,{"$f":"AA21","v":0},null,null,null,null,"現","帳"]
[null,null,null,{"$f":"D22","v":"京都"},null,{"$f":"F22","v":0},null,null,null,{"$f":"J22","v":0},null,{"$f":"L22","v":0},null,null,null,null,{"$f":"Q22","v":0}]
[null,{"$f":"B23","v":20},null,null,null,null,null,null,null,null,null,null,null,null,null,null,null,null,null,null,null,{"$f":"V23","v":"00:00:00"},null,null,null,null,{"$f":"AA23","v":0},null,null,null,null,"現","帳"]
[null,null,null,{"$f":"D24","v":"京都"},null,{"$f":"F24","v":0},null,null,null,{"$f":"J24","v":0},null,{"$f":"L24","v":0},null,null,null,null,{"$f":"Q24","v":0}]
[null,{"$f":"B25","v":21},null,null,null,null,null,null,null,null,null,null,null,null,null,null,null,null,null,null,null,{"$f":"V25","v":"00:00:00"},null,null,null,null,{"$f":"AA25","v":0},null,null,null,null,"現","帳"]
[null,null,null,{"$f":"D26","v":"京都"},null,{"$f":"F26","v":0},null,null,null,{"$f":"J26","v":0},null,{"$f":"L26","v":0},null,null,null,null,{"$f":"Q26","v":0}]
[null,{"$f":"B27","v":22},null,null,null,null,null,null,null,null,null,null,null,null,null,null,null,null,null,null,null,{"$f":"V27","v":"00:00:00"},null,null,null,null,{"$f":"AA27","v":0},null,null,null,null,"現","帳"]
[null,null,null,{"$f":"D28","v":"京都"},null,{"$f":"F28","v":0},null,null,null,{"$f":"J28","v":0},null,{"$f":"L28","v":0},null,null,null,null,{"$f":"Q28","v":0}]
[null,{"$f":"B29","v":23},null,null,null,null,null,null,null,null,null,null,null,null,null,null,null,null,null,null,null,{"$f":"V29","v":"00:00:00"},null,null,null,null,{"$f":"AA29","v":0},null,null,null,null,"現","帳"]
[null,null,null,{"$f":"D30","v":"京都"},null,{"$f":"F30","v":0},null,null,null,{"$f":"J30","v":0},null,{"$f":"L30","v":0},null,null,null,null,{"$f":"Q30","v":0}]
[null,{"$f":"B31","v":24},null,null,null,null,null,null,null,null,null,null,null,null,null,null,null,null,null,null,null,{"$f":"V31","v":"00:00:00"},null,null,null,null,{"$f":"AA31","v":0},null,null,null,null,"現","帳"]
[null,null,null,{"$f":"D32","v":"京都"},null,{"$f":"F32","v":0},null,null,null,{"$f":"J32","v":0},null,{"$f":"L32","v":0},null,null,null,null,{"$f":"Q32","v":0}]
[null,{"$f":"B33","v":25},null,null,null,null,null,null,null,null,null,null,null,null,null,null,null,null,null,null,null,{"$f":"V33","v":"00:00:00"},null,null,null,null,{"$f":"AA33","v":0},null,null,null,null,"現","帳"]
[null,null,null,{"$f":"D34","v":"京都"},null,{"$f":"F34","v":0},null,null,null,{"$f":"J34","v":0},null,{"$f":"L34","v":0},null,null,null,null,{"$f":"Q34","v":0}]
[null,{"$f":"B35","v":26},null,null,null,null,null,null,null,null,null,null,null,null,null,null,null,null,null,null,null,{"$f":"V35","v":"00:00:00"},null,null,null,null,{"$f":"AA35","v":0},null,null,null,null,"現","帳"]
[null,null,null,{"$f":"D36","v":"京都"},null,{"$f":"F36","v":0},null,null,null,{"$f":"J36","v":0},null,{"$f":"L36","v":0},null,null,null,null,{"$f":"Q36","v":0}]
[null,{"$f":"B37","v":27},null,null,null,null,null,null,null,null,null,null,null,null,null,null,null,null,null,null,null,{"$f":"V37","v":"00:00:00"},null,null,null,null,{"$f":"AA37","v":0},null,null,null,null,"現","帳"]
[null,null,null,{"$f":"D38","v":"京都"},null,{"$f":"F38","v":0},null,null,null,{"$f":"J38","v":0},null,{"$f":"L38","v":0},null,null,null,null,{"$f":"Q38","v":0}]
[null,{"$f":"B39","v":28},null,null,null,null,null,null,null,null,null,null,null,null,null,null,null,null,null,null,null,{"$f":"V39","v":"00:00:00"},null,null,null,null,{"$f":"AA39","v":0},null,null,null,null,"現","帳"]
[null,null,null,{"$f":"D40","v":"京都"},null,{"$f":"F40","v":0},null,null,null,{"$f":"J40","v":0},null,{"$f":"L40","v":0},null,null,null,null,{"$f":"Q40","v":0}]
[null,{"$f":"B41","v":29},null,null,null,null,null,null,null,null,null,null,null,null,null,null,null,null,null,null,null,{"$f":"V41","v":"00:00:00"},null,null,null,null,{"$f":"AA41","v":0},null,null,null,null,"現","帳"]
[null,null,null,{"$f":"D42","v":"京都"},null,{"$f":"F42","v":0},null,null,null,{"$f":"J42","v":0},null,{"$f":"L42","v":0},null,null,null,null,{"$f":"Q42","v":0}]
[null,{"$f":"B43","v":30},null,null,null,null,null,null,null,null,null,null,null,null,null,null,null,null,null,null,null,{"$f":"V43","v":"00:00:00"},null,null,null,null,{"$f":"AA43","v":0},null,null,null,null,"現","帳"]
[null,null,null,{"$f":"D44","v":"京都"},null,{"$f":"F44","v":0},null,null,null,{"$f":"J44","v":0},null,{"$f":"L44","v":0},null,null,null,null,{"$f":"Q44","v":0}]
[]
[null,null,null,null,null,null,null,null,null,null,null,null,null,null,null,null,null,"誓約事項"]
[null,null,null,null,null,null,null,null,null,null,null,null,null,null,null,null,null,null,null,"申請する自動車には、取得時の登録事由が新規登"]
[null,null,null,null,null,null,null,null,null,null,null,null,null,null,null,null,null,null,null,"録（新車・中古車とも）のものを含みません。"]
[]
[null,null,null,null,null,null,null,null,null,null,null,null,null,null,null,null,null,null,null,null,null,"担当者署名欄"]

{"sheet":"3枚目","index":3,"n_rows":155,"n_cols":49,"rows_kept":155,"cut":false,"hidden":false,"merged":[[6,1,9,16],[6,19,6,23],[6,24,6,37],[7,19,7,23],[7,24,7,37],[8,19,8,23],[1,0,1,37],[1,48,2,51],[2,20,2,31],[2,32,2,36],[4,18,4,19],[4,20,4,21],[4,23,4,24],[4,26,4,27],[8,24,8,37],[9,19,9,23],[9,24,9,37],[10,19,10,25],[10,27,10,35],[10,36,10,37],[5,17,10,17],[5,18,10,18],[5,19,5,23],[5,24,5,37],[12,33,13,36],[13,3,13,4],[13,5,13,8],[13,9,13,10],[13,11,13,15],[13,16,13,20],[13,29,13,30],[13,31,13,32],[12,1,13,2],[12,3,12,15],[12,16,12,20],[12,21,13,25],[12,26,13,28],[12,29,12,32],[14,21,15,25],[14,26,15,28],[14,29,15,30],[14,31,15,31],[14,32,15,32],[14,33,15,36],[14,1,15,2],[14,3,14,4],[14,5,14,8],[14,9,14,10],[14,11,14,15],[14,16,14,20],[15,3,15,4],[15,5,15,8],[15,9,15,10],[15,11,15,15],[15,16,15,20],[16,1,17,2],[16,3,16,4],[16,5,16,8],[16,9,16,10],[16,11,16,15],[16,16,16,20],[17,3,17,4],[17,5,17,8],[17,9,17,10],[18,21,19,25],[18,26,19,28],[18,29,19,30],[18,31,19,31],[18,32,19,32],[18,33,19,36],[17,11,17,15],[17,16,17,20],[18,1,19,2],[18,3,18,4],[18,5,18,8],[18,9,18,10],[18,11,18,15],[18,16,18,20],[19,3,19,4],[19,5,19,8],[16,21,17,25],[16,26,17,28],[16,29,17,30],[16,31,17,31],[16,32,17,32],[16,33,17,36],[19,9,19,10],[19,11,19,15],[19,16,19,20],[20,1,21,2],[20,3,20,4],[20,5,20,8],[20,9,20,10],[20,11,20,15],[20,16,20,20],[21,3,21,4],[22,21,23,25],[22,26,23,28],[22,29,23,30],[22,31,23,31],[22,32,23,32],[22,33,23,36],[21,5,21,8],[21,9,21,10],[21,11,21,15],[21,16,21,20],[22,5,22,8],[22,9,22,10],[22,11,22,15],[22,16,22,20],[20,21,21,25],[20,26,21,28],[20,29,21,30],[20,31,21,31],[20,32,21,32],[20,33,21,36],[23,3,23,4],[23,5,23,8],[23,9,23,10],[23,11,23,15],[23,16,23,20],[24,1,25,2],[24,3,24,4],[24,5,24,8],[24,9,24,10],[24,11,24,15],[22,1,23,2],[22,3,22,4],[24,33,25,36],[25,3,25,4],[25,5,25,8],[25,9,25,10],[25,11,25,15],[25,16,25,20],[24,16,24,20],[24,21,25,25],[24,26,25,28],[24,29,25,30],[24,31,25,31],[24,32,25,32],[26,21,27,25],[26,26,27,28],[26,29,27,30],[26,31,27,31],[26,32,27,32],[26,33,27,36],[26,1,27,2],[26,3,26,4],[26,5,26,8],[26,9,26,10],[26,11,26,15],[26,16,26,20],[27,3,27,4],[27,5,27,8],[27,9,27,10],[27,11,27,15],[27,16,27,20],[28,1,29,2],[28,3,28,4],[28,5,28,8],[28,9,28,10],[28,11,28,15],[28,16,28,20],[29,3,29,4],[29,5,29,8],[29,9,29,10],[30,21,31,25],[30,26,31,28],[30,29,31,30],[30,31,31,31],[30,32,31,32],[30,33,31,36],[29,11,29,15],[29,16,29,20],[30,1,31,2],[30,3,30,4],[30,5,30,8],[30,9,30,10],[30,11,30,15],[30,16,30,20],[31,3,31,4],[31,5,31,8],[28,21,29,25],[28,26,29,28],[28,29,29,30],[28,31,29,31],[28,32,29,32],[28,33,29,36],[31,9,31,10],[31,11,31,15],[31,16,31,20],[32,1,33,2],[32,3,32,4],[32,5,32,8],[32,9,32,10],[32,11,32,15],[32,16,32,20],[33,3,33,4],[34,21,35,25],[34,26,35,28],[34,29,35,30],[34,31,35,31],[34,32,35,32],[34,33,35,36],[33,5,33,8],[33,9,33,10],[33,11,33,15],[33,16,33,20],[34,5,34,8],[34,9,34,10],[34,11,34,15],[34,16,34,20],[32,21,33,25],[32,26,33,28],[32,29,33,30],[32,31,33,31],[32,32,33,32],[32,33,33,36],[35,3,35,4],[35,5,35,8],[35,9,35,10],[35,11,35,15],[35,16,35,20],[36,1,37,2],[36,3,36,4],[36,5,36,8],[36,9,36,10],[36,11,36,15],[34,1,35,2],[34,3,34,4],[38,5,38,8],[38,9,38,10],[38,11,38,15],[38,16,38,20],[39,3,39,4],[39,5,39,8],[39,9,39,10],[39,11,39,15],[36,33,37,36],[37,3,37,4],[37,5,37,8],[37,9,37,10],[37,11,37,15],[37,16,37,20],[36,16,36,20],[36,21,37,25],[36,26,37,28],[36,29,37,30],[36,31,37,31],[36,32,37,32],[40,21,41,25],[40,26,41,28],[40,29,41,30],[40,31,41,31],[40,32,41,32],[40,33,41,36],[39,16,39,20],[40,1,41,2],[40,3,40,4],[40,5,40,8],[40,9,40,10],[40,11,40,15],[40,16,40,20],[41,3,41,4],[41,5,41,8],[41,9,41,10],[38,21,39,25],[38,26,39,28],[38,29,39,30],[38,31,39,31],[38,32,39,32],[38,33,39,36],[38,1,39,2],[38,3,38,4],[41,11,41,15],[41,16,41,20],[42,1,43,2],[42,3,42,4],[42,5,42,8],[42,9,42,10],[42,11,42,15],[42,16,42,20],[43,3,43,4],[43,5,43,8],[43,9,43,10],[43,11,43,15],[43,16,43,20],[45,17,49,18],[46,19,46,36],[47,19,47,36],[42,21,43,25],[42,26,43,28],[42,29,43,30],[42,31,43,31],[42,32,43,32],[42,33,43,36],[56,1,59,16],[56,19,56,23],[56,24,56,37],[57,19,57,23],[57,24,57,37],[58,19,58,23],[51,0,51,37],[52,20,52,31],[52,32,52,36],[54,18,54,19],[54,20,54,21],[54,23,54,24],[54,26,54,27],[58,24,58,37],[59,19,59,23],[59,24,59,37],[60,19,60,25],[60,27,60,35],[60,36,60,37],[55,17,60,17],[55,18,60,18],[55,19,55,23],[55,24,55,37],[62,1,62,20],[62,21,62,36],[63,1,64,2],[63,3,63,15],[63,16,63,20],[63,21,64,36],[64,3,64,4],[64,5,64,8],[64,9,64,10],[64,11,64,15],[65,21,66,36],[66,3,66,4],[66,5,66,8],[66,9,66,10],[66,11,66,15],[66,16,66,20],[64,16,64,20],[65,1,66,2],[65,3,65,4],[65,5,65,8],[65,9,65,10],[65,11,65,15],[65,16,65,20],[67,21,68,36],[68,3,68,4],[68,5,68,8],[68,9,68,10],[68,11,68,15],[68,16,68,20],[67,1,68,2],[67,3,67,4],[67,5,67,8],[67,9,67,10],[67,11,67,15],[67,16,67,20],[69,21,70,36],[70,3,70,4],[70,5,70,8],[70,9,70,10],[70,11,70,15],[70,16,70,20],[69,1,70,2],[69,3,69,4],[69,5,69,8],[69,9,69,10],[69,11,69,15],[69,16,69,20],[71,21,72,36],[72,3,72,4],[72,5,72,8],[72,9,72,10],[72,11,72,15],[72,16,72,20],[71,1,72,2],[71,3,71,4],[71,5,71,8],[71,9,71,10],[71,11,71,15],[71,16,71,20],[73,21,74,36],[74,3,74,4],[74,5,74,8],[74,9,74,10],[74,11,74,15],[74,16,74,20],[73,1,74,2],[73,3,73,4],[73,5,73,8],[73,9,73,10],[73,11,73,15],[73,16,73,20],[75,21,76,36],[76,3,76,4],[76,5,76,8],[76,9,76,10],[76,11,76,15],[76,16,76,20],[75,1,76,2],[75,3,75,4],[75,5,75,8],[75,9,75,10],[75,11,75,15],[75,16,75,20],[77,21,78,36],[78,3,78,4],[78,5,78,8],[78,9,78,10],[78,11,78,15],[78,16,78,20],[77,1,78,2],[77,3,77,4],[77,5,77,8],[77,9,77,10],[77,11,77,15],[77,16,77,20],[79,21,80,36],[80,3,80,4],[80,5,80,8],[80,9,80,10],[80,11,80,15],[80,16,80,20],[79,1,80,2],[79,3,79,4],[79,5,79,8],[79,9,79,10],[79,11,79,15],[79,16,79,20],[81,21,82,36],[82,3,82,4],[82,5,82,8],[82,9,82,10],[82,11,82,15],[82,16,82,20],[81,1,82,2],[81,3,81,4],[81,5,81,8],[81,9,81,10],[81,11,81,15],[81,16,81,20],[83,21,84,36],[84,3,84,4],[84,5,84,8],[84,9,84,10],[84,11,84,15],[84,16,84,20],[83,1,84,2],[83,3,83,4],[83,5,83,8],[83,9,83,10],[83,11,83,15],[83,16,83,20],[85,21,86,36],[86,3,86,4],[86,5,86,8],[86,9,86,10],[86,11,86,15],[86,16,86,20],[85,1,86,2],[85,3,85,4],[85,5,85,8],[85,9,85,10],[85,11,85,15],[85,16,85,20],[87,21,88,36],[88,3,88,4],[88,5,88,8],[88,9,88,10],[88,11,88,15],[88,16,88,20],[87,1,88,2],[87,3,87,4],[87,5,87,8],[87,9,87,10],[87,11,87,15],[87,16,87,20],[89,21,90,36],[90,3,90,4],[90,5,90,8],[90,9,90,10],[90,11,90,15],[90,16,90,20],[89,1,90,2],[89,3,89,4],[89,5,89,8],[89,9,89,10],[89,11,89,15],[89,16,89,20],[91,21,92,36],[92,3,92,4],[92,5,92,8],[92,9,92,10],[92,11,92,15],[92,16,92,20],[91,1,92,2],[91,3,91,4],[91,5,91,8],[91,9,91,10],[91,11,91,15],[91,16,91,20],[96,19,96,36],[100,18,100,21],[102,18,102,21],[104,18,104,21],[106,0,106,37],[107,20,107,31],[107,32,107,36],[93,21,94,36],[94,3,94,4],[94,5,94,8],[94,9,94,10],[94,11,94,15],[94,16,94,20],[93,1,94,2],[93,3,93,4],[93,5,93,8],[93,9,93,10],[93,11,93,15],[93,16,93,20],[109,18,109,19],[109,20,109,21],[109,23,109,24],[109,26,109,27],[110,17,115,17],[110,18,115,18],[110,19,110,23],[110,24,110,37],[115,19,115,25],[115,27,115,35],[111,1,114,16],[111,19,111,23],[111,24,111,37],[112,19,112,23],[112,24,112,37],[113,19,113,23],[113,24,113,37],[114,19,114,23],[114,24,114,37],[115,36,115,37],[117,1,118,2],[117,3,117,15],[117,16,117,20],[117,21,118,25],[117,26,118,28],[117,29,117,32],[117,33,118,36],[118,3,118,4],[118,5,118,8],[118,9,118,10],[118,11,118,15],[118,16,118,20],[118,29,118,30],[118,31,118,32],[119,1,120,2],[119,3,119,4],[119,5,119,8],[119,9,119,10],[119,11,119,15],[119,33,120,36],[120,3,120,4],[120,5,120,8],[120,9,120,10],[120,11,120,15],[120,16,120,20],[119,16,119,20],[119,21,120,25],[119,26,120,28],[119,29,120,30],[119,31,120,31],[119,32,120,32],[121,21,122,25],[121,26,122,28],[121,29,122,30],[121,31,122,31],[121,32,122,32],[121,33,122,36],[121,1,122,2],[121,3,121,4],[121,5,121,8],[121,9,121,10],[121,11,121,15],[121,16,121,20],[122,3,122,4],[122,5,122,8],[122,9,122,10],[122,11,122,15],[122,16,122,20],[123,1,124,2],[123,3,123,4],[123,5,123,8],[123,9,123,10],[123,11,123,15],[123,16,123,20],[124,3,124,4],[124,5,124,8],[124,9,124,10],[125,21,126,25],[125,26,126,28],[125,29,126,30],[125,31,126,31],[125,32,126,32],[125,33,126,36],[124,11,124,15],[124,16,124,20],[125,1,126,2],[125,3,125,4],[125,5,125,8],[125,9,125,10],[125,11,125,15],[125,16,125,20],[126,3,126,4],[126,5,126,8],[123,21,124,25],[123,26,124,28],[123,29,124,30],[123,31,124,31],[123,32,124,32],[123,33,124,36],[126,9,126,10],[126,11,126,15],[126,16,126,20],[127,1,128,2],[127,3,127,4],[127,5,127,8],[127,9,127,10],[127,11,127,15],[127,16,127,20],[128,3,128,4],[129,21,130,25],[129,26,130,28],[129,29,130,30],[129,31,130,31],[129,32,130,32],[129,33,130,36],[128,5,128,8],[128,9,128,10],[128,11,128,15],[128,16,128,20],[129,5,129,8],[129,9,129,10],[129,11,129,15],[129,16,129,20],[127,21,128,25],[127,26,128,28],[127,29,128,30],[127,31,128,31],[127,32,128,32],[127,33,128,36],[130,3,130,4],[130,5,130,8],[130,9,130,10],[130,11,130,15],[130,16,130,20],[131,1,132,2],[131,3,131,4],[131,5,131,8],[131,9,131,10],[131,11,131,15],[129,1,130,2],[129,3,129,4],[131,33,132,36],[132,3,132,4],[132,5,132,8],[132,9,132,10],[132,11,132,15],[132,16,132,20],[131,16,131,20],[131,21,132,25],[131,26,132,28],[131,29,132,30],[131,31,132,31],[131,32,132,32],[133,21,134,25],[133,26,134,28],[133,29,134,30],[133,31,134,31],[133,32,134,32],[133,33,134,36],[133,1,134,2],[133,3,133,4],[133,5,133,8],[133,9,133,10],[133,11,133,15],[133,16,133,20],[134,3,134,4],[134,5,134,8],[134,9,134,10],[134,11,134,15],[134,16,134,20],[135,1,136,2],[135,3,135,4],[135,5,135,8],[135,9,135,10],[135,11,135,15],[135,16,135,20],[136,3,136,4],[136,5,136,8],[136,9,136,10],[137,21,138,25],[137,26,138,28],[137,29,138,30],[137,31,138,31],[137,32,138,32],[137,33,138,36],[136,11,136,15],[136,16,136,20],[137,1,138,2],[137,3,137,4],[137,5,137,8],[137,9,137,10],[137,11,137,15],[137,16,137,20],[138,3,138,4],[138,5,138,8],[135,21,136,25],[135,26,136,28],[135,29,136,30],[135,31,136,31],[135,32,136,32],[135,33,136,36],[138,9,138,10],[138,11,138,15],[138,16,138,20],[139,1,140,2],[139,3,139,4],[139,5,139,8],[139,9,139,10],[139,11,139,15],[139,16,139,20],[140,3,140,4],[141,21,142,25],[141,26,142,28],[141,29,142,30],[141,31,142,31],[141,32,142,32],[141,33,142,36],[140,5,140,8],[140,9,140,10],[140,11,140,15],[140,16,140,20],[141,5,141,8],[141,9,141,10],[141,11,141,15],[141,16,141,20],[139,21,140,25],[139,26,140,28],[139,29,140,30],[139,31,140,31],[139,32,140,32],[139,33,140,36],[142,3,142,4],[142,5,142,8],[142,9,142,10],[142,11,142,15],[142,16,142,20],[143,1,144,2],[143,3,143,4],[143,5,143,8],[143,9,143,10],[143,11,143,15],[141,1,142,2],[141,3,141,4],[143,33,144,36],[144,3,144,4],[144,5,144,8],[144,9,144,10],[144,11,144,15],[144,16,144,20],[143,16,143,20],[143,21,144,25],[143,26,144,28],[143,29,144,30],[143,31,144,31],[143,32,144,32],[145,21,146,25],[145,26,146,28],[145,29,146,30],[145,31,146,31],[145,32,146,32],[145,33,146,36],[145,1,146,2],[145,3,145,4],[145,5,145,8],[145,9,145,10],[145,11,145,15],[145,16,145,20],[146,3,146,4],[146,5,146,8],[146,9,146,10],[146,11,146,15],[146,16,146,20],[147,1,148,2],[147,3,147,4],[147,5,147,8],[147,9,147,10],[147,11,147,15],[147,16,147,20],[148,3,148,4],[148,5,148,8],[148,9,148,10],[148,11,148,15],[148,16,148,20],[150,17,154,18],[151,19,151,36],[152,19,152,36],[147,21,148,25],[147,26,148,28],[147,29,148,30],[147,31,148,31],[147,32,148,32],[147,33,148,36]]}
["様式1-(1)",null,null,null,null,null,null,null,null,null,null,null,null,null,null,null,null,null,null,null,null,null,null,null,null,null,null,null,null,null,null,"(査定協会提出用)"]
["商品中古自動車証明申請書",null,null,null,null,null,null,null,null,null,null,null,null,null,null,null,null,null,null,null,null,null,null,null,null,null,null,null,null,null,null,null,null,null,null,null,null,null,null,null,null,null,null,null,null,null,null,null,"記入箇所"]
[null,null,null,null,null,null,null,null,null,null,null,null,null,null,null,null,null,null,null,null,"（企業コード番号　　　　　　　　　　　　）",null,null,null,null,null,null,null,null,null,null,null,"（3枚目）"]
[]
[null,"一般財団法人　日本自動車査定協会",null,null,null,null,null,null,null,null,null,null,null,null,null,null,null,null,"令和",null,{"$f":"'1枚目'!U5","v":0},null,"年",{"$f":"'1枚目'!X5","v":0},null,"月",{"$f":"'1枚目'!AA5","v":0},null,"日"]
[null,"　　　　　　　　　　　　　　　京都府支所長　　様",null,null,null,null,null,null,null,null,null,null,null,null,null,null,null,"申請者","（登録名義人）","住所(所在地)",null,null,null,null,{"$f":"'1枚目'!Y6","v":0}]
[null,"　商品中古自動車確認証明業務実施要領に基づき下記の自動車が商品中古自動車であることの証明を申請します。\n　なお、下記の自動車が商品自動車であること及び記載事項に相違ないこと並びに現地調査が行われる場合には協力することを確約いたします。",null,null,null,null,null,null,null,null,null,null,null,null,null,null,null,null,null,"氏名(名称)",null,null,null,null,{"$f":"'1枚目'!Y7","v":0}]
[null,null,null,null,null,null,null,null,null,null,null,null,null,null,null,null,null,null,null,"代表者名",null,null,null,null,{"$f":"'1枚目'!Y8","v":0}]
[null,null,null,null,null,null,null,null,null,null,null,null,null,null,null,null,null,null,null,"電話番号",null,null,null,null,{"$f":"'1枚目'!Y9","v":0}]
[null,null,null,null,null,null,null,null,null,null,null,null,null,null,null,null,null,null,null,"担当者名",null,null,null,null,{"$f":"'1枚目'!Y10","v":0}]
[null,null,null,null,null,null,null,null,null,null,null,null,null,null,null,null,null,null,null,"古物商許可番号",null,null,null,null,null,null,"第",{"$f":"'1枚目'!AB11","v":0},null,null,null,null,null,null,null,null,"号"]
[]
[null,"NO.",null,"登録番号",null,null,null,null,null,null,null,null,null,null,null,null,"車台番号",null,null,null,null,"登録\n年月日",null,null,null,null,"展示場",null,null,"調査",null,null,null,"備考"]
[null,null,null,"区分",null,"車種",null,null,null,"かな",null,"番号",null,null,null,null,"(下3ｹﾀ)",null,null,null,null,null,null,null,null,null,null,null,null,"月日",null,"結果"]
[null,31,null,null,null,null,null,null,null,null,null,null,null,null,null,null,null,null,null,null,null,null,null,null,null,null,null,null,null,null,null,"現","帳"]
[null,null,null,"京都"]
[null,32,null,null,null,null,null,null,null,null,null,null,null,null,null,null,null,null,null,null,null,null,null,null,null,null,null,null,null,null,null,"現","帳"]
[null,null,null,"京都"]
[null,33,null,null,null,null,null,null,null,null,null,null,null,null,null,null,null,null,null,null,null,null,null,null,null,null,null,null,null,null,null,"現","帳"]
[null,null,null,"京都"]
[null,34,null,null,null,null,null,null,null,null,null,null,null,null,null,null,null,null,null,null,null,null,null,null,null,null,null,null,null,null,null,"現","帳"]
[null,null,null,"京都"]
[null,35,null,null,null,null,null,null,null,null,null,null,null,null,null,null,null,null,null,null,null,null,null,null,null,null,null,null,null,null,null,"現","帳"]
[null,null,null,"京都"]
[null,36,null,null,null,null,null,null,null,null,null,null,null,null,null,null,null,null,null,null,null,null,null,null,null,null,null,null,null,null,null,"現","帳"]
[null,null,null,"京都"]
[null,37,null,null,null,null,null,null,null,null,null,null,null,null,null,null,null,null,null,null,null,null,null,null,null,null,null,null,null,null,null,"現","帳"]
[null,null,null,"京都"]
[null,38,null,null,null,null,null,null,null,null,null,null,null,null,null,null,null,null,null,null,null,null,null,null,null,null,null,null,null,null,null,"現","帳"]
[null,null,null,"京都"]
[null,39,null,null,null,null,null,null,null,null,null,null,null,null,null,null,null,null,null,null,null,null,null,null,null,null,null,null,null,null,null,"現","帳"]
[null,null,null,"京都"]
[null,40,null,null,null,null,null,null,null,null,null,null,null,null,null,null,null,null,null,null,null,null,null,null,null,null,null,null,null,null,null,"現","帳"]
[null,null,null,"京都"]
[null,41,null,null,null,null,null,null,null,null,null,null,null,null,null,null,null,null,null,null,null,null,null,null,null,null,null,null,null,null,null,"現","帳"]
[null,null,null,"京都"]
[null,42,null,null,null,null,null,null,null,null,null,null,null,null,null,null,null,null,null,null,null,null,null,null,null,null,null,null,null,null,null,"現","帳"]
[null,null,null,"京都"]
[null,43,null,null,null,null,null,null,null,null,null,null,null,null,null,null,null,null,null,null,null,null,null,null,null,null,null,null,null,null,null,"現","帳"]
[null,null,null,"京都"]
[null,44,null,null,null,null,null,null,null,null,null,null,null,null,null,null,null,null,null,null,null,null,null,null,null,null,null,null,null,null,null,"現","帳"]
[null,null,null,"京都"]
[null,45,null,null,null,null,null,null,null,null,null,null,null,null,null,null,null,null,null,null,null,null,null,null,null,null,null,null,null,null,null,"現","帳"]
[null,null,null,"京都"]
[]
[null,null,null,null,null,null,null,null,null,null,null,null,null,null,null,null,null,"誓約事項"]
[null,null,null,null,null,null,null,null,null,null,null,null,null,null,null,null,null,null,null,"申請する自動車には、取得時の登録事由が新規登"]
[null,null,null,null,null,null,null,null,null,null,null,null,null,null,null,null,null,null,null,"録（新車・中古車とも）のものを含みません。"]
[]
[null,null,null,null,null,null,null,null,null,null,null,null,null,null,null,null,null,null,null,null,null,"担当者署名欄"]
["様式1-(2)",null,null,null,null,null,null,null,null,null,null,null,null,null,null,null,null,null,null,null,null,null,null,null,null,null,null,"(自動車税管理事務所提出用)"]
["商品中古自動車の自動車税の種別割減免申請書"]
[null,null,null,null,null,null,null,null,null,null,null,null,null,null,null,null,null,null,null,null,"（企業コード番号　　　　　　　　　　　　）",null,null,null,null,null,null,null,null,null,null,null,{"$f":"AG3","v":"（3枚目）"}]
[]
[null,"京都府自動車税管理事務所長　様",null,null,null,null,null,null,null,null,null,null,null,null,null,null,null,null,"令和",null,{"$f":"U5","v":0},null,"年",{"$f":"X5","v":0},null,"月",{"$f":"AA5","v":0},null,"日"]
[null,null,null,null,null,null,null,null,null,null,null,null,null,null,null,null,null,"申請者","（登録名義人）","住所(所在地)",null,null,null,null,{"$f":"Y6","v":0}]
[null,"　   京都府府税条例第70条第2項の規定に基づき、\n  下記のとおり申請します。",null,null,null,null,null,null,null,null,null,null,null,null,null,null,null,null,null,"氏名(名称)",null,null,null,null,{"$f":"Y7","v":0}]
[null,null,null,null,null,null,null,null,null,null,null,null,null,null,null,null,null,null,null,"代表者名",null,null,null,null,{"$f":"Y8","v":0}]
[null,null,null,null,null,null,null,null,null,null,null,null,null,null,null,null,null,null,null,"電話番号",null,null,null,null,{"$f":"Y9","v":0}]
[null,null,null,null,null,null,null,null,null,null,null,null,null,null,null,null,null,null,null,"担当者名",null,null,null,null,{"$f":"Y10","v":0}]
[null,null,null,null,null,null,null,null,null,null,null,null,null,null,null,null,null,null,null,"古物商許可番号",null,null,null,null,null,null,"第",{"$f":"AB11","v":0},null,null,null,null,null,null,null,null,"号"]
[]
[null,"減　免　対　象　自　動　車　の　総　台　数",null,null,null,null,null,null,null,null,null,null,null,null,null,null,null,null,null,null,null,"台"]
[null,"NO.",null,"登録番号",null,null,null,null,null,null,null,null,null,null,null,null,"車台番号",null,null,null,null,"備　　　　　考"]
[null,null,null,"区分",null,"車種",null,null,null,"かな",null,"番号",null,null,null,null,"(下3ｹﾀ)"]
[null,{"$f":"B15","v":31}]
[null,null,null,{"$f":"D16","v":"京都"},null,null,null,null,null,{"$f":"J16","v":0}]
[null,{"$f":"B17","v":32}]
[null,null,null,{"$f":"D18","v":"京都"},null,{"$f":"F18","v":0},null,null,null,{"$f":"J18","v":0},null,{"$f":"L18","v":0},null,null,null,null,{"$f":"Q18","v":0}]
[null,{"$f":"B19","v":33}]
[null,null,null,{"$f":"D20","v":"京都"},null,{"$f":"F20","v":0},null,null,null,{"$f":"J20","v":0},null,{"$f":"L20","v":0},null,null,null,null,{"$f":"Q20","v":0}]
[null,{"$f":"B21","v":34}]
[null,null,null,{"$f":"D22","v":"京都"},null,{"$f":"F22","v":0},null,null,null,{"$f":"J22","v":0},null,{"$f":"L22","v":0},null,null,null,null,{"$f":"Q22","v":0}]
[null,{"$f":"B23","v":35}]
[null,null,null,{"$f":"D24","v":"京都"},null,{"$f":"F24","v":0},null,null,null,{"$f":"J24","v":0},null,{"$f":"L24","v":0},null,null,null,null,{"$f":"Q24","v":0}]
[null,{"$f":"B25","v":36}]
[null,null,null,{"$f":"D26","v":"京都"},null,{"$f":"F26","v":0},null,null,null,{"$f":"J26","v":0},null,{"$f":"L26","v":0},null,null,null,null,{"$f":"Q26","v":0}]
[null,{"$f":"B27","v":37}]
[null,null,null,{"$f":"D28","v":"京都"},null,{"$f":"F28","v":0},null,null,null,{"$f":"J28","v":0},null,{"$f":"L28","v":0},null,null,null,null,{"$f":"Q28","v":0}]
[null,{"$f":"B29","v":38}]
[null,null,null,{"$f":"D30","v":"京都"},null,{"$f":"F30","v":0},null,null,null,{"$f":"J30","v":0},null,{"$f":"L30","v":0},null,null,null,null,{"$f":"Q30","v":0}]
[null,{"$f":"B31","v":39}]
[null,null,null,{"$f":"D32","v":"京都"},null,{"$f":"F32","v":0},null,null,null,{"$f":"J32","v":0},null,{"$f":"L32","v":0},null,null,null,null,{"$f":"Q32","v":0}]
[null,{"$f":"B33","v":40}]
[null,null,null,{"$f":"D34","v":"京都"},null,{"$f":"F34","v":0},null,null,null,{"$f":"J34","v":0},null,{"$f":"L34","v":0},null,null,null,null,{"$f":"Q34","v":0}]
[null,{"$f":"B35","v":41}]
[null,null,null,{"$f":"D36","v":"京都"},null,{"$f":"F36","v":0},null,null,null,{"$f":"J36","v":0},null,{"$f":"L36","v":0},null,null,null,null,{"$f":"Q36","v":0}]
[null,{"$f":"B37","v":42}]
[null,null,null,{"$f":"D38","v":"京都"},null,{"$f":"F38","v":0},null,null,null,{"$f":"J38","v":0},null,{"$f":"L38","v":0},null,null,null,null,{"$f":"Q38","v":0}]
[null,{"$f":"B39","v":43}]
[null,null,null,{"$f":"D40","v":"京都"},null,{"$f":"F40","v":0},null,null,null,{"$f":"J40","v":0},null,{"$f":"L40","v":0},null,null,null,null,{"$f":"Q40","v":0}]
[null,{"$f":"B41","v":44}]
[null,null,null,{"$f":"D42","v":"京都"},null,{"$f":"F42","v":0},null,null,null,{"$f":"J42","v":0},null,{"$f":"L42","v":0},null,null,null,null,{"$f":"Q42","v":0}]
[null,{"$f":"B43","v":45}]
[null,null,null,{"$f":"D44","v":"京都"},null,{"$f":"F44","v":0},null,null,null,{"$f":"J44","v":0},null,{"$f":"L44","v":0},null,null,null,null,{"$f":"Q44","v":0}]
[]
[null,null,null,null,null,null,null,null,null,null,null,null,null,null,null,null,null,null,null,"　上記は、商品中古自動車確認証明業務実施要領\nに定める商品中古自動車であることを証明する。"]
[]
[null,null,null,null,null,null,null,null,null,null,null,null,null,null,null,null,null,null,null,null,"令和　　　年　　　月　　　日"]
[]
[null,null,null,null,null,null,null,null,null,null,null,null,null,null,null,null,null,null,"住　　所"]
[]
[null,null,null,null,null,null,null,null,null,null,null,null,null,null,null,null,null,null,"支 所 名"]
[]
[null,null,null,null,null,null,null,null,null,null,null,null,null,null,null,null,null,null,"代表者名",null,null,null,null,null,null,null,null,null,null,null,null,null,null,null,null,null,"㊞"]
["様式1-(3)",null,null,null,null,null,null,null,null,null,null,null,null,null,null,null,null,null,null,null,null,null,null,null,null,null,null,null,null,null,null,null,null,"(申請者控)"]
["商品中古自動車証明申請書"]
[null,null,null,null,null,null,null,null,null,null,null,null,null,null,null,null,null,null,null,null,"（企業コード番号　　　　　　　　　　　　）",null,null,null,null,null,null,null,null,null,null,null,{"$f":"AG3","v":"（3枚目）"}]
[]
[null,"一般財団法人　日本自動車査定協会",null,null,null,null,null,null,null,null,null,null,null,null,null,null,null,null,"令和",null,{"$f":"U5","v":0},null,"年",{"$f":"X5","v":0},null,"月",{"$f":"AA5","v":0},null,"日"]
[null,"　　　　　　　　　　　　　　　京都府支所長　　様",null,null,null,null,null,null,null,null,null,null,null,null,null,null,null,"申請者","（登録名義人）","住所(所在地)",null,null,null,null,{"$f":"Y6","v":0}]
[null,"　商品中古自動車確認証明業務実施要領に基づき下記の自動車が商品中古自動車であることの証明を申請します。\n　なお、下記の自動車が商品自動車であること及び記載事項に相違ないこと並びに現地調査が行われる場合には協力することを確約いたします。",null,null,null,null,null,null,null,null,null,null,null,null,null,null,null,null,null,"氏名(名称)",null,null,null,null,{"$f":"Y7","v":0}]
[null,null,null,null,null,null,null,null,null,null,null,null,null,null,null,null,null,null,null,"代表者名",null,null,null,null,{"$f":"Y8","v":0}]
[null,null,null,null,null,null,null,null,null,null,null,null,null,null,null,null,null,null,null,"電話番号",null,null,null,null,{"$f":"Y9","v":0}]
[null,null,null,null,null,null,null,null,null,null,null,null,null,null,null,null,null,null,null,"担当者名",null,null,null,null,{"$f":"Y10","v":0}]
[null,null,null,null,null,null,null,null,null,null,null,null,null,null,null,null,null,null,null,"古物商許可番号",null,null,null,null,null,null,"第",{"$f":"AB11","v":0},null,null,null,null,null,null,null,null,"号"]
[]
[null,"NO.",null,"登録番号",null,null,null,null,null,null,null,null,null,null,null,null,"車台番号",null,null,null,null,"登録\n年月日",null,null,null,null,"展示場",null,null,"調査",null,null,null,"備考"]
[null,null,null,"区分",null,"車種",null,null,null,"かな",null,"番号",null,null,null,null,"(下3ｹﾀ)",null,null,null,null,null,null,null,null,null,null,null,null,"月日",null,"結果"]
[null,{"$f":"B15","v":31},null,null,null,null,null,null,null,null,null,null,null,null,null,null,null,null,null,null,null,{"$f":"V15","v":"00:00:00"},null,null,null,null,{"$f":"AA15","v":0},null,null,null,null,"現","帳"]
[null,null,null,{"$f":"D16","v":"京都"},null,{"$f":"F16","v":0},null,null,null,{"$f":"J16","v":0},null,{"$f":"L16","v":0},null,null,null,null,{"$f":"Q16","v":0}]
[null,{"$f":"B17","v":32},null,null,null,null,null,null,null,null,null,null,null,null,null,null,null,null,null,null,null,{"$f":"V17","v":"00:00:00"},null,null,null,null,{"$f":"AA17","v":0},null,null,null,null,"現","帳"]
[null,null,null,{"$f":"D18","v":"京都"},null,{"$f":"F18","v":0},null,null,null,{"$f":"J18","v":0},null,{"$f":"L18","v":0},null,null,null,null,{"$f":"Q18","v":0}]
[null,{"$f":"B19","v":33},null,null,null,null,null,null,null,null,null,null,null,null,null,null,null,null,null,null,null,{"$f":"V19","v":"00:00:00"},null,null,null,null,{"$f":"AA19","v":0},null,null,null,null,"現","帳"]
[null,null,null,{"$f":"D20","v":"京都"},null,{"$f":"F20","v":0},null,null,null,{"$f":"J20","v":0},null,{"$f":"L20","v":0},null,null,null,null,{"$f":"Q20","v":0}]
[null,{"$f":"B21","v":34},null,null,null,null,null,null,null,null,null,null,null,null,null,null,null,null,null,null,null,{"$f":"V21","v":"00:00:00"},null,null,null,null,{"$f":"AA21","v":0},null,null,null,null,"現","帳"]
[null,null,null,{"$f":"D22","v":"京都"},null,{"$f":"F22","v":0},null,null,null,{"$f":"J22","v":0},null,{"$f":"L22","v":0},null,null,null,null,{"$f":"Q22","v":0}]
[null,{"$f":"B23","v":35},null,null,null,null,null,null,null,null,null,null,null,null,null,null,null,null,null,null,null,{"$f":"V23","v":"00:00:00"},null,null,null,null,{"$f":"AA23","v":0},null,null,null,null,"現","帳"]
[null,null,null,{"$f":"D24","v":"京都"},null,{"$f":"F24","v":0},null,null,null,{"$f":"J24","v":0},null,{"$f":"L24","v":0},null,null,null,null,{"$f":"Q24","v":0}]
[null,{"$f":"B25","v":36},null,null,null,null,null,null,null,null,null,null,null,null,null,null,null,null,null,null,null,{"$f":"V25","v":"00:00:00"},null,null,null,null,{"$f":"AA25","v":0},null,null,null,null,"現","帳"]
[null,null,null,{"$f":"D26","v":"京都"},null,{"$f":"F26","v":0},null,null,null,{"$f":"J26","v":0},null,{"$f":"L26","v":0},null,null,null,null,{"$f":"Q26","v":0}]
[null,{"$f":"B27","v":37},null,null,null,null,null,null,null,null,null,null,null,null,null,null,null,null,null,null,null,{"$f":"V27","v":"00:00:00"},null,null,null,null,{"$f":"AA27","v":0},null,null,null,null,"現","帳"]
[null,null,null,{"$f":"D28","v":"京都"},null,{"$f":"F28","v":0},null,null,null,{"$f":"J28","v":0},null,{"$f":"L28","v":0},null,null,null,null,{"$f":"Q28","v":0}]
[null,{"$f":"B29","v":38},null,null,null,null,null,null,null,null,null,null,null,null,null,null,null,null,null,null,null,{"$f":"V29","v":"00:00:00"},null,null,null,null,{"$f":"AA29","v":0},null,null,null,null,"現","帳"]
[null,null,null,{"$f":"D30","v":"京都"},null,{"$f":"F30","v":0},null,null,null,{"$f":"J30","v":0},null,{"$f":"L30","v":0},null,null,null,null,{"$f":"Q30","v":0}]
[null,{"$f":"B31","v":39},null,null,null,null,null,null,null,null,null,null,null,null,null,null,null,null,null,null,null,{"$f":"V31","v":"00:00:00"},null,null,null,null,{"$f":"AA31","v":0},null,null,null,null,"現","帳"]
[null,null,null,{"$f":"D32","v":"京都"},null,{"$f":"F32","v":0},null,null,null,{"$f":"J32","v":0},null,{"$f":"L32","v":0},null,null,null,null,{"$f":"Q32","v":0}]
[null,{"$f":"B33","v":40},null,null,null,null,null,null,null,null,null,null,null,null,null,null,null,null,null,null,null,{"$f":"V33","v":"00:00:00"},null,null,null,null,{"$f":"AA33","v":0},null,null,null,null,"現","帳"]
[null,null,null,{"$f":"D34","v":"京都"},null,{"$f":"F34","v":0},null,null,null,{"$f":"J34","v":0},null,{"$f":"L34","v":0},null,null,null,null,{"$f":"Q34","v":0}]
[null,{"$f":"B35","v":41},null,null,null,null,null,null,null,null,null,null,null,null,null,null,null,null,null,null,null,{"$f":"V35","v":"00:00:00"},null,null,null,null,{"$f":"AA35","v":0},null,null,null,null,"現","帳"]
[null,null,null,{"$f":"D36","v":"京都"},null,{"$f":"F36","v":0},null,null,null,{"$f":"J36","v":0},null,{"$f":"L36","v":0},null,null,null,null,{"$f":"Q36","v":0}]
[null,{"$f":"B37","v":42},null,null,null,null,null,null,null,null,null,null,null,null,null,null,null,null,null,null,null,{"$f":"V37","v":"00:00:00"},null,null,null,null,{"$f":"AA37","v":0},null,null,null,null,"現","帳"]
[null,null,null,{"$f":"D38","v":"京都"},null,{"$f":"F38","v":0},null,null,null,{"$f":"J38","v":0},null,{"$f":"L38","v":0},null,null,null,null,{"$f":"Q38","v":0}]
[null,{"$f":"B39","v":43},null,null,null,null,null,null,null,null,null,null,null,null,null,null,null,null,null,null,null,{"$f":"V39","v":"00:00:00"},null,null,null,null,{"$f":"AA39","v":0},null,null,null,null,"現","帳"]
[null,null,null,{"$f":"D40","v":"京都"},null,{"$f":"F40","v":0},null,null,null,{"$f":"J40","v":0},null,{"$f":"L40","v":0},null,null,null,null,{"$f":"Q40","v":0}]
[null,{"$f":"B41","v":44},null,null,null,null,null,null,null,null,null,null,null,null,null,null,null,null,null,null,null,{"$f":"V41","v":"00:00:00"},null,null,null,null,{"$f":"AA41","v":0},null,null,null,null,"現","帳"]
[null,null,null,{"$f":"D42","v":"京都"},null,{"$f":"F42","v":0},null,null,null,{"$f":"J42","v":0},null,{"$f":"L42","v":0},null,null,null,null,{"$f":"Q42","v":0}]
[null,{"$f":"B43","v":45},null,null,null,null,null,null,null,null,null,null,null,null,null,null,null,null,null,null,null,{"$f":"V43","v":"00:00:00"},null,null,null,null,{"$f":"AA43","v":0},null,null,null,null,"現","帳"]
[null,null,null,{"$f":"D44","v":"京都"},null,{"$f":"F44","v":0},null,null,null,{"$f":"J44","v":0},null,{"$f":"L44","v":0},null,null,null,null,{"$f":"Q44","v":0}]
[]
[null,null,null,null,null,null,null,null,null,null,null,null,null,null,null,null,null,"誓約事項"]
[null,null,null,null,null,null,null,null,null,null,null,null,null,null,null,null,null,null,null,"申請する自動車には、取得時の登録事由が新規登"]
[null,null,null,null,null,null,null,null,null,null,null,null,null,null,null,null,null,null,null,"録（新車・中古車とも）のものを含みません。"]
[]
[null,null,null,null,null,null,null,null,null,null,null,null,null,null,null,null,null,null,null,null,null,"担当者署名欄"]

{"sheet":"4枚目","index":4,"n_rows":155,"n_cols":49,"rows_kept":155,"cut":false,"hidden":false,"merged":[[6,1,9,16],[6,19,6,23],[6,24,6,37],[7,19,7,23],[7,24,7,37],[8,19,8,23],[1,0,1,37],[1,48,2,51],[2,20,2,31],[2,32,2,36],[4,18,4,19],[4,20,4,21],[4,23,4,24],[4,26,4,27],[8,24,8,37],[9,19,9,23],[9,24,9,37],[10,19,10,25],[10,27,10,35],[10,36,10,37],[5,17,10,17],[5,18,10,18],[5,19,5,23],[5,24,5,37],[12,33,13,36],[13,3,13,4],[13,5,13,8],[13,9,13,10],[13,11,13,15],[13,16,13,20],[13,29,13,30],[13,31,13,32],[12,1,13,2],[12,3,12,15],[12,16,12,20],[12,21,13,25],[12,26,13,28],[12,29,12,32],[14,21,15,25],[14,26,15,28],[14,29,15,30],[14,31,15,31],[14,32,15,32],[14,33,15,36],[14,1,15,2],[14,3,14,4],[14,5,14,8],[14,9,14,10],[14,11,14,15],[14,16,14,20],[15,3,15,4],[15,5,15,8],[15,9,15,10],[15,11,15,15],[15,16,15,20],[16,1,17,2],[16,3,16,4],[16,5,16,8],[16,9,16,10],[16,11,16,15],[16,16,16,20],[17,3,17,4],[17,5,17,8],[17,9,17,10],[18,21,19,25],[18,26,19,28],[18,29,19,30],[18,31,19,31],[18,32,19,32],[18,33,19,36],[17,11,17,15],[17,16,17,20],[18,1,19,2],[18,3,18,4],[18,5,18,8],[18,9,18,10],[18,11,18,15],[18,16,18,20],[19,3,19,4],[19,5,19,8],[16,21,17,25],[16,26,17,28],[16,29,17,30],[16,31,17,31],[16,32,17,32],[16,33,17,36],[19,9,19,10],[19,11,19,15],[19,16,19,20],[20,1,21,2],[20,3,20,4],[20,5,20,8],[20,9,20,10],[20,11,20,15],[20,16,20,20],[21,3,21,4],[22,21,23,25],[22,26,23,28],[22,29,23,30],[22,31,23,31],[22,32,23,32],[22,33,23,36],[21,5,21,8],[21,9,21,10],[21,11,21,15],[21,16,21,20],[22,5,22,8],[22,9,22,10],[22,11,22,15],[22,16,22,20],[20,21,21,25],[20,26,21,28],[20,29,21,30],[20,31,21,31],[20,32,21,32],[20,33,21,36],[23,3,23,4],[23,5,23,8],[23,9,23,10],[23,11,23,15],[23,16,23,20],[24,1,25,2],[24,3,24,4],[24,5,24,8],[24,9,24,10],[24,11,24,15],[22,1,23,2],[22,3,22,4],[24,33,25,36],[25,3,25,4],[25,5,25,8],[25,9,25,10],[25,11,25,15],[25,16,25,20],[24,16,24,20],[24,21,25,25],[24,26,25,28],[24,29,25,30],[24,31,25,31],[24,32,25,32],[26,21,27,25],[26,26,27,28],[26,29,27,30],[26,31,27,31],[26,32,27,32],[26,33,27,36],[26,1,27,2],[26,3,26,4],[26,5,26,8],[26,9,26,10],[26,11,26,15],[26,16,26,20],[27,3,27,4],[27,5,27,8],[27,9,27,10],[27,11,27,15],[27,16,27,20],[28,1,29,2],[28,3,28,4],[28,5,28,8],[28,9,28,10],[28,11,28,15],[28,16,28,20],[29,3,29,4],[29,5,29,8],[29,9,29,10],[30,21,31,25],[30,26,31,28],[30,29,31,30],[30,31,31,31],[30,32,31,32],[30,33,31,36],[29,11,29,15],[29,16,29,20],[30,1,31,2],[30,3,30,4],[30,5,30,8],[30,9,30,10],[30,11,30,15],[30,16,30,20],[31,3,31,4],[31,5,31,8],[28,21,29,25],[28,26,29,28],[28,29,29,30],[28,31,29,31],[28,32,29,32],[28,33,29,36],[31,9,31,10],[31,11,31,15],[31,16,31,20],[32,1,33,2],[32,3,32,4],[32,5,32,8],[32,9,32,10],[32,11,32,15],[32,16,32,20],[33,3,33,4],[34,21,35,25],[34,26,35,28],[34,29,35,30],[34,31,35,31],[34,32,35,32],[34,33,35,36],[33,5,33,8],[33,9,33,10],[33,11,33,15],[33,16,33,20],[34,5,34,8],[34,9,34,10],[34,11,34,15],[34,16,34,20],[32,21,33,25],[32,26,33,28],[32,29,33,30],[32,31,33,31],[32,32,33,32],[32,33,33,36],[35,3,35,4],[35,5,35,8],[35,9,35,10],[35,11,35,15],[35,16,35,20],[36,1,37,2],[36,3,36,4],[36,5,36,8],[36,9,36,10],[36,11,36,15],[34,1,35,2],[34,3,34,4],[38,5,38,8],[38,9,38,10],[38,11,38,15],[38,16,38,20],[39,3,39,4],[39,5,39,8],[39,9,39,10],[39,11,39,15],[36,33,37,36],[37,3,37,4],[37,5,37,8],[37,9,37,10],[37,11,37,15],[37,16,37,20],[36,16,36,20],[36,21,37,25],[36,26,37,28],[36,29,37,30],[36,31,37,31],[36,32,37,32],[40,21,41,25],[40,26,41,28],[40,29,41,30],[40,31,41,31],[40,32,41,32],[40,33,41,36],[39,16,39,20],[40,1,41,2],[40,3,40,4],[40,5,40,8],[40,9,40,10],[40,11,40,15],[40,16,40,20],[41,3,41,4],[41,5,41,8],[41,9,41,10],[38,21,39,25],[38,26,39,28],[38,29,39,30],[38,31,39,31],[38,32,39,32],[38,33,39,36],[38,1,39,2],[38,3,38,4],[41,11,41,15],[41,16,41,20],[42,1,43,2],[42,3,42,4],[42,5,42,8],[42,9,42,10],[42,11,42,15],[42,16,42,20],[43,3,43,4],[43,5,43,8],[43,9,43,10],[43,11,43,15],[43,16,43,20],[45,17,49,18],[46,19,46,36],[47,19,47,36],[42,21,43,25],[42,26,43,28],[42,29,43,30],[42,31,43,31],[42,32,43,32],[42,33,43,36],[56,1,59,16],[56,19,56,23],[56,24,56,37],[57,19,57,23],[57,24,57,37],[58,19,58,23],[51,0,51,37],[52,20,52,31],[52,32,52,36],[54,18,54,19],[54,20,54,21],[54,23,54,24],[54,26,54,27],[58,24,58,37],[59,19,59,23],[59,24,59,37],[60,19,60,25],[60,27,60,35],[60,36,60,37],[55,17,60,17],[55,18,60,18],[55,19,55,23],[55,24,55,37],[62,1,62,20],[62,21,62,36],[63,1,64,2],[63,3,63,15],[63,16,63,20],[63,21,64,36],[64,3,64,4],[64,5,64,8],[64,9,64,10],[64,11,64,15],[65,21,66,36],[66,3,66,4],[66,5,66,8],[66,9,66,10],[66,11,66,15],[66,16,66,20],[64,16,64,20],[65,1,66,2],[65,3,65,4],[65,5,65,8],[65,9,65,10],[65,11,65,15],[65,16,65,20],[67,21,68,36],[68,3,68,4],[68,5,68,8],[68,9,68,10],[68,11,68,15],[68,16,68,20],[67,1,68,2],[67,3,67,4],[67,5,67,8],[67,9,67,10],[67,11,67,15],[67,16,67,20],[69,21,70,36],[70,3,70,4],[70,5,70,8],[70,9,70,10],[70,11,70,15],[70,16,70,20],[69,1,70,2],[69,3,69,4],[69,5,69,8],[69,9,69,10],[69,11,69,15],[69,16,69,20],[71,21,72,36],[72,3,72,4],[72,5,72,8],[72,9,72,10],[72,11,72,15],[72,16,72,20],[71,1,72,2],[71,3,71,4],[71,5,71,8],[71,9,71,10],[71,11,71,15],[71,16,71,20],[73,21,74,36],[74,3,74,4],[74,5,74,8],[74,9,74,10],[74,11,74,15],[74,16,74,20],[73,1,74,2],[73,3,73,4],[73,5,73,8],[73,9,73,10],[73,11,73,15],[73,16,73,20],[75,21,76,36],[76,3,76,4],[76,5,76,8],[76,9,76,10],[76,11,76,15],[76,16,76,20],[75,1,76,2],[75,3,75,4],[75,5,75,8],[75,9,75,10],[75,11,75,15],[75,16,75,20],[77,21,78,36],[78,3,78,4],[78,5,78,8],[78,9,78,10],[78,11,78,15],[78,16,78,20],[77,1,78,2],[77,3,77,4],[77,5,77,8],[77,9,77,10],[77,11,77,15],[77,16,77,20],[79,21,80,36],[80,3,80,4],[80,5,80,8],[80,9,80,10],[80,11,80,15],[80,16,80,20],[79,1,80,2],[79,3,79,4],[79,5,79,8],[79,9,79,10],[79,11,79,15],[79,16,79,20],[81,21,82,36],[82,3,82,4],[82,5,82,8],[82,9,82,10],[82,11,82,15],[82,16,82,20],[81,1,82,2],[81,3,81,4],[81,5,81,8],[81,9,81,10],[81,11,81,15],[81,16,81,20],[83,21,84,36],[84,3,84,4],[84,5,84,8],[84,9,84,10],[84,11,84,15],[84,16,84,20],[83,1,84,2],[83,3,83,4],[83,5,83,8],[83,9,83,10],[83,11,83,15],[83,16,83,20],[85,21,86,36],[86,3,86,4],[86,5,86,8],[86,9,86,10],[86,11,86,15],[86,16,86,20],[85,1,86,2],[85,3,85,4],[85,5,85,8],[85,9,85,10],[85,11,85,15],[85,16,85,20],[87,21,88,36],[88,3,88,4],[88,5,88,8],[88,9,88,10],[88,11,88,15],[88,16,88,20],[87,1,88,2],[87,3,87,4],[87,5,87,8],[87,9,87,10],[87,11,87,15],[87,16,87,20],[89,21,90,36],[90,3,90,4],[90,5,90,8],[90,9,90,10],[90,11,90,15],[90,16,90,20],[89,1,90,2],[89,3,89,4],[89,5,89,8],[89,9,89,10],[89,11,89,15],[89,16,89,20],[91,21,92,36],[92,3,92,4],[92,5,92,8],[92,9,92,10],[92,11,92,15],[92,16,92,20],[91,1,92,2],[91,3,91,4],[91,5,91,8],[91,9,91,10],[91,11,91,15],[91,16,91,20],[96,19,96,36],[100,18,100,21],[102,18,102,21],[104,18,104,21],[106,0,106,37],[107,20,107,31],[107,32,107,36],[93,21,94,36],[94,3,94,4],[94,5,94,8],[94,9,94,10],[94,11,94,15],[94,16,94,20],[93,1,94,2],[93,3,93,4],[93,5,93,8],[93,9,93,10],[93,11,93,15],[93,16,93,20],[109,18,109,19],[109,20,109,21],[109,23,109,24],[109,26,109,27],[110,17,115,17],[110,18,115,18],[110,19,110,23],[110,24,110,37],[115,19,115,25],[115,27,115,35],[111,1,114,16],[111,19,111,23],[111,24,111,37],[112,19,112,23],[112,24,112,37],[113,19,113,23],[113,24,113,37],[114,19,114,23],[114,24,114,37],[115,36,115,37],[117,1,118,2],[117,3,117,15],[117,16,117,20],[117,21,118,25],[117,26,118,28],[117,29,117,32],[117,33,118,36],[118,3,118,4],[118,5,118,8],[118,9,118,10],[118,11,118,15],[118,16,118,20],[118,29,118,30],[118,31,118,32],[119,1,120,2],[119,3,119,4],[119,5,119,8],[119,9,119,10],[119,11,119,15],[119,33,120,36],[120,3,120,4],[120,5,120,8],[120,9,120,10],[120,11,120,15],[120,16,120,20],[119,16,119,20],[119,21,120,25],[119,26,120,28],[119,29,120,30],[119,31,120,31],[119,32,120,32],[121,21,122,25],[121,26,122,28],[121,29,122,30],[121,31,122,31],[121,32,122,32],[121,33,122,36],[121,1,122,2],[121,3,121,4],[121,5,121,8],[121,9,121,10],[121,11,121,15],[121,16,121,20],[122,3,122,4],[122,5,122,8],[122,9,122,10],[122,11,122,15],[122,16,122,20],[123,1,124,2],[123,3,123,4],[123,5,123,8],[123,9,123,10],[123,11,123,15],[123,16,123,20],[124,3,124,4],[124,5,124,8],[124,9,124,10],[125,21,126,25],[125,26,126,28],[125,29,126,30],[125,31,126,31],[125,32,126,32],[125,33,126,36],[124,11,124,15],[124,16,124,20],[125,1,126,2],[125,3,125,4],[125,5,125,8],[125,9,125,10],[125,11,125,15],[125,16,125,20],[126,3,126,4],[126,5,126,8],[123,21,124,25],[123,26,124,28],[123,29,124,30],[123,31,124,31],[123,32,124,32],[123,33,124,36],[126,9,126,10],[126,11,126,15],[126,16,126,20],[127,1,128,2],[127,3,127,4],[127,5,127,8],[127,9,127,10],[127,11,127,15],[127,16,127,20],[128,3,128,4],[129,21,130,25],[129,26,130,28],[129,29,130,30],[129,31,130,31],[129,32,130,32],[129,33,130,36],[128,5,128,8],[128,9,128,10],[128,11,128,15],[128,16,128,20],[129,5,129,8],[129,9,129,10],[129,11,129,15],[129,16,129,20],[127,21,128,25],[127,26,128,28],[127,29,128,30],[127,31,128,31],[127,32,128,32],[127,33,128,36],[130,3,130,4],[130,5,130,8],[130,9,130,10],[130,11,130,15],[130,16,130,20],[131,1,132,2],[131,3,131,4],[131,5,131,8],[131,9,131,10],[131,11,131,15],[129,1,130,2],[129,3,129,4],[131,33,132,36],[132,3,132,4],[132,5,132,8],[132,9,132,10],[132,11,132,15],[132,16,132,20],[131,16,131,20],[131,21,132,25],[131,26,132,28],[131,29,132,30],[131,31,132,31],[131,32,132,32],[133,21,134,25],[133,26,134,28],[133,29,134,30],[133,31,134,31],[133,32,134,32],[133,33,134,36],[133,1,134,2],[133,3,133,4],[133,5,133,8],[133,9,133,10],[133,11,133,15],[133,16,133,20],[134,3,134,4],[134,5,134,8],[134,9,134,10],[134,11,134,15],[134,16,134,20],[135,1,136,2],[135,3,135,4],[135,5,135,8],[135,9,135,10],[135,11,135,15],[135,16,135,20],[136,3,136,4],[136,5,136,8],[136,9,136,10],[137,21,138,25],[137,26,138,28],[137,29,138,30],[137,31,138,31],[137,32,138,32],[137,33,138,36],[136,11,136,15],[136,16,136,20],[137,1,138,2],[137,3,137,4],[137,5,137,8],[137,9,137,10],[137,11,137,15],[137,16,137,20],[138,3,138,4],[138,5,138,8],[135,21,136,25],[135,26,136,28],[135,29,136,30],[135,31,136,31],[135,32,136,32],[135,33,136,36],[138,9,138,10],[138,11,138,15],[138,16,138,20],[139,1,140,2],[139,3,139,4],[139,5,139,8],[139,9,139,10],[139,11,139,15],[139,16,139,20],[140,3,140,4],[141,21,142,25],[141,26,142,28],[141,29,142,30],[141,31,142,31],[141,32,142,32],[141,33,142,36],[140,5,140,8],[140,9,140,10],[140,11,140,15],[140,16,140,20],[141,5,141,8],[141,9,141,10],[141,11,141,15],[141,16,141,20],[139,21,140,25],[139,26,140,28],[139,29,140,30],[139,31,140,31],[139,32,140,32],[139,33,140,36],[142,3,142,4],[142,5,142,8],[142,9,142,10],[142,11,142,15],[142,16,142,20],[143,1,144,2],[143,3,143,4],[143,5,143,8],[143,9,143,10],[143,11,143,15],[141,1,142,2],[141,3,141,4],[143,33,144,36],[144,3,144,4],[144,5,144,8],[144,9,144,10],[144,11,144,15],[144,16,144,20],[143,16,143,20],[143,21,144,25],[143,26,144,28],[143,29,144,30],[143,31,144,31],[143,32,144,32],[145,21,146,25],[145,26,146,28],[145,29,146,30],[145,31,146,31],[145,32,146,32],[145,33,146,36],[145,1,146,2],[145,3,145,4],[145,5,145,8],[145,9,145,10],[145,11,145,15],[145,16,145,20],[146,3,146,4],[146,5,146,8],[146,9,146,10],[146,11,146,15],[146,16,146,20],[147,1,148,2],[147,3,147,4],[147,5,147,8],[147,9,147,10],[147,11,147,15],[147,16,147,20],[148,3,148,4],[148,5,148,8],[148,9,148,10],[148,11,148,15],[148,16,148,20],[150,17,154,18],[151,19,151,36],[152,19,152,36],[147,21,148,25],[147,26,148,28],[147,29,148,30],[147,31,148,31],[147,32,148,32],[147,33,148,36]]}
["様式1-(1)",null,null,null,null,null,null,null,null,null,null,null,null,null,null,null,null,null,null,null,null,null,null,null,null,null,null,null,null,null,null,"(査定協会提出用)"]
["商品中古自動車証明申請書",null,null,null,null,null,null,null,null,null,null,null,null,null,null,null,null,null,null,null,null,null,null,null,null,null,null,null,null,null,null,null,null,null,null,null,null,null,null,null,null,null,null,null,null,null,null,null,"記入箇所"]
[null,null,null,null,null,null,null,null,null,null,null,null,null,null,null,null,null,null,null,null,"（企業コード番号　　　　　　　　　　　　）",null,null,null,null,null,null,null,null,null,null,null,"（4枚目）"]
[]
[null,"一般財団法人　日本自動車査定協会",null,null,null,null,null,null,null,null,null,null,null,null,null,null,null,null,"令和",null,{"$f":"'1枚目'!U5","v":0},null,"年",{"$f":"'1枚目'!X5","v":0},null,"月",{"$f":"'1枚目'!AA5","v":0},null,"日"]
[null,"　　　　　　　　　　　　　　　京都府支所長　　様",null,null,null,null,null,null,null,null,null,null,null,null,null,null,null,"申請者","（登録名義人）","住所(所在地)",null,null,null,null,{"$f":"'1枚目'!Y6","v":0}]
[null,"　商品中古自動車確認証明業務実施要領に基づき下記の自動車が商品中古自動車であることの証明を申請します。\n　なお、下記の自動車が商品自動車であること及び記載事項に相違ないこと並びに現地調査が行われる場合には協力することを確約いたします。",null,null,null,null,null,null,null,null,null,null,null,null,null,null,null,null,null,"氏名(名称)",null,null,null,null,{"$f":"'1枚目'!Y7","v":0}]
[null,null,null,null,null,null,null,null,null,null,null,null,null,null,null,null,null,null,null,"代表者名",null,null,null,null,{"$f":"'1枚目'!Y8","v":0}]
[null,null,null,null,null,null,null,null,null,null,null,null,null,null,null,null,null,null,null,"電話番号",null,null,null,null,{"$f":"'1枚目'!Y9","v":0}]
[null,null,null,null,null,null,null,null,null,null,null,null,null,null,null,null,null,null,null,"担当者名",null,null,null,null,{"$f":"'1枚目'!Y10","v":0}]
[null,null,null,null,null,null,null,null,null,null,null,null,null,null,null,null,null,null,null,"古物商許可番号",null,null,null,null,null,null,"第",{"$f":"'1枚目'!AB11","v":0},null,null,null,null,null,null,null,null,"号"]
[]
[null,"NO.",null,"登録番号",null,null,null,null,null,null,null,null,null,null,null,null,"車台番号",null,null,null,null,"登録\n年月日",null,null,null,null,"展示場",null,null,"調査",null,null,null,"備考"]
[null,null,null,"区分",null,"車種",null,null,null,"かな",null,"番号",null,null,null,null,"(下3ｹﾀ)",null,null,null,null,null,null,null,null,null,null,null,null,"月日",null,"結果"]
[null,46,null,null,null,null,null,null,null,null,null,null,null,null,null,null,null,null,null,null,null,null,null,null,null,null,null,null,null,null,null,"現","帳"]
[null,null,null,"京都"]
[null,47,null,null,null,null,null,null,null,null,null,null,null,null,null,null,null,null,null,null,null,null,null,null,null,null,null,null,null,null,null,"現","帳"]
[null,null,null,"京都"]
[null,48,null,null,null,null,null,null,null,null,null,null,null,null,null,null,null,null,null,null,null,null,null,null,null,null,null,null,null,null,null,"現","帳"]
[null,null,null,"京都"]
[null,49,null,null,null,null,null,null,null,null,null,null,null,null,null,null,null,null,null,null,null,null,null,null,null,null,null,null,null,null,null,"現","帳"]
[null,null,null,"京都"]
[null,50,null,null,null,null,null,null,null,null,null,null,null,null,null,null,null,null,null,null,null,null,null,null,null,null,null,null,null,null,null,"現","帳"]
[null,null,null,"京都"]
[null,51,null,null,null,null,null,null,null,null,null,null,null,null,null,null,null,null,null,null,null,null,null,null,null,null,null,null,null,null,null,"現","帳"]
[null,null,null,"京都"]
[null,52,null,null,null,null,null,null,null,null,null,null,null,null,null,null,null,null,null,null,null,null,null,null,null,null,null,null,null,null,null,"現","帳"]
[null,null,null,"京都"]
[null,53,null,null,null,null,null,null,null,null,null,null,null,null,null,null,null,null,null,null,null,null,null,null,null,null,null,null,null,null,null,"現","帳"]
[null,null,null,"京都"]
[null,54,null,null,null,null,null,null,null,null,null,null,null,null,null,null,null,null,null,null,null,null,null,null,null,null,null,null,null,null,null,"現","帳"]
[null,null,null,"京都"]
[null,55,null,null,null,null,null,null,null,null,null,null,null,null,null,null,null,null,null,null,null,null,null,null,null,null,null,null,null,null,null,"現","帳"]
[null,null,null,"京都"]
[null,56,null,null,null,null,null,null,null,null,null,null,null,null,null,null,null,null,null,null,null,null,null,null,null,null,null,null,null,null,null,"現","帳"]
[null,null,null,"京都"]
[null,57,null,null,null,null,null,null,null,null,null,null,null,null,null,null,null,null,null,null,null,null,null,null,null,null,null,null,null,null,null,"現","帳"]
[null,null,null,"京都"]
[null,58,null,null,null,null,null,null,null,null,null,null,null,null,null,null,null,null,null,null,null,null,null,null,null,null,null,null,null,null,null,"現","帳"]
[null,null,null,"京都"]
[null,59,null,null,null,null,null,null,null,null,null,null,null,null,null,null,null,null,null,null,null,null,null,null,null,null,null,null,null,null,null,"現","帳"]
[null,null,null,"京都"]
[null,60,null,null,null,null,null,null,null,null,null,null,null,null,null,null,null,null,null,null,null,null,null,null,null,null,null,null,null,null,null,"現","帳"]
[null,null,null,"京都"]
[]
[null,null,null,null,null,null,null,null,null,null,null,null,null,null,null,null,null,"誓約事項"]
[null,null,null,null,null,null,null,null,null,null,null,null,null,null,null,null,null,null,null,"申請する自動車には、取得時の登録事由が新規登"]
[null,null,null,null,null,null,null,null,null,null,null,null,null,null,null,null,null,null,null,"録（新車・中古車とも）のものを含みません。"]
[]
[null,null,null,null,null,null,null,null,null,null,null,null,null,null,null,null,null,null,null,null,null,"担当者署名欄"]
["様式1-(2)",null,null,null,null,null,null,null,null,null,null,null,null,null,null,null,null,null,null,null,null,null,null,null,null,null,null,"(自動車税管理事務所提出用)"]
["商品中古自動車の自動車税の種別割減免申請書"]
[null,null,null,null,null,null,null,null,null,null,null,null,null,null,null,null,null,null,null,null,"（企業コード番号　　　　　　　　　　　　）",null,null,null,null,null,null,null,null,null,null,null,{"$f":"AG3","v":"（4枚目）"}]
[]
[null,"京都府自動車税管理事務所長　様",null,null,null,null,null,null,null,null,null,null,null,null,null,null,null,null,"令和",null,{"$f":"U5","v":0},null,"年",{"$f":"X5","v":0},null,"月",{"$f":"AA5","v":0},null,"日"]
[null,null,null,null,null,null,null,null,null,null,null,null,null,null,null,null,null,"申請者","（登録名義人）","住所(所在地)",null,null,null,null,{"$f":"Y6","v":0}]
[null,"　   京都府府税条例第70条第2項の規定に基づき、\n  下記のとおり申請します。",null,null,null,null,null,null,null,null,null,null,null,null,null,null,null,null,null,"氏名(名称)",null,null,null,null,{"$f":"Y7","v":0}]
[null,null,null,null,null,null,null,null,null,null,null,null,null,null,null,null,null,null,null,"代表者名",null,null,null,null,{"$f":"Y8","v":0}]
[null,null,null,null,null,null,null,null,null,null,null,null,null,null,null,null,null,null,null,"電話番号",null,null,null,null,{"$f":"Y9","v":0}]
[null,null,null,null,null,null,null,null,null,null,null,null,null,null,null,null,null,null,null,"担当者名",null,null,null,null,{"$f":"Y10","v":0}]
[null,null,null,null,null,null,null,null,null,null,null,null,null,null,null,null,null,null,null,"古物商許可番号",null,null,null,null,null,null,"第",{"$f":"AB11","v":0},null,null,null,null,null,null,null,null,"号"]
[]
[null,"減　免　対　象　自　動　車　の　総　台　数",null,null,null,null,null,null,null,null,null,null,null,null,null,null,null,null,null,null,null,"台"]
[null,"NO.",null,"登録番号",null,null,null,null,null,null,null,null,null,null,null,null,"車台番号",null,null,null,null,"備　　　　　考"]
[null,null,null,"区分",null,"車種",null,null,null,"かな",null,"番号",null,null,null,null,"(下3ｹﾀ)"]
[null,{"$f":"B15","v":46}]
[null,null,null,{"$f":"D16","v":"京都"},null,null,null,null,null,{"$f":"J16","v":0}]
[null,{"$f":"B17","v":47}]
[null,null,null,{"$f":"D18","v":"京都"},null,{"$f":"F18","v":0},null,null,null,{"$f":"J18","v":0},null,{"$f":"L18","v":0},null,null,null,null,{"$f":"Q18","v":0}]
[null,{"$f":"B19","v":48}]
[null,null,null,{"$f":"D20","v":"京都"},null,{"$f":"F20","v":0},null,null,null,{"$f":"J20","v":0},null,{"$f":"L20","v":0},null,null,null,null,{"$f":"Q20","v":0}]
[null,{"$f":"B21","v":49}]
[null,null,null,{"$f":"D22","v":"京都"},null,{"$f":"F22","v":0},null,null,null,{"$f":"J22","v":0},null,{"$f":"L22","v":0},null,null,null,null,{"$f":"Q22","v":0}]
[null,{"$f":"B23","v":50}]
[null,null,null,{"$f":"D24","v":"京都"},null,{"$f":"F24","v":0},null,null,null,{"$f":"J24","v":0},null,{"$f":"L24","v":0},null,null,null,null,{"$f":"Q24","v":0}]
[null,{"$f":"B25","v":51}]
[null,null,null,{"$f":"D26","v":"京都"},null,{"$f":"F26","v":0},null,null,null,{"$f":"J26","v":0},null,{"$f":"L26","v":0},null,null,null,null,{"$f":"Q26","v":0}]
[null,{"$f":"B27","v":52}]
[null,null,null,{"$f":"D28","v":"京都"},null,{"$f":"F28","v":0},null,null,null,{"$f":"J28","v":0},null,{"$f":"L28","v":0},null,null,null,null,{"$f":"Q28","v":0}]
[null,{"$f":"B29","v":53}]
[null,null,null,{"$f":"D30","v":"京都"},null,{"$f":"F30","v":0},null,null,null,{"$f":"J30","v":0},null,{"$f":"L30","v":0},null,null,null,null,{"$f":"Q30","v":0}]
[null,{"$f":"B31","v":54}]
[null,null,null,{"$f":"D32","v":"京都"},null,{"$f":"F32","v":0},null,null,null,{"$f":"J32","v":0},null,{"$f":"L32","v":0},null,null,null,null,{"$f":"Q32","v":0}]
[null,{"$f":"B33","v":55}]
[null,null,null,{"$f":"D34","v":"京都"},null,{"$f":"F34","v":0},null,null,null,{"$f":"J34","v":0},null,{"$f":"L34","v":0},null,null,null,null,{"$f":"Q34","v":0}]
[null,{"$f":"B35","v":56}]
[null,null,null,{"$f":"D36","v":"京都"},null,{"$f":"F36","v":0},null,null,null,{"$f":"J36","v":0},null,{"$f":"L36","v":0},null,null,null,null,{"$f":"Q36","v":0}]
[null,{"$f":"B37","v":57}]
[null,null,null,{"$f":"D38","v":"京都"},null,{"$f":"F38","v":0},null,null,null,{"$f":"J38","v":0},null,{"$f":"L38","v":0},null,null,null,null,{"$f":"Q38","v":0}]
[null,{"$f":"B39","v":58}]
[null,null,null,{"$f":"D40","v":"京都"},null,{"$f":"F40","v":0},null,null,null,{"$f":"J40","v":0},null,{"$f":"L40","v":0},null,null,null,null,{"$f":"Q40","v":0}]
[null,{"$f":"B41","v":59}]
[null,null,null,{"$f":"D42","v":"京都"},null,{"$f":"F42","v":0},null,null,null,{"$f":"J42","v":0},null,{"$f":"L42","v":0},null,null,null,null,{"$f":"Q42","v":0}]
[null,{"$f":"B43","v":60}]
[null,null,null,{"$f":"D44","v":"京都"},null,{"$f":"F44","v":0},null,null,null,{"$f":"J44","v":0},null,{"$f":"L44","v":0},null,null,null,null,{"$f":"Q44","v":0}]
[]
[null,null,null,null,null,null,null,null,null,null,null,null,null,null,null,null,null,null,null,"　上記は、商品中古自動車確認証明業務実施要領\nに定める商品中古自動車であることを証明する。"]
[]
[null,null,null,null,null,null,null,null,null,null,null,null,null,null,null,null,null,null,null,null,"令和　　　年　　　月　　　日"]
[]
[null,null,null,null,null,null,null,null,null,null,null,null,null,null,null,null,null,null,"住　　所"]
[]
[null,null,null,null,null,null,null,null,null,null,null,null,null,null,null,null,null,null,"支 所 名"]
[]
[null,null,null,null,null,null,null,null,null,null,null,null,null,null,null,null,null,null,"代表者名",null,null,null,null,null,null,null,null,null,null,null,null,null,null,null,null,null,"㊞"]
["様式1-(3)",null,null,null,null,null,null,null,null,null,null,null,null,null,null,null,null,null,null,null,null,null,null,null,null,null,null,null,null,null,null,null,null,"(申請者控)"]
["商品中古自動車証明申請書"]
[null,null,null,null,null,null,null,null,null,null,null,null,null,null,null,null,null,null,null,null,"（企業コード番号　　　　　　　　　　　　）",null,null,null,null,null,null,null,null,null,null,null,{"$f":"AG3","v":"（4枚目）"}]
[]
[null,"一般財団法人　日本自動車査定協会",null,null,null,null,null,null,null,null,null,null,null,null,null,null,null,null,"令和",null,{"$f":"U5","v":0},null,"年",{"$f":"X5","v":0},null,"月",{"$f":"AA5","v":0},null,"日"]
[null,"　　　　　　　　　　　　　　　京都府支所長　　様",null,null,null,null,null,null,null,null,null,null,null,null,null,null,null,"申請者","（登録名義人）","住所(所在地)",null,null,null,null,{"$f":"Y6","v":0}]
[null,"　商品中古自動車確認証明業務実施要領に基づき下記の自動車が商品中古自動車であることの証明を申請します。\n　なお、下記の自動車が商品自動車であること及び記載事項に相違ないこと並びに現地調査が行われる場合には協力することを確約いたします。",null,null,null,null,null,null,null,null,null,null,null,null,null,null,null,null,null,"氏名(名称)",null,null,null,null,{"$f":"Y7","v":0}]
[null,null,null,null,null,null,null,null,null,null,null,null,null,null,null,null,null,null,null,"代表者名",null,null,null,null,{"$f":"Y8","v":0}]
[null,null,null,null,null,null,null,null,null,null,null,null,null,null,null,null,null,null,null,"電話番号",null,null,null,null,{"$f":"Y9","v":0}]
[null,null,null,null,null,null,null,null,null,null,null,null,null,null,null,null,null,null,null,"担当者名",null,null,null,null,{"$f":"Y10","v":0}]
[null,null,null,null,null,null,null,null,null,null,null,null,null,null,null,null,null,null,null,"古物商許可番号",null,null,null,null,null,null,"第",{"$f":"AB11","v":0},null,null,null,null,null,null,null,null,"号"]
[]
[null,"NO.",null,"登録番号",null,null,null,null,null,null,null,null,null,null,null,null,"車台番号",null,null,null,null,"登録\n年月日",null,null,null,null,"展示場",null,null,"調査",null,null,null,"備考"]
[null,null,null,"区分",null,"車種",null,null,null,"かな",null,"番号",null,null,null,null,"(下3ｹﾀ)",null,null,null,null,null,null,null,null,null,null,null,null,"月日",null,"結果"]
[null,{"$f":"B15","v":46},null,null,null,null,null,null,null,null,null,null,null,null,null,null,null,null,null,null,null,{"$f":"V15","v":"00:00:00"},null,null,null,null,{"$f":"AA15","v":0},null,null,null,null,"現","帳"]
[null,null,null,{"$f":"D16","v":"京都"},null,{"$f":"F16","v":0},null,null,null,{"$f":"J16","v":0},null,{"$f":"L16","v":0},null,null,null,null,{"$f":"Q16","v":0}]
[null,{"$f":"B17","v":47},null,null,null,null,null,null,null,null,null,null,null,null,null,null,null,null,null,null,null,{"$f":"V17","v":"00:00:00"},null,null,null,null,{"$f":"AA17","v":0},null,null,null,null,"現","帳"]
[null,null,null,{"$f":"D18","v":"京都"},null,{"$f":"F18","v":0},null,null,null,{"$f":"J18","v":0},null,{"$f":"L18","v":0},null,null,null,null,{"$f":"Q18","v":0}]
[null,{"$f":"B19","v":48},null,null,null,null,null,null,null,null,null,null,null,null,null,null,null,null,null,null,null,{"$f":"V19","v":"00:00:00"},null,null,null,null,{"$f":"AA19","v":0},null,null,null,null,"現","帳"]
[null,null,null,{"$f":"D20","v":"京都"},null,{"$f":"F20","v":0},null,null,null,{"$f":"J20","v":0},null,{"$f":"L20","v":0},null,null,null,null,{"$f":"Q20","v":0}]
[null,{"$f":"B21","v":49},null,null,null,null,null,null,null,null,null,null,null,null,null,null,null,null,null,null,null,{"$f":"V21","v":"00:00:00"},null,null,null,null,{"$f":"AA21","v":0},null,null,null,null,"現","帳"]
[null,null,null,{"$f":"D22","v":"京都"},null,{"$f":"F22","v":0},null,null,null,{"$f":"J22","v":0},null,{"$f":"L22","v":0},null,null,null,null,{"$f":"Q22","v":0}]
[null,{"$f":"B23","v":50},null,null,null,null,null,null,null,null,null,null,null,null,null,null,null,null,null,null,null,{"$f":"V23","v":"00:00:00"},null,null,null,null,{"$f":"AA23","v":0},null,null,null,null,"現","帳"]
[null,null,null,{"$f":"D24","v":"京都"},null,{"$f":"F24","v":0},null,null,null,{"$f":"J24","v":0},null,{"$f":"L24","v":0},null,null,null,null,{"$f":"Q24","v":0}]
[null,{"$f":"B25","v":51},null,null,null,null,null,null,null,null,null,null,null,null,null,null,null,null,null,null,null,{"$f":"V25","v":"00:00:00"},null,null,null,null,{"$f":"AA25","v":0},null,null,null,null,"現","帳"]
[null,null,null,{"$f":"D26","v":"京都"},null,{"$f":"F26","v":0},null,null,null,{"$f":"J26","v":0},null,{"$f":"L26","v":0},null,null,null,null,{"$f":"Q26","v":0}]
[null,{"$f":"B27","v":52},null,null,null,null,null,null,null,null,null,null,null,null,null,null,null,null,null,null,null,{"$f":"V27","v":"00:00:00"},null,null,null,null,{"$f":"AA27","v":0},null,null,null,null,"現","帳"]
[null,null,null,{"$f":"D28","v":"京都"},null,{"$f":"F28","v":0},null,null,null,{"$f":"J28","v":0},null,{"$f":"L28","v":0},null,null,null,null,{"$f":"Q28","v":0}]
[null,{"$f":"B29","v":53},null,null,null,null,null,null,null,null,null,null,null,null,null,null,null,null,null,null,null,{"$f":"V29","v":"00:00:00"},null,null,null,null,{"$f":"AA29","v":0},null,null,null,null,"現","帳"]
[null,null,null,{"$f":"D30","v":"京都"},null,{"$f":"F30","v":0},null,null,null,{"$f":"J30","v":0},null,{"$f":"L30","v":0},null,null,null,null,{"$f":"Q30","v":0}]
[null,{"$f":"B31","v":54},null,null,null,null,null,null,null,null,null,null,null,null,null,null,null,null,null,null,null,{"$f":"V31","v":"00:00:00"},null,null,null,null,{"$f":"AA31","v":0},null,null,null,null,"現","帳"]
[null,null,null,{"$f":"D32","v":"京都"},null,{"$f":"F32","v":0},null,null,null,{"$f":"J32","v":0},null,{"$f":"L32","v":0},null,null,null,null,{"$f":"Q32","v":0}]
[null,{"$f":"B33","v":55},null,null,null,null,null,null,null,null,null,null,null,null,null,null,null,null,null,null,null,{"$f":"V33","v":"00:00:00"},null,null,null,null,{"$f":"AA33","v":0},null,null,null,null,"現","帳"]
[null,null,null,{"$f":"D34","v":"京都"},null,{"$f":"F34","v":0},null,null,null,{"$f":"J34","v":0},null,{"$f":"L34","v":0},null,null,null,null,{"$f":"Q34","v":0}]
[null,{"$f":"B35","v":56},null,null,null,null,null,null,null,null,null,null,null,null,null,null,null,null,null,null,null,{"$f":"V35","v":"00:00:00"},null,null,null,null,{"$f":"AA35","v":0},null,null,null,null,"現","帳"]
[null,null,null,{"$f":"D36","v":"京都"},null,{"$f":"F36","v":0},null,null,null,{"$f":"J36","v":0},null,{"$f":"L36","v":0},null,null,null,null,{"$f":"Q36","v":0}]
[null,{"$f":"B37","v":57},null,null,null,null,null,null,null,null,null,null,null,null,null,null,null,null,null,null,null,{"$f":"V37","v":"00:00:00"},null,null,null,null,{"$f":"AA37","v":0},null,null,null,null,"現","帳"]
[null,null,null,{"$f":"D38","v":"京都"},null,{"$f":"F38","v":0},null,null,null,{"$f":"J38","v":0},null,{"$f":"L38","v":0},null,null,null,null,{"$f":"Q38","v":0}]
[null,{"$f":"B39","v":58},null,null,null,null,null,null,null,null,null,null,null,null,null,null,null,null,null,null,null,{"$f":"V39","v":"00:00:00"},null,null,null,null,{"$f":"AA39","v":0},null,null,null,null,"現","帳"]
[null,null,null,{"$f":"D40","v":"京都"},null,{"$f":"F40","v":0},null,null,null,{"$f":"J40","v":0},null,{"$f":"L40","v":0},null,null,null,null,{"$f":"Q40","v":0}]
[null,{"$f":"B41","v":59},null,null,null,null,null,null,null,null,null,null,null,null,null,null,null,null,null,null,null,{"$f":"V41","v":"00:00:00"},null,null,null,null,{"$f":"AA41","v":0},null,null,null,null,"現","帳"]
[null,null,null,{"$f":"D42","v":"京都"},null,{"$f":"F42","v":0},null,null,null,{"$f":"J42","v":0},null,{"$f":"L42","v":0},null,null,null,null,{"$f":"Q42","v":0}]
[null,{"$f":"B43","v":60},null,null,null,null,null,null,null,null,null,null,null,null,null,null,null,null,null,null,null,{"$f":"V43","v":"00:00:00"},null,null,null,null,{"$f":"AA43","v":0},null,null,null,null,"現","帳"]
[null,null,null,{"$f":"D44","v":"京都"},null,{"$f":"F44","v":0},null,null,null,{"$f":"J44","v":0},null,{"$f":"L44","v":0},null,null,null,null,{"$f":"Q44","v":0}]
[]
[null,null,null,null,null,null,null,null,null,null,null,null,null,null,null,null,null,"誓約事項"]
[null,null,null,null,null,null,null,null,null,null,null,null,null,null,null,null,null,null,null,"申請する自動車には、取得時の登録事由が新規登"]
[null,null,null,null,null,null,null,null,null,null,null,null,null,null,null,null,null,null,null,"録（新車・中古車とも）のものを含みません。"]
[]
[null,null,null,null,null,null,null,null,null,null,null,null,null,null,null,null,null,null,null,null,null,"担当者署名欄"]

{"sheet":"5枚目","index":5,"n_rows":155,"n_cols":49,"rows_kept":155,"cut":false,"hidden":false,"merged":[[6,1,9,16],[6,19,6,23],[6,24,6,37],[7,19,7,23],[7,24,7,37],[8,19,8,23],[1,0,1,37],[1,48,2,51],[2,20,2,31],[2,32,2,36],[4,18,4,19],[4,20,4,21],[4,23,4,24],[4,26,4,27],[8,24,8,37],[9,19,9,23],[9,24,9,37],[10,19,10,25],[10,27,10,35],[10,36,10,37],[5,17,10,17],[5,18,10,18],[5,19,5,23],[5,24,5,37],[12,33,13,36],[13,3,13,4],[13,5,13,8],[13,9,13,10],[13,11,13,15],[13,16,13,20],[13,29,13,30],[13,31,13,32],[12,1,13,2],[12,3,12,15],[12,16,12,20],[12,21,13,25],[12,26,13,28],[12,29,12,32],[14,21,15,25],[14,26,15,28],[14,29,15,30],[14,31,15,31],[14,32,15,32],[14,33,15,36],[14,1,15,2],[14,3,14,4],[14,5,14,8],[14,9,14,10],[14,11,14,15],[14,16,14,20],[15,3,15,4],[15,5,15,8],[15,9,15,10],[15,11,15,15],[15,16,15,20],[16,1,17,2],[16,3,16,4],[16,5,16,8],[16,9,16,10],[16,11,16,15],[16,16,16,20],[17,3,17,4],[17,5,17,8],[17,9,17,10],[18,21,19,25],[18,26,19,28],[18,29,19,30],[18,31,19,31],[18,32,19,32],[18,33,19,36],[17,11,17,15],[17,16,17,20],[18,1,19,2],[18,3,18,4],[18,5,18,8],[18,9,18,10],[18,11,18,15],[18,16,18,20],[19,3,19,4],[19,5,19,8],[16,21,17,25],[16,26,17,28],[16,29,17,30],[16,31,17,31],[16,32,17,32],[16,33,17,36],[19,9,19,10],[19,11,19,15],[19,16,19,20],[20,1,21,2],[20,3,20,4],[20,5,20,8],[20,9,20,10],[20,11,20,15],[20,16,20,20],[21,3,21,4],[22,21,23,25],[22,26,23,28],[22,29,23,30],[22,31,23,31],[22,32,23,32],[22,33,23,36],[21,5,21,8],[21,9,21,10],[21,11,21,15],[21,16,21,20],[22,5,22,8],[22,9,22,10],[22,11,22,15],[22,16,22,20],[20,21,21,25],[20,26,21,28],[20,29,21,30],[20,31,21,31],[20,32,21,32],[20,33,21,36],[23,3,23,4],[23,5,23,8],[23,9,23,10],[23,11,23,15],[23,16,23,20],[24,1,25,2],[24,3,24,4],[24,5,24,8],[24,9,24,10],[24,11,24,15],[22,1,23,2],[22,3,22,4],[24,33,25,36],[25,3,25,4],[25,5,25,8],[25,9,25,10],[25,11,25,15],[25,16,25,20],[24,16,24,20],[24,21,25,25],[24,26,25,28],[24,29,25,30],[24,31,25,31],[24,32,25,32],[26,21,27,25],[26,26,27,28],[26,29,27,30],[26,31,27,31],[26,32,27,32],[26,33,27,36],[26,1,27,2],[26,3,26,4],[26,5,26,8],[26,9,26,10],[26,11,26,15],[26,16,26,20],[27,3,27,4],[27,5,27,8],[27,9,27,10],[27,11,27,15],[27,16,27,20],[28,1,29,2],[28,3,28,4],[28,5,28,8],[28,9,28,10],[28,11,28,15],[28,16,28,20],[29,3,29,4],[29,5,29,8],[29,9,29,10],[30,21,31,25],[30,26,31,28],[30,29,31,30],[30,31,31,31],[30,32,31,32],[30,33,31,36],[29,11,29,15],[29,16,29,20],[30,1,31,2],[30,3,30,4],[30,5,30,8],[30,9,30,10],[30,11,30,15],[30,16,30,20],[31,3,31,4],[31,5,31,8],[28,21,29,25],[28,26,29,28],[28,29,29,30],[28,31,29,31],[28,32,29,32],[28,33,29,36],[31,9,31,10],[31,11,31,15],[31,16,31,20],[32,1,33,2],[32,3,32,4],[32,5,32,8],[32,9,32,10],[32,11,32,15],[32,16,32,20],[33,3,33,4],[34,21,35,25],[34,26,35,28],[34,29,35,30],[34,31,35,31],[34,32,35,32],[34,33,35,36],[33,5,33,8],[33,9,33,10],[33,11,33,15],[33,16,33,20],[34,5,34,8],[34,9,34,10],[34,11,34,15],[34,16,34,20],[32,21,33,25],[32,26,33,28],[32,29,33,30],[32,31,33,31],[32,32,33,32],[32,33,33,36],[35,3,35,4],[35,5,35,8],[35,9,35,10],[35,11,35,15],[35,16,35,20],[36,1,37,2],[36,3,36,4],[36,5,36,8],[36,9,36,10],[36,11,36,15],[34,1,35,2],[34,3,34,4],[38,5,38,8],[38,9,38,10],[38,11,38,15],[38,16,38,20],[39,3,39,4],[39,5,39,8],[39,9,39,10],[39,11,39,15],[36,33,37,36],[37,3,37,4],[37,5,37,8],[37,9,37,10],[37,11,37,15],[37,16,37,20],[36,16,36,20],[36,21,37,25],[36,26,37,28],[36,29,37,30],[36,31,37,31],[36,32,37,32],[40,21,41,25],[40,26,41,28],[40,29,41,30],[40,31,41,31],[40,32,41,32],[40,33,41,36],[39,16,39,20],[40,1,41,2],[40,3,40,4],[40,5,40,8],[40,9,40,10],[40,11,40,15],[40,16,40,20],[41,3,41,4],[41,5,41,8],[41,9,41,10],[38,21,39,25],[38,26,39,28],[38,29,39,30],[38,31,39,31],[38,32,39,32],[38,33,39,36],[38,1,39,2],[38,3,38,4],[41,11,41,15],[41,16,41,20],[42,1,43,2],[42,3,42,4],[42,5,42,8],[42,9,42,10],[42,11,42,15],[42,16,42,20],[43,3,43,4],[43,5,43,8],[43,9,43,10],[43,11,43,15],[43,16,43,20],[45,17,49,18],[46,19,46,36],[47,19,47,36],[42,21,43,25],[42,26,43,28],[42,29,43,30],[42,31,43,31],[42,32,43,32],[42,33,43,36],[56,1,59,16],[56,19,56,23],[56,24,56,37],[57,19,57,23],[57,24,57,37],[58,19,58,23],[51,0,51,37],[52,20,52,31],[52,32,52,36],[54,18,54,19],[54,20,54,21],[54,23,54,24],[54,26,54,27],[58,24,58,37],[59,19,59,23],[59,24,59,37],[60,19,60,25],[60,27,60,35],[60,36,60,37],[55,17,60,17],[55,18,60,18],[55,19,55,23],[55,24,55,37],[62,1,62,20],[62,21,62,36],[63,1,64,2],[63,3,63,15],[63,16,63,20],[63,21,64,36],[64,3,64,4],[64,5,64,8],[64,9,64,10],[64,11,64,15],[65,21,66,36],[66,3,66,4],[66,5,66,8],[66,9,66,10],[66,11,66,15],[66,16,66,20],[64,16,64,20],[65,1,66,2],[65,3,65,4],[65,5,65,8],[65,9,65,10],[65,11,65,15],[65,16,65,20],[67,21,68,36],[68,3,68,4],[68,5,68,8],[68,9,68,10],[68,11,68,15],[68,16,68,20],[67,1,68,2],[67,3,67,4],[67,5,67,8],[67,9,67,10],[67,11,67,15],[67,16,67,20],[69,21,70,36],[70,3,70,4],[70,5,70,8],[70,9,70,10],[70,11,70,15],[70,16,70,20],[69,1,70,2],[69,3,69,4],[69,5,69,8],[69,9,69,10],[69,11,69,15],[69,16,69,20],[71,21,72,36],[72,3,72,4],[72,5,72,8],[72,9,72,10],[72,11,72,15],[72,16,72,20],[71,1,72,2],[71,3,71,4],[71,5,71,8],[71,9,71,10],[71,11,71,15],[71,16,71,20],[73,21,74,36],[74,3,74,4],[74,5,74,8],[74,9,74,10],[74,11,74,15],[74,16,74,20],[73,1,74,2],[73,3,73,4],[73,5,73,8],[73,9,73,10],[73,11,73,15],[73,16,73,20],[75,21,76,36],[76,3,76,4],[76,5,76,8],[76,9,76,10],[76,11,76,15],[76,16,76,20],[75,1,76,2],[75,3,75,4],[75,5,75,8],[75,9,75,10],[75,11,75,15],[75,16,75,20],[77,21,78,36],[78,3,78,4],[78,5,78,8],[78,9,78,10],[78,11,78,15],[78,16,78,20],[77,1,78,2],[77,3,77,4],[77,5,77,8],[77,9,77,10],[77,11,77,15],[77,16,77,20],[79,21,80,36],[80,3,80,4],[80,5,80,8],[80,9,80,10],[80,11,80,15],[80,16,80,20],[79,1,80,2],[79,3,79,4],[79,5,79,8],[79,9,79,10],[79,11,79,15],[79,16,79,20],[81,21,82,36],[82,3,82,4],[82,5,82,8],[82,9,82,10],[82,11,82,15],[82,16,82,20],[81,1,82,2],[81,3,81,4],[81,5,81,8],[81,9,81,10],[81,11,81,15],[81,16,81,20],[83,21,84,36],[84,3,84,4],[84,5,84,8],[84,9,84,10],[84,11,84,15],[84,16,84,20],[83,1,84,2],[83,3,83,4],[83,5,83,8],[83,9,83,10],[83,11,83,15],[83,16,83,20],[85,21,86,36],[86,3,86,4],[86,5,86,8],[86,9,86,10],[86,11,86,15],[86,16,86,20],[85,1,86,2],[85,3,85,4],[85,5,85,8],[85,9,85,10],[85,11,85,15],[85,16,85,20],[87,21,88,36],[88,3,88,4],[88,5,88,8],[88,9,88,10],[88,11,88,15],[88,16,88,20],[87,1,88,2],[87,3,87,4],[87,5,87,8],[87,9,87,10],[87,11,87,15],[87,16,87,20],[89,21,90,36],[90,3,90,4],[90,5,90,8],[90,9,90,10],[90,11,90,15],[90,16,90,20],[89,1,90,2],[89,3,89,4],[89,5,89,8],[89,9,89,10],[89,11,89,15],[89,16,89,20],[91,21,92,36],[92,3,92,4],[92,5,92,8],[92,9,92,10],[92,11,92,15],[92,16,92,20],[91,1,92,2],[91,3,91,4],[91,5,91,8],[91,9,91,10],[91,11,91,15],[91,16,91,20],[96,19,96,36],[100,18,100,21],[102,18,102,21],[104,18,104,21],[106,0,106,37],[107,20,107,31],[107,32,107,36],[93,21,94,36],[94,3,94,4],[94,5,94,8],[94,9,94,10],[94,11,94,15],[94,16,94,20],[93,1,94,2],[93,3,93,4],[93,5,93,8],[93,9,93,10],[93,11,93,15],[93,16,93,20],[109,18,109,19],[109,20,109,21],[109,23,109,24],[109,26,109,27],[110,17,115,17],[110,18,115,18],[110,19,110,23],[110,24,110,37],[115,19,115,25],[115,27,115,35],[111,1,114,16],[111,19,111,23],[111,24,111,37],[112,19,112,23],[112,24,112,37],[113,19,113,23],[113,24,113,37],[114,19,114,23],[114,24,114,37],[115,36,115,37],[117,1,118,2],[117,3,117,15],[117,16,117,20],[117,21,118,25],[117,26,118,28],[117,29,117,32],[117,33,118,36],[118,3,118,4],[118,5,118,8],[118,9,118,10],[118,11,118,15],[118,16,118,20],[118,29,118,30],[118,31,118,32],[119,1,120,2],[119,3,119,4],[119,5,119,8],[119,9,119,10],[119,11,119,15],[119,33,120,36],[120,3,120,4],[120,5,120,8],[120,9,120,10],[120,11,120,15],[120,16,120,20],[119,16,119,20],[119,21,120,25],[119,26,120,28],[119,29,120,30],[119,31,120,31],[119,32,120,32],[121,21,122,25],[121,26,122,28],[121,29,122,30],[121,31,122,31],[121,32,122,32],[121,33,122,36],[121,1,122,2],[121,3,121,4],[121,5,121,8],[121,9,121,10],[121,11,121,15],[121,16,121,20],[122,3,122,4],[122,5,122,8],[122,9,122,10],[122,11,122,15],[122,16,122,20],[123,1,124,2],[123,3,123,4],[123,5,123,8],[123,9,123,10],[123,11,123,15],[123,16,123,20],[124,3,124,4],[124,5,124,8],[124,9,124,10],[125,21,126,25],[125,26,126,28],[125,29,126,30],[125,31,126,31],[125,32,126,32],[125,33,126,36],[124,11,124,15],[124,16,124,20],[125,1,126,2],[125,3,125,4],[125,5,125,8],[125,9,125,10],[125,11,125,15],[125,16,125,20],[126,3,126,4],[126,5,126,8],[123,21,124,25],[123,26,124,28],[123,29,124,30],[123,31,124,31],[123,32,124,32],[123,33,124,36],[126,9,126,10],[126,11,126,15],[126,16,126,20],[127,1,128,2],[127,3,127,4],[127,5,127,8],[127,9,127,10],[127,11,127,15],[127,16,127,20],[128,3,128,4],[129,21,130,25],[129,26,130,28],[129,29,130,30],[129,31,130,31],[129,32,130,32],[129,33,130,36],[128,5,128,8],[128,9,128,10],[128,11,128,15],[128,16,128,20],[129,5,129,8],[129,9,129,10],[129,11,129,15],[129,16,129,20],[127,21,128,25],[127,26,128,28],[127,29,128,30],[127,31,128,31],[127,32,128,32],[127,33,128,36],[130,3,130,4],[130,5,130,8],[130,9,130,10],[130,11,130,15],[130,16,130,20],[131,1,132,2],[131,3,131,4],[131,5,131,8],[131,9,131,10],[131,11,131,15],[129,1,130,2],[129,3,129,4],[131,33,132,36],[132,3,132,4],[132,5,132,8],[132,9,132,10],[132,11,132,15],[132,16,132,20],[131,16,131,20],[131,21,132,25],[131,26,132,28],[131,29,132,30],[131,31,132,31],[131,32,132,32],[133,21,134,25],[133,26,134,28],[133,29,134,30],[133,31,134,31],[133,32,134,32],[133,33,134,36],[133,1,134,2],[133,3,133,4],[133,5,133,8],[133,9,133,10],[133,11,133,15],[133,16,133,20],[134,3,134,4],[134,5,134,8],[134,9,134,10],[134,11,134,15],[134,16,134,20],[135,1,136,2],[135,3,135,4],[135,5,135,8],[135,9,135,10],[135,11,135,15],[135,16,135,20],[136,3,136,4],[136,5,136,8],[136,9,136,10],[137,21,138,25],[137,26,138,28],[137,29,138,30],[137,31,138,31],[137,32,138,32],[137,33,138,36],[136,11,136,15],[136,16,136,20],[137,1,138,2],[137,3,137,4],[137,5,137,8],[137,9,137,10],[137,11,137,15],[137,16,137,20],[138,3,138,4],[138,5,138,8],[135,21,136,25],[135,26,136,28],[135,29,136,30],[135,31,136,31],[135,32,136,32],[135,33,136,36],[138,9,138,10],[138,11,138,15],[138,16,138,20],[139,1,140,2],[139,3,139,4],[139,5,139,8],[139,9,139,10],[139,11,139,15],[139,16,139,20],[140,3,140,4],[141,21,142,25],[141,26,142,28],[141,29,142,30],[141,31,142,31],[141,32,142,32],[141,33,142,36],[140,5,140,8],[140,9,140,10],[140,11,140,15],[140,16,140,20],[141,5,141,8],[141,9,141,10],[141,11,141,15],[141,16,141,20],[139,21,140,25],[139,26,140,28],[139,29,140,30],[139,31,140,31],[139,32,140,32],[139,33,140,36],[142,3,142,4],[142,5,142,8],[142,9,142,10],[142,11,142,15],[142,16,142,20],[143,1,144,2],[143,3,143,4],[143,5,143,8],[143,9,143,10],[143,11,143,15],[141,1,142,2],[141,3,141,4],[143,33,144,36],[144,3,144,4],[144,5,144,8],[144,9,144,10],[144,11,144,15],[144,16,144,20],[143,16,143,20],[143,21,144,25],[143,26,144,28],[143,29,144,30],[143,31,144,31],[143,32,144,32],[145,21,146,25],[145,26,146,28],[145,29,146,30],[145,31,146,31],[145,32,146,32],[145,33,146,36],[145,1,146,2],[145,3,145,4],[145,5,145,8],[145,9,145,10],[145,11,145,15],[145,16,145,20],[146,3,146,4],[146,5,146,8],[146,9,146,10],[146,11,146,15],[146,16,146,20],[147,1,148,2],[147,3,147,4],[147,5,147,8],[147,9,147,10],[147,11,147,15],[147,16,147,20],[148,3,148,4],[148,5,148,8],[148,9,148,10],[148,11,148,15],[148,16,148,20],[150,17,154,18],[151,19,151,36],[152,19,152,36],[147,21,148,25],[147,26,148,28],[147,29,148,30],[147,31,148,31],[147,32,148,32],[147,33,148,36]]}
["様式1-(1)",null,null,null,null,null,null,null,null,null,null,null,null,null,null,null,null,null,null,null,null,null,null,null,null,null,null,null,null,null,null,"(査定協会提出用)"]
["商品中古自動車証明申請書",null,null,null,null,null,null,null,null,null,null,null,null,null,null,null,null,null,null,null,null,null,null,null,null,null,null,null,null,null,null,null,null,null,null,null,null,null,null,null,null,null,null,null,null,null,null,null,"記入箇所"]
[null,null,null,null,null,null,null,null,null,null,null,null,null,null,null,null,null,null,null,null,"（企業コード番号　　　　　　　　　　　　）",null,null,null,null,null,null,null,null,null,null,null,"（5枚目）"]
[]
[null,"一般財団法人　日本自動車査定協会",null,null,null,null,null,null,null,null,null,null,null,null,null,null,null,null,"令和",null,{"$f":"'1枚目'!U5","v":0},null,"年",{"$f":"'1枚目'!X5","v":0},null,"月",{"$f":"'1枚目'!AA5","v":0},null,"日"]
[null,"　　　　　　　　　　　　　　　京都府支所長　　様",null,null,null,null,null,null,null,null,null,null,null,null,null,null,null,"申請者","（登録名義人）","住所(所在地)",null,null,null,null,{"$f":"'1枚目'!Y6","v":0}]
[null,"　商品中古自動車確認証明業務実施要領に基づき下記の自動車が商品中古自動車であることの証明を申請します。\n　なお、下記の自動車が商品自動車であること及び記載事項に相違ないこと並びに現地調査が行われる場合には協力することを確約いたします。",null,null,null,null,null,null,null,null,null,null,null,null,null,null,null,null,null,"氏名(名称)",null,null,null,null,{"$f":"'1枚目'!Y7","v":0}]
[null,null,null,null,null,null,null,null,null,null,null,null,null,null,null,null,null,null,null,"代表者名",null,null,null,null,{"$f":"'1枚目'!Y8","v":0}]
[null,null,null,null,null,null,null,null,null,null,null,null,null,null,null,null,null,null,null,"電話番号",null,null,null,null,{"$f":"'1枚目'!Y9","v":0}]
[null,null,null,null,null,null,null,null,null,null,null,null,null,null,null,null,null,null,null,"担当者名",null,null,null,null,{"$f":"'1枚目'!Y10","v":0}]
[null,null,null,null,null,null,null,null,null,null,null,null,null,null,null,null,null,null,null,"古物商許可番号",null,null,null,null,null,null,"第",{"$f":"'1枚目'!AB11","v":0},null,null,null,null,null,null,null,null,"号"]
[]
[null,"NO.",null,"登録番号",null,null,null,null,null,null,null,null,null,null,null,null,"車台番号",null,null,null,null,"登録\n年月日",null,null,null,null,"展示場",null,null,"調査",null,null,null,"備考"]
[null,null,null,"区分",null,"車種",null,null,null,"かな",null,"番号",null,null,null,null,"(下3ｹﾀ)",null,null,null,null,null,null,null,null,null,null,null,null,"月日",null,"結果"]
[null,61,null,null,null,null,null,null,null,null,null,null,null,null,null,null,null,null,null,null,null,null,null,null,null,null,null,null,null,null,null,"現","帳"]
[null,null,null,"京都"]
[null,62,null,null,null,null,null,null,null,null,null,null,null,null,null,null,null,null,null,null,null,null,null,null,null,null,null,null,null,null,null,"現","帳"]
[null,null,null,"京都"]
[null,63,null,null,null,null,null,null,null,null,null,null,null,null,null,null,null,null,null,null,null,null,null,null,null,null,null,null,null,null,null,"現","帳"]
[null,null,null,"京都"]
[null,64,null,null,null,null,null,null,null,null,null,null,null,null,null,null,null,null,null,null,null,null,null,null,null,null,null,null,null,null,null,"現","帳"]
[null,null,null,"京都"]
[null,65,null,null,null,null,null,null,null,null,null,null,null,null,null,null,null,null,null,null,null,null,null,null,null,null,null,null,null,null,null,"現","帳"]
[null,null,null,"京都"]
[null,66,null,null,null,null,null,null,null,null,null,null,null,null,null,null,null,null,null,null,null,null,null,null,null,null,null,null,null,null,null,"現","帳"]
[null,null,null,"京都"]
[null,67,null,null,null,null,null,null,null,null,null,null,null,null,null,null,null,null,null,null,null,null,null,null,null,null,null,null,null,null,null,"現","帳"]
[null,null,null,"京都"]
[null,68,null,null,null,null,null,null,null,null,null,null,null,null,null,null,null,null,null,null,null,null,null,null,null,null,null,null,null,null,null,"現","帳"]
[null,null,null,"京都"]
[null,69,null,null,null,null,null,null,null,null,null,null,null,null,null,null,null,null,null,null,null,null,null,null,null,null,null,null,null,null,null,"現","帳"]
[null,null,null,"京都"]
[null,70,null,null,null,null,null,null,null,null,null,null,null,null,null,null,null,null,null,null,null,null,null,null,null,null,null,null,null,null,null,"現","帳"]
[null,null,null,"京都"]
[null,71,null,null,null,null,null,null,null,null,null,null,null,null,null,null,null,null,null,null,null,null,null,null,null,null,null,null,null,null,null,"現","帳"]
[null,null,null,"京都"]
[null,72,null,null,null,null,null,null,null,null,null,null,null,null,null,null,null,null,null,null,null,null,null,null,null,null,null,null,null,null,null,"現","帳"]
[null,null,null,"京都"]
[null,73,null,null,null,null,null,null,null,null,null,null,null,null,null,null,null,null,null,null,null,null,null,null,null,null,null,null,null,null,null,"現","帳"]
[null,null,null,"京都"]
[null,74,null,null,null,null,null,null,null,null,null,null,null,null,null,null,null,null,null,null,null,null,null,null,null,null,null,null,null,null,null,"現","帳"]
[null,null,null,"京都"]
[null,75,null,null,null,null,null,null,null,null,null,null,null,null,null,null,null,null,null,null,null,null,null,null,null,null,null,null,null,null,null,"現","帳"]
[null,null,null,"京都"]
[]
[null,null,null,null,null,null,null,null,null,null,null,null,null,null,null,null,null,"誓約事項"]
[null,null,null,null,null,null,null,null,null,null,null,null,null,null,null,null,null,null,null,"申請する自動車には、取得時の登録事由が新規登"]
[null,null,null,null,null,null,null,null,null,null,null,null,null,null,null,null,null,null,null,"録（新車・中古車とも）のものを含みません。"]
[]
[null,null,null,null,null,null,null,null,null,null,null,null,null,null,null,null,null,null,null,null,null,"担当者署名欄"]
["様式1-(2)",null,null,null,null,null,null,null,null,null,null,null,null,null,null,null,null,null,null,null,null,null,null,null,null,null,null,"(自動車税管理事務所提出用)"]
["商品中古自動車の自動車税の種別割減免申請書"]
[null,null,null,null,null,null,null,null,null,null,null,null,null,null,null,null,null,null,null,null,"（企業コード番号　　　　　　　　　　　　）",null,null,null,null,null,null,null,null,null,null,null,{"$f":"AG3","v":"（5枚目）"}]
[]
[null,"京都府自動車税管理事務所長　様",null,null,null,null,null,null,null,null,null,null,null,null,null,null,null,null,"令和",null,{"$f":"U5","v":0},null,"年",{"$f":"X5","v":0},null,"月",{"$f":"AA5","v":0},null,"日"]
[null,null,null,null,null,null,null,null,null,null,null,null,null,null,null,null,null,"申請者","（登録名義人）","住所(所在地)",null,null,null,null,{"$f":"Y6","v":0}]
[null,"　   京都府府税条例第70条第2項の規定に基づき、\n  下記のとおり申請します。",null,null,null,null,null,null,null,null,null,null,null,null,null,null,null,null,null,"氏名(名称)",null,null,null,null,{"$f":"Y7","v":0}]
[null,null,null,null,null,null,null,null,null,null,null,null,null,null,null,null,null,null,null,"代表者名",null,null,null,null,{"$f":"Y8","v":0}]
[null,null,null,null,null,null,null,null,null,null,null,null,null,null,null,null,null,null,null,"電話番号",null,null,null,null,{"$f":"Y9","v":0}]
[null,null,null,null,null,null,null,null,null,null,null,null,null,null,null,null,null,null,null,"担当者名",null,null,null,null,{"$f":"Y10","v":0}]
[null,null,null,null,null,null,null,null,null,null,null,null,null,null,null,null,null,null,null,"古物商許可番号",null,null,null,null,null,null,"第",{"$f":"AB11","v":0},null,null,null,null,null,null,null,null,"号"]
[]
[null,"減　免　対　象　自　動　車　の　総　台　数",null,null,null,null,null,null,null,null,null,null,null,null,null,null,null,null,null,null,null,"台"]
[null,"NO.",null,"登録番号",null,null,null,null,null,null,null,null,null,null,null,null,"車台番号",null,null,null,null,"備　　　　　考"]
[null,null,null,"区分",null,"車種",null,null,null,"かな",null,"番号",null,null,null,null,"(下3ｹﾀ)"]
[null,{"$f":"B15","v":61}]
[null,null,null,{"$f":"D16","v":"京都"},null,null,null,null,null,{"$f":"J16","v":0}]
[null,{"$f":"B17","v":62}]
[null,null,null,{"$f":"D18","v":"京都"},null,{"$f":"F18","v":0},null,null,null,{"$f":"J18","v":0},null,{"$f":"L18","v":0},null,null,null,null,{"$f":"Q18","v":0}]
[null,{"$f":"B19","v":63}]
[null,null,null,{"$f":"D20","v":"京都"},null,{"$f":"F20","v":0},null,null,null,{"$f":"J20","v":0},null,{"$f":"L20","v":0},null,null,null,null,{"$f":"Q20","v":0}]
[null,{"$f":"B21","v":64}]
[null,null,null,{"$f":"D22","v":"京都"},null,{"$f":"F22","v":0},null,null,null,{"$f":"J22","v":0},null,{"$f":"L22","v":0},null,null,null,null,{"$f":"Q22","v":0}]
[null,{"$f":"B23","v":65}]
[null,null,null,{"$f":"D24","v":"京都"},null,{"$f":"F24","v":0},null,null,null,{"$f":"J24","v":0},null,{"$f":"L24","v":0},null,null,null,null,{"$f":"Q24","v":0}]
[null,{"$f":"B25","v":66}]
[null,null,null,{"$f":"D26","v":"京都"},null,{"$f":"F26","v":0},null,null,null,{"$f":"J26","v":0},null,{"$f":"L26","v":0},null,null,null,null,{"$f":"Q26","v":0}]
[null,{"$f":"B27","v":67}]
[null,null,null,{"$f":"D28","v":"京都"},null,{"$f":"F28","v":0},null,null,null,{"$f":"J28","v":0},null,{"$f":"L28","v":0},null,null,null,null,{"$f":"Q28","v":0}]
[null,{"$f":"B29","v":68}]
[null,null,null,{"$f":"D30","v":"京都"},null,{"$f":"F30","v":0},null,null,null,{"$f":"J30","v":0},null,{"$f":"L30","v":0},null,null,null,null,{"$f":"Q30","v":0}]
[null,{"$f":"B31","v":69}]
[null,null,null,{"$f":"D32","v":"京都"},null,{"$f":"F32","v":0},null,null,null,{"$f":"J32","v":0},null,{"$f":"L32","v":0},null,null,null,null,{"$f":"Q32","v":0}]
[null,{"$f":"B33","v":70}]
[null,null,null,{"$f":"D34","v":"京都"},null,{"$f":"F34","v":0},null,null,null,{"$f":"J34","v":0},null,{"$f":"L34","v":0},null,null,null,null,{"$f":"Q34","v":0}]
[null,{"$f":"B35","v":71}]
[null,null,null,{"$f":"D36","v":"京都"},null,{"$f":"F36","v":0},null,null,null,{"$f":"J36","v":0},null,{"$f":"L36","v":0},null,null,null,null,{"$f":"Q36","v":0}]
[null,{"$f":"B37","v":72}]
[null,null,null,{"$f":"D38","v":"京都"},null,{"$f":"F38","v":0},null,null,null,{"$f":"J38","v":0},null,{"$f":"L38","v":0},null,null,null,null,{"$f":"Q38","v":0}]
[null,{"$f":"B39","v":73}]
[null,null,null,{"$f":"D40","v":"京都"},null,{"$f":"F40","v":0},null,null,null,{"$f":"J40","v":0},null,{"$f":"L40","v":0},null,null,null,null,{"$f":"Q40","v":0}]
[null,{"$f":"B41","v":74}]
[null,null,null,{"$f":"D42","v":"京都"},null,{"$f":"F42","v":0},null,null,null,{"$f":"J42","v":0},null,{"$f":"L42","v":0},null,null,null,null,{"$f":"Q42","v":0}]
[null,{"$f":"B43","v":75}]
[null,null,null,{"$f":"D44","v":"京都"},null,{"$f":"F44","v":0},null,null,null,{"$f":"J44","v":0},null,{"$f":"L44","v":0},null,null,null,null,{"$f":"Q44","v":0}]
[]
[null,null,null,null,null,null,null,null,null,null,null,null,null,null,null,null,null,null,null,"　上記は、商品中古自動車確認証明業務実施要領\nに定める商品中古自動車であることを証明する。"]
[]
[null,null,null,null,null,null,null,null,null,null,null,null,null,null,null,null,null,null,null,null,"令和　　　年　　　月　　　日"]
[]
[null,null,null,null,null,null,null,null,null,null,null,null,null,null,null,null,null,null,"住　　所"]
[]
[null,null,null,null,null,null,null,null,null,null,null,null,null,null,null,null,null,null,"支 所 名"]
[]
[null,null,null,null,null,null,null,null,null,null,null,null,null,null,null,null,null,null,"代表者名",null,null,null,null,null,null,null,null,null,null,null,null,null,null,null,null,null,"㊞"]
["様式1-(3)",null,null,null,null,null,null,null,null,null,null,null,null,null,null,null,null,null,null,null,null,null,null,null,null,null,null,null,null,null,null,null,null,"(申請者控)"]
["商品中古自動車証明申請書"]
[null,null,null,null,null,null,null,null,null,null,null,null,null,null,null,null,null,null,null,null,"（企業コード番号　　　　　　　　　　　　）",null,null,null,null,null,null,null,null,null,null,null,{"$f":"AG3","v":"（5枚目）"}]
[]
[null,"一般財団法人　日本自動車査定協会",null,null,null,null,null,null,null,null,null,null,null,null,null,null,null,null,"令和",null,{"$f":"U5","v":0},null,"年",{"$f":"X5","v":0},null,"月",{"$f":"AA5","v":0},null,"日"]
[null,"　　　　　　　　　　　　　　　京都府支所長　　様",null,null,null,null,null,null,null,null,null,null,null,null,null,null,null,"申請者","（登録名義人）","住所(所在地)",null,null,null,null,{"$f":"Y6","v":0}]
[null,"　商品中古自動車確認証明業務実施要領に基づき下記の自動車が商品中古自動車であることの証明を申請します。\n　なお、下記の自動車が商品自動車であること及び記載事項に相違ないこと並びに現地調査が行われる場合には協力することを確約いたします。",null,null,null,null,null,null,null,null,null,null,null,null,null,null,null,null,null,"氏名(名称)",null,null,null,null,{"$f":"Y7","v":0}]
[null,null,null,null,null,null,null,null,null,null,null,null,null,null,null,null,null,null,null,"代表者名",null,null,null,null,{"$f":"Y8","v":0}]
[null,null,null,null,null,null,null,null,null,null,null,null,null,null,null,null,null,null,null,"電話番号",null,null,null,null,{"$f":"Y9","v":0}]
[null,null,null,null,null,null,null,null,null,null,null,null,null,null,null,null,null,null,null,"担当者名",null,null,null,null,{"$f":"Y10","v":0}]
[null,null,null,null,null,null,null,null,null,null,null,null,null,null,null,null,null,null,null,"古物商許可番号",null,null,null,null,null,null,"第",{"$f":"AB11","v":0},null,null,null,null,null,null,null,null,"号"]
[]
[null,"NO.",null,"登録番号",null,null,null,null,null,null,null,null,null,null,null,null,"車台番号",null,null,null,null,"登録\n年月日",null,null,null,null,"展示場",null,null,"調査",null,null,null,"備考"]
[null,null,null,"区分",null,"車種",null,null,null,"かな",null,"番号",null,null,null,null,"(下3ｹﾀ)",null,null,null,null,null,null,null,null,null,null,null,null,"月日",null,"結果"]
[null,{"$f":"B15","v":61},null,null,null,null,null,null,null,null,null,null,null,null,null,null,null,null,null,null,null,{"$f":"V15","v":"00:00:00"},null,null,null,null,{"$f":"AA15","v":0},null,null,null,null,"現","帳"]
[null,null,null,{"$f":"D16","v":"京都"},null,{"$f":"F16","v":0},null,null,null,{"$f":"J16","v":0},null,{"$f":"L16","v":0},null,null,null,null,{"$f":"Q16","v":0}]
[null,{"$f":"B17","v":62},null,null,null,null,null,null,null,null,null,null,null,null,null,null,null,null,null,null,null,{"$f":"V17","v":"00:00:00"},null,null,null,null,{"$f":"AA17","v":0},null,null,null,null,"現","帳"]
[null,null,null,{"$f":"D18","v":"京都"},null,{"$f":"F18","v":0},null,null,null,{"$f":"J18","v":0},null,{"$f":"L18","v":0},null,null,null,null,{"$f":"Q18","v":0}]
[null,{"$f":"B19","v":63},null,null,null,null,null,null,null,null,null,null,null,null,null,null,null,null,null,null,null,{"$f":"V19","v":"00:00:00"},null,null,null,null,{"$f":"AA19","v":0},null,null,null,null,"現","帳"]
[null,null,null,{"$f":"D20","v":"京都"},null,{"$f":"F20","v":0},null,null,null,{"$f":"J20","v":0},null,{"$f":"L20","v":0},null,null,null,null,{"$f":"Q20","v":0}]
[null,{"$f":"B21","v":64},null,null,null,null,null,null,null,null,null,null,null,null,null,null,null,null,null,null,null,{"$f":"V21","v":"00:00:00"},null,null,null,null,{"$f":"AA21","v":0},null,null,null,null,"現","帳"]
[null,null,null,{"$f":"D22","v":"京都"},null,{"$f":"F22","v":0},null,null,null,{"$f":"J22","v":0},null,{"$f":"L22","v":0},null,null,null,null,{"$f":"Q22","v":0}]
[null,{"$f":"B23","v":65},null,null,null,null,null,null,null,null,null,null,null,null,null,null,null,null,null,null,null,{"$f":"V23","v":"00:00:00"},null,null,null,null,{"$f":"AA23","v":0},null,null,null,null,"現","帳"]
[null,null,null,{"$f":"D24","v":"京都"},null,{"$f":"F24","v":0},null,null,null,{"$f":"J24","v":0},null,{"$f":"L24","v":0},null,null,null,null,{"$f":"Q24","v":0}]
[null,{"$f":"B25","v":66},null,null,null,null,null,null,null,null,null,null,null,null,null,null,null,null,null,null,null,{"$f":"V25","v":"00:00:00"},null,null,null,null,{"$f":"AA25","v":0},null,null,null,null,"現","帳"]
[null,null,null,{"$f":"D26","v":"京都"},null,{"$f":"F26","v":0},null,null,null,{"$f":"J26","v":0},null,{"$f":"L26","v":0},null,null,null,null,{"$f":"Q26","v":0}]
[null,{"$f":"B27","v":67},null,null,null,null,null,null,null,null,null,null,null,null,null,null,null,null,null,null,null,{"$f":"V27","v":"00:00:00"},null,null,null,null,{"$f":"AA27","v":0},null,null,null,null,"現","帳"]
[null,null,null,{"$f":"D28","v":"京都"},null,{"$f":"F28","v":0},null,null,null,{"$f":"J28","v":0},null,{"$f":"L28","v":0},null,null,null,null,{"$f":"Q28","v":0}]
[null,{"$f":"B29","v":68},null,null,null,null,null,null,null,null,null,null,null,null,null,null,null,null,null,null,null,{"$f":"V29","v":"00:00:00"},null,null,null,null,{"$f":"AA29","v":0},null,null,null,null,"現","帳"]
[null,null,null,{"$f":"D30","v":"京都"},null,{"$f":"F30","v":0},null,null,null,{"$f":"J30","v":0},null,{"$f":"L30","v":0},null,null,null,null,{"$f":"Q30","v":0}]
[null,{"$f":"B31","v":69},null,null,null,null,null,null,null,null,null,null,null,null,null,null,null,null,null,null,null,{"$f":"V31","v":"00:00:00"},null,null,null,null,{"$f":"AA31","v":0},null,null,null,null,"現","帳"]
[null,null,null,{"$f":"D32","v":"京都"},null,{"$f":"F32","v":0},null,null,null,{"$f":"J32","v":0},null,{"$f":"L32","v":0},null,null,null,null,{"$f":"Q32","v":0}]
[null,{"$f":"B33","v":70},null,null,null,null,null,null,null,null,null,null,null,null,null,null,null,null,null,null,null,{"$f":"V33","v":"00:00:00"},null,null,null,null,{"$f":"AA33","v":0},null,null,null,null,"現","帳"]
[null,null,null,{"$f":"D34","v":"京都"},null,{"$f":"F34","v":0},null,null,null,{"$f":"J34","v":0},null,{"$f":"L34","v":0},null,null,null,null,{"$f":"Q34","v":0}]
[null,{"$f":"B35","v":71},null,null,null,null,null,null,null,null,null,null,null,null,null,null,null,null,null,null,null,{"$f":"V35","v":"00:00:00"},null,null,null,null,{"$f":"AA35","v":0},null,null,null,null,"現","帳"]
[null,null,null,{"$f":"D36","v":"京都"},null,{"$f":"F36","v":0},null,null,null,{"$f":"J36","v":0},null,{"$f":"L36","v":0},null,null,null,null,{"$f":"Q36","v":0}]
[null,{"$f":"B37","v":72},null,null,null,null,null,null,null,null,null,null,null,null,null,null,null,null,null,null,null,{"$f":"V37","v":"00:00:00"},null,null,null,null,{"$f":"AA37","v":0},null,null,null,null,"現","帳"]
[null,null,null,{"$f":"D38","v":"京都"},null,{"$f":"F38","v":0},null,null,null,{"$f":"J38","v":0},null,{"$f":"L38","v":0},null,null,null,null,{"$f":"Q38","v":0}]
[null,{"$f":"B39","v":73},null,null,null,null,null,null,null,null,null,null,null,null,null,null,null,null,null,null,null,{"$f":"V39","v":"00:00:00"},null,null,null,null,{"$f":"AA39","v":0},null,null,null,null,"現","帳"]
[null,null,null,{"$f":"D40","v":"京都"},null,{"$f":"F40","v":0},null,null,null,{"$f":"J40","v":0},null,{"$f":"L40","v":0},null,null,null,null,{"$f":"Q40","v":0}]
[null,{"$f":"B41","v":74},null,null,null,null,null,null,null,null,null,null,null,null,null,null,null,null,null,null,null,{"$f":"V41","v":"00:00:00"},null,null,null,null,{"$f":"AA41","v":0},null,null,null,null,"現","帳"]
[null,null,null,{"$f":"D42","v":"京都"},null,{"$f":"F42","v":0},null,null,null,{"$f":"J42","v":0},null,{"$f":"L42","v":0},null,null,null,null,{"$f":"Q42","v":0}]
[null,{"$f":"B43","v":75},null,null,null,null,null,null,null,null,null,null,null,null,null,null,null,null,null,null,null,{"$f":"V43","v":"00:00:00"},null,null,null,null,{"$f":"AA43","v":0},null,null,null,null,"現","帳"]
[null,null,null,{"$f":"D44","v":"京都"},null,{"$f":"F44","v":0},null,null,null,{"$f":"J44","v":0},null,{"$f":"L44","v":0},null,null,null,null,{"$f":"Q44","v":0}]
[]
[null,null,null,null,null,null,null,null,null,null,null,null,null,null,null,null,null,"誓約事項"]
[null,null,null,null,null,null,null,null,null,null,null,null,null,null,null,null,null,null,null,"申請する自動車には、取得時の登録事由が新規登"]
[null,null,null,null,null,null,null,null,null,null,null,null,null,null,null,null,null,null,null,"録（新車・中古車とも）のものを含みません。"]
[]
[null,null,null,null,null,null,null,null,null,null,null,null,null,null,null,null,null,null,null,null,null,"担当者署名欄"]

{"sheet":"6枚目","index":6,"n_rows":155,"n_cols":49,"rows_kept":155,"cut":false,"hidden":false,"merged":[[6,1,9,16],[6,19,6,23],[6,24,6,37],[7,19,7,23],[7,24,7,37],[8,19,8,23],[1,0,1,37],[1,48,2,51],[2,20,2,31],[2,32,2,36],[4,18,4,19],[4,20,4,21],[4,23,4,24],[4,26,4,27],[8,24,8,37],[9,19,9,23],[9,24,9,37],[10,19,10,25],[10,27,10,35],[10,36,10,37],[5,17,10,17],[5,18,10,18],[5,19,5,23],[5,24,5,37],[12,33,13,36],[13,3,13,4],[13,5,13,8],[13,9,13,10],[13,11,13,15],[13,16,13,20],[13,29,13,30],[13,31,13,32],[12,1,13,2],[12,3,12,15],[12,16,12,20],[12,21,13,25],[12,26,13,28],[12,29,12,32],[14,21,15,25],[14,26,15,28],[14,29,15,30],[14,31,15,31],[14,32,15,32],[14,33,15,36],[14,1,15,2],[14,3,14,4],[14,5,14,8],[14,9,14,10],[14,11,14,15],[14,16,14,20],[15,3,15,4],[15,5,15,8],[15,9,15,10],[15,11,15,15],[15,16,15,20],[16,1,17,2],[16,3,16,4],[16,5,16,8],[16,9,16,10],[16,11,16,15],[16,16,16,20],[17,3,17,4],[17,5,17,8],[17,9,17,10],[18,21,19,25],[18,26,19,28],[18,29,19,30],[18,31,19,31],[18,32,19,32],[18,33,19,36],[17,11,17,15],[17,16,17,20],[18,1,19,2],[18,3,18,4],[18,5,18,8],[18,9,18,10],[18,11,18,15],[18,16,18,20],[19,3,19,4],[19,5,19,8],[16,21,17,25],[16,26,17,28],[16,29,17,30],[16,31,17,31],[16,32,17,32],[16,33,17,36],[19,9,19,10],[19,11,19,15],[19,16,19,20],[20,1,21,2],[20,3,20,4],[20,5,20,8],[20,9,20,10],[20,11,20,15],[20,16,20,20],[21,3,21,4],[22,21,23,25],[22,26,23,28],[22,29,23,30],[22,31,23,31],[22,32,23,32],[22,33,23,36],[21,5,21,8],[21,9,21,10],[21,11,21,15],[21,16,21,20],[22,5,22,8],[22,9,22,10],[22,11,22,15],[22,16,22,20],[20,21,21,25],[20,26,21,28],[20,29,21,30],[20,31,21,31],[20,32,21,32],[20,33,21,36],[23,3,23,4],[23,5,23,8],[23,9,23,10],[23,11,23,15],[23,16,23,20],[24,1,25,2],[24,3,24,4],[24,5,24,8],[24,9,24,10],[24,11,24,15],[22,1,23,2],[22,3,22,4],[24,33,25,36],[25,3,25,4],[25,5,25,8],[25,9,25,10],[25,11,25,15],[25,16,25,20],[24,16,24,20],[24,21,25,25],[24,26,25,28],[24,29,25,30],[24,31,25,31],[24,32,25,32],[26,21,27,25],[26,26,27,28],[26,29,27,30],[26,31,27,31],[26,32,27,32],[26,33,27,36],[26,1,27,2],[26,3,26,4],[26,5,26,8],[26,9,26,10],[26,11,26,15],[26,16,26,20],[27,3,27,4],[27,5,27,8],[27,9,27,10],[27,11,27,15],[27,16,27,20],[28,1,29,2],[28,3,28,4],[28,5,28,8],[28,9,28,10],[28,11,28,15],[28,16,28,20],[29,3,29,4],[29,5,29,8],[29,9,29,10],[30,21,31,25],[30,26,31,28],[30,29,31,30],[30,31,31,31],[30,32,31,32],[30,33,31,36],[29,11,29,15],[29,16,29,20],[30,1,31,2],[30,3,30,4],[30,5,30,8],[30,9,30,10],[30,11,30,15],[30,16,30,20],[31,3,31,4],[31,5,31,8],[28,21,29,25],[28,26,29,28],[28,29,29,30],[28,31,29,31],[28,32,29,32],[28,33,29,36],[31,9,31,10],[31,11,31,15],[31,16,31,20],[32,1,33,2],[32,3,32,4],[32,5,32,8],[32,9,32,10],[32,11,32,15],[32,16,32,20],[33,3,33,4],[34,21,35,25],[34,26,35,28],[34,29,35,30],[34,31,35,31],[34,32,35,32],[34,33,35,36],[33,5,33,8],[33,9,33,10],[33,11,33,15],[33,16,33,20],[34,5,34,8],[34,9,34,10],[34,11,34,15],[34,16,34,20],[32,21,33,25],[32,26,33,28],[32,29,33,30],[32,31,33,31],[32,32,33,32],[32,33,33,36],[35,3,35,4],[35,5,35,8],[35,9,35,10],[35,11,35,15],[35,16,35,20],[36,1,37,2],[36,3,36,4],[36,5,36,8],[36,9,36,10],[36,11,36,15],[34,1,35,2],[34,3,34,4],[38,5,38,8],[38,9,38,10],[38,11,38,15],[38,16,38,20],[39,3,39,4],[39,5,39,8],[39,9,39,10],[39,11,39,15],[36,33,37,36],[37,3,37,4],[37,5,37,8],[37,9,37,10],[37,11,37,15],[37,16,37,20],[36,16,36,20],[36,21,37,25],[36,26,37,28],[36,29,37,30],[36,31,37,31],[36,32,37,32],[40,21,41,25],[40,26,41,28],[40,29,41,30],[40,31,41,31],[40,32,41,32],[40,33,41,36],[39,16,39,20],[40,1,41,2],[40,3,40,4],[40,5,40,8],[40,9,40,10],[40,11,40,15],[40,16,40,20],[41,3,41,4],[41,5,41,8],[41,9,41,10],[38,21,39,25],[38,26,39,28],[38,29,39,30],[38,31,39,31],[38,32,39,32],[38,33,39,36],[38,1,39,2],[38,3,38,4],[41,11,41,15],[41,16,41,20],[42,1,43,2],[42,3,42,4],[42,5,42,8],[42,9,42,10],[42,11,42,15],[42,16,42,20],[43,3,43,4],[43,5,43,8],[43,9,43,10],[43,11,43,15],[43,16,43,20],[45,17,49,18],[46,19,46,36],[47,19,47,36],[42,21,43,25],[42,26,43,28],[42,29,43,30],[42,31,43,31],[42,32,43,32],[42,33,43,36],[56,1,59,16],[56,19,56,23],[56,24,56,37],[57,19,57,23],[57,24,57,37],[58,19,58,23],[51,0,51,37],[52,20,52,31],[52,32,52,36],[54,18,54,19],[54,20,54,21],[54,23,54,24],[54,26,54,27],[58,24,58,37],[59,19,59,23],[59,24,59,37],[60,19,60,25],[60,27,60,35],[60,36,60,37],[55,17,60,17],[55,18,60,18],[55,19,55,23],[55,24,55,37],[62,1,62,20],[62,21,62,36],[63,1,64,2],[63,3,63,15],[63,16,63,20],[63,21,64,36],[64,3,64,4],[64,5,64,8],[64,9,64,10],[64,11,64,15],[65,21,66,36],[66,3,66,4],[66,5,66,8],[66,9,66,10],[66,11,66,15],[66,16,66,20],[64,16,64,20],[65,1,66,2],[65,3,65,4],[65,5,65,8],[65,9,65,10],[65,11,65,15],[65,16,65,20],[67,21,68,36],[68,3,68,4],[68,5,68,8],[68,9,68,10],[68,11,68,15],[68,16,68,20],[67,1,68,2],[67,3,67,4],[67,5,67,8],[67,9,67,10],[67,11,67,15],[67,16,67,20],[69,21,70,36],[70,3,70,4],[70,5,70,8],[70,9,70,10],[70,11,70,15],[70,16,70,20],[69,1,70,2],[69,3,69,4],[69,5,69,8],[69,9,69,10],[69,11,69,15],[69,16,69,20],[71,21,72,36],[72,3,72,4],[72,5,72,8],[72,9,72,10],[72,11,72,15],[72,16,72,20],[71,1,72,2],[71,3,71,4],[71,5,71,8],[71,9,71,10],[71,11,71,15],[71,16,71,20],[73,21,74,36],[74,3,74,4],[74,5,74,8],[74,9,74,10],[74,11,74,15],[74,16,74,20],[73,1,74,2],[73,3,73,4],[73,5,73,8],[73,9,73,10],[73,11,73,15],[73,16,73,20],[75,21,76,36],[76,3,76,4],[76,5,76,8],[76,9,76,10],[76,11,76,15],[76,16,76,20],[75,1,76,2],[75,3,75,4],[75,5,75,8],[75,9,75,10],[75,11,75,15],[75,16,75,20],[77,21,78,36],[78,3,78,4],[78,5,78,8],[78,9,78,10],[78,11,78,15],[78,16,78,20],[77,1,78,2],[77,3,77,4],[77,5,77,8],[77,9,77,10],[77,11,77,15],[77,16,77,20],[79,21,80,36],[80,3,80,4],[80,5,80,8],[80,9,80,10],[80,11,80,15],[80,16,80,20],[79,1,80,2],[79,3,79,4],[79,5,79,8],[79,9,79,10],[79,11,79,15],[79,16,79,20],[81,21,82,36],[82,3,82,4],[82,5,82,8],[82,9,82,10],[82,11,82,15],[82,16,82,20],[81,1,82,2],[81,3,81,4],[81,5,81,8],[81,9,81,10],[81,11,81,15],[81,16,81,20],[83,21,84,36],[84,3,84,4],[84,5,84,8],[84,9,84,10],[84,11,84,15],[84,16,84,20],[83,1,84,2],[83,3,83,4],[83,5,83,8],[83,9,83,10],[83,11,83,15],[83,16,83,20],[85,21,86,36],[86,3,86,4],[86,5,86,8],[86,9,86,10],[86,11,86,15],[86,16,86,20],[85,1,86,2],[85,3,85,4],[85,5,85,8],[85,9,85,10],[85,11,85,15],[85,16,85,20],[87,21,88,36],[88,3,88,4],[88,5,88,8],[88,9,88,10],[88,11,88,15],[88,16,88,20],[87,1,88,2],[87,3,87,4],[87,5,87,8],[87,9,87,10],[87,11,87,15],[87,16,87,20],[89,21,90,36],[90,3,90,4],[90,5,90,8],[90,9,90,10],[90,11,90,15],[90,16,90,20],[89,1,90,2],[89,3,89,4],[89,5,89,8],[89,9,89,10],[89,11,89,15],[89,16,89,20],[91,21,92,36],[92,3,92,4],[92,5,92,8],[92,9,92,10],[92,11,92,15],[92,16,92,20],[91,1,92,2],[91,3,91,4],[91,5,91,8],[91,9,91,10],[91,11,91,15],[91,16,91,20],[96,19,96,36],[100,18,100,21],[102,18,102,21],[104,18,104,21],[106,0,106,37],[107,20,107,31],[107,32,107,36],[93,21,94,36],[94,3,94,4],[94,5,94,8],[94,9,94,10],[94,11,94,15],[94,16,94,20],[93,1,94,2],[93,3,93,4],[93,5,93,8],[93,9,93,10],[93,11,93,15],[93,16,93,20],[109,18,109,19],[109,20,109,21],[109,23,109,24],[109,26,109,27],[110,17,115,17],[110,18,115,18],[110,19,110,23],[110,24,110,37],[115,19,115,25],[115,27,115,35],[111,1,114,16],[111,19,111,23],[111,24,111,37],[112,19,112,23],[112,24,112,37],[113,19,113,23],[113,24,113,37],[114,19,114,23],[114,24,114,37],[115,36,115,37],[117,1,118,2],[117,3,117,15],[117,16,117,20],[117,21,118,25],[117,26,118,28],[117,29,117,32],[117,33,118,36],[118,3,118,4],[118,5,118,8],[118,9,118,10],[118,11,118,15],[118,16,118,20],[118,29,118,30],[118,31,118,32],[119,1,120,2],[119,3,119,4],[119,5,119,8],[119,9,119,10],[119,11,119,15],[119,33,120,36],[120,3,120,4],[120,5,120,8],[120,9,120,10],[120,11,120,15],[120,16,120,20],[119,16,119,20],[119,21,120,25],[119,26,120,28],[119,29,120,30],[119,31,120,31],[119,32,120,32],[121,21,122,25],[121,26,122,28],[121,29,122,30],[121,31,122,31],[121,32,122,32],[121,33,122,36],[121,1,122,2],[121,3,121,4],[121,5,121,8],[121,9,121,10],[121,11,121,15],[121,16,121,20],[122,3,122,4],[122,5,122,8],[122,9,122,10],[122,11,122,15],[122,16,122,20],[123,1,124,2],[123,3,123,4],[123,5,123,8],[123,9,123,10],[123,11,123,15],[123,16,123,20],[124,3,124,4],[124,5,124,8],[124,9,124,10],[125,21,126,25],[125,26,126,28],[125,29,126,30],[125,31,126,31],[125,32,126,32],[125,33,126,36],[124,11,124,15],[124,16,124,20],[125,1,126,2],[125,3,125,4],[125,5,125,8],[125,9,125,10],[125,11,125,15],[125,16,125,20],[126,3,126,4],[126,5,126,8],[123,21,124,25],[123,26,124,28],[123,29,124,30],[123,31,124,31],[123,32,124,32],[123,33,124,36],[126,9,126,10],[126,11,126,15],[126,16,126,20],[127,1,128,2],[127,3,127,4],[127,5,127,8],[127,9,127,10],[127,11,127,15],[127,16,127,20],[128,3,128,4],[129,21,130,25],[129,26,130,28],[129,29,130,30],[129,31,130,31],[129,32,130,32],[129,33,130,36],[128,5,128,8],[128,9,128,10],[128,11,128,15],[128,16,128,20],[129,5,129,8],[129,9,129,10],[129,11,129,15],[129,16,129,20],[127,21,128,25],[127,26,128,28],[127,29,128,30],[127,31,128,31],[127,32,128,32],[127,33,128,36],[130,3,130,4],[130,5,130,8],[130,9,130,10],[130,11,130,15],[130,16,130,20],[131,1,132,2],[131,3,131,4],[131,5,131,8],[131,9,131,10],[131,11,131,15],[129,1,130,2],[129,3,129,4],[131,33,132,36],[132,3,132,4],[132,5,132,8],[132,9,132,10],[132,11,132,15],[132,16,132,20],[131,16,131,20],[131,21,132,25],[131,26,132,28],[131,29,132,30],[131,31,132,31],[131,32,132,32],[133,21,134,25],[133,26,134,28],[133,29,134,30],[133,31,134,31],[133,32,134,32],[133,33,134,36],[133,1,134,2],[133,3,133,4],[133,5,133,8],[133,9,133,10],[133,11,133,15],[133,16,133,20],[134,3,134,4],[134,5,134,8],[134,9,134,10],[134,11,134,15],[134,16,134,20],[135,1,136,2],[135,3,135,4],[135,5,135,8],[135,9,135,10],[135,11,135,15],[135,16,135,20],[136,3,136,4],[136,5,136,8],[136,9,136,10],[137,21,138,25],[137,26,138,28],[137,29,138,30],[137,31,138,31],[137,32,138,32],[137,33,138,36],[136,11,136,15],[136,16,136,20],[137,1,138,2],[137,3,137,4],[137,5,137,8],[137,9,137,10],[137,11,137,15],[137,16,137,20],[138,3,138,4],[138,5,138,8],[135,21,136,25],[135,26,136,28],[135,29,136,30],[135,31,136,31],[135,32,136,32],[135,33,136,36],[138,9,138,10],[138,11,138,15],[138,16,138,20],[139,1,140,2],[139,3,139,4],[139,5,139,8],[139,9,139,10],[139,11,139,15],[139,16,139,20],[140,3,140,4],[141,21,142,25],[141,26,142,28],[141,29,142,30],[141,31,142,31],[141,32,142,32],[141,33,142,36],[140,5,140,8],[140,9,140,10],[140,11,140,15],[140,16,140,20],[141,5,141,8],[141,9,141,10],[141,11,141,15],[141,16,141,20],[139,21,140,25],[139,26,140,28],[139,29,140,30],[139,31,140,31],[139,32,140,32],[139,33,140,36],[142,3,142,4],[142,5,142,8],[142,9,142,10],[142,11,142,15],[142,16,142,20],[143,1,144,2],[143,3,143,4],[143,5,143,8],[143,9,143,10],[143,11,143,15],[141,1,142,2],[141,3,141,4],[143,33,144,36],[144,3,144,4],[144,5,144,8],[144,9,144,10],[144,11,144,15],[144,16,144,20],[143,16,143,20],[143,21,144,25],[143,26,144,28],[143,29,144,30],[143,31,144,31],[143,32,144,32],[145,21,146,25],[145,26,146,28],[145,29,146,30],[145,31,146,31],[145,32,146,32],[145,33,146,36],[145,1,146,2],[145,3,145,4],[145,5,145,8],[145,9,145,10],[145,11,145,15],[145,16,145,20],[146,3,146,4],[146,5,146,8],[146,9,146,10],[146,11,146,15],[146,16,146,20],[147,1,148,2],[147,3,147,4],[147,5,147,8],[147,9,147,10],[147,11,147,15],[147,16,147,20],[148,3,148,4],[148,5,148,8],[148,9,148,10],[148,11,148,15],[148,16,148,20],[150,17,154,18],[151,19,151,36],[152,19,152,36],[147,21,148,25],[147,26,148,28],[147,29,148,30],[147,31,148,31],[147,32,148,32],[147,33,148,36]]}
["様式1-(1)",null,null,null,null,null,null,null,null,null,null,null,null,null,null,null,null,null,null,null,null,null,null,null,null,null,null,null,null,null,null,"(査定協会提出用)"]
["商品中古自動車証明申請書",null,null,null,null,null,null,null,null,null,null,null,null,null,null,null,null,null,null,null,null,null,null,null,null,null,null,null,null,null,null,null,null,null,null,null,null,null,null,null,null,null,null,null,null,null,null,null,"記入箇所"]
[null,null,null,null,null,null,null,null,null,null,null,null,null,null,null,null,null,null,null,null,"（企業コード番号　　　　　　　　　　　　）",null,null,null,null,null,null,null,null,null,null,null,"（6枚目）"]
[]
[null,"一般財団法人　日本自動車査定協会",null,null,null,null,null,null,null,null,null,null,null,null,null,null,null,null,"令和",null,{"$f":"'1枚目'!U5","v":0},null,"年",{"$f":"'1枚目'!X5","v":0},null,"月",{"$f":"'1枚目'!AA5","v":0},null,"日"]
[null,"　　　　　　　　　　　　　　　京都府支所長　　様",null,null,null,null,null,null,null,null,null,null,null,null,null,null,null,"申請者","（登録名義人）","住所(所在地)",null,null,null,null,{"$f":"'1枚目'!Y6","v":0}]
[null,"　商品中古自動車確認証明業務実施要領に基づき下記の自動車が商品中古自動車であることの証明を申請します。\n　なお、下記の自動車が商品自動車であること及び記載事項に相違ないこと並びに現地調査が行われる場合には協力することを確約いたします。",null,null,null,null,null,null,null,null,null,null,null,null,null,null,null,null,null,"氏名(名称)",null,null,null,null,{"$f":"'1枚目'!Y7","v":0}]
[null,null,null,null,null,null,null,null,null,null,null,null,null,null,null,null,null,null,null,"代表者名",null,null,null,null,{"$f":"'1枚目'!Y8","v":0}]
[null,null,null,null,null,null,null,null,null,null,null,null,null,null,null,null,null,null,null,"電話番号",null,null,null,null,{"$f":"'1枚目'!Y9","v":0}]
[null,null,null,null,null,null,null,null,null,null,null,null,null,null,null,null,null,null,null,"担当者名",null,null,null,null,{"$f":"'1枚目'!Y10","v":0}]
[null,null,null,null,null,null,null,null,null,null,null,null,null,null,null,null,null,null,null,"古物商許可番号",null,null,null,null,null,null,"第",{"$f":"'1枚目'!AB11","v":0},null,null,null,null,null,null,null,null,"号"]
[]
[null,"NO.",null,"登録番号",null,null,null,null,null,null,null,null,null,null,null,null,"車台番号",null,null,null,null,"登録\n年月日",null,null,null,null,"展示場",null,null,"調査",null,null,null,"備考"]
[null,null,null,"区分",null,"車種",null,null,null,"かな",null,"番号",null,null,null,null,"(下3ｹﾀ)",null,null,null,null,null,null,null,null,null,null,null,null,"月日",null,"結果"]
[null,76,null,null,null,null,null,null,null,null,null,null,null,null,null,null,null,null,null,null,null,null,null,null,null,null,null,null,null,null,null,"現","帳"]
[null,null,null,"京都"]
[null,77,null,null,null,null,null,null,null,null,null,null,null,null,null,null,null,null,null,null,null,null,null,null,null,null,null,null,null,null,null,"現","帳"]
[null,null,null,"京都"]
[null,78,null,null,null,null,null,null,null,null,null,null,null,null,null,null,null,null,null,null,null,null,null,null,null,null,null,null,null,null,null,"現","帳"]
[null,null,null,"京都"]
[null,79,null,null,null,null,null,null,null,null,null,null,null,null,null,null,null,null,null,null,null,null,null,null,null,null,null,null,null,null,null,"現","帳"]
[null,null,null,"京都"]
[null,80,null,null,null,null,null,null,null,null,null,null,null,null,null,null,null,null,null,null,null,null,null,null,null,null,null,null,null,null,null,"現","帳"]
[null,null,null,"京都"]
[null,81,null,null,null,null,null,null,null,null,null,null,null,null,null,null,null,null,null,null,null,null,null,null,null,null,null,null,null,null,null,"現","帳"]
[null,null,null,"京都"]
[null,82,null,null,null,null,null,null,null,null,null,null,null,null,null,null,null,null,null,null,null,null,null,null,null,null,null,null,null,null,null,"現","帳"]
[null,null,null,"京都"]
[null,83,null,null,null,null,null,null,null,null,null,null,null,null,null,null,null,null,null,null,null,null,null,null,null,null,null,null,null,null,null,"現","帳"]
[null,null,null,"京都"]
[null,84,null,null,null,null,null,null,null,null,null,null,null,null,null,null,null,null,null,null,null,null,null,null,null,null,null,null,null,null,null,"現","帳"]
[null,null,null,"京都"]
[null,85,null,null,null,null,null,null,null,null,null,null,null,null,null,null,null,null,null,null,null,null,null,null,null,null,null,null,null,null,null,"現","帳"]
[null,null,null,"京都"]
[null,86,null,null,null,null,null,null,null,null,null,null,null,null,null,null,null,null,null,null,null,null,null,null,null,null,null,null,null,null,null,"現","帳"]
[null,null,null,"京都"]
[null,87,null,null,null,null,null,null,null,null,null,null,null,null,null,null,null,null,null,null,null,null,null,null,null,null,null,null,null,null,null,"現","帳"]
[null,null,null,"京都"]
[null,88,null,null,null,null,null,null,null,null,null,null,null,null,null,null,null,null,null,null,null,null,null,null,null,null,null,null,null,null,null,"現","帳"]
[null,null,null,"京都"]
[null,89,null,null,null,null,null,null,null,null,null,null,null,null,null,null,null,null,null,null,null,null,null,null,null,null,null,null,null,null,null,"現","帳"]
[null,null,null,"京都"]
[null,90,null,null,null,null,null,null,null,null,null,null,null,null,null,null,null,null,null,null,null,null,null,null,null,null,null,null,null,null,null,"現","帳"]
[null,null,null,"京都"]
[]
[null,null,null,null,null,null,null,null,null,null,null,null,null,null,null,null,null,"誓約事項"]
[null,null,null,null,null,null,null,null,null,null,null,null,null,null,null,null,null,null,null,"申請する自動車には、取得時の登録事由が新規登"]
[null,null,null,null,null,null,null,null,null,null,null,null,null,null,null,null,null,null,null,"録（新車・中古車とも）のものを含みません。"]
[]
[null,null,null,null,null,null,null,null,null,null,null,null,null,null,null,null,null,null,null,null,null,"担当者署名欄"]
["様式1-(2)",null,null,null,null,null,null,null,null,null,null,null,null,null,null,null,null,null,null,null,null,null,null,null,null,null,null,"(自動車税管理事務所提出用)"]
["商品中古自動車の自動車税の種別割減免申請書"]
[null,null,null,null,null,null,null,null,null,null,null,null,null,null,null,null,null,null,null,null,"（企業コード番号　　　　　　　　　　　　）",null,null,null,null,null,null,null,null,null,null,null,{"$f":"AG3","v":"（6枚目）"}]
[]
[null,"京都府自動車税管理事務所長　様",null,null,null,null,null,null,null,null,null,null,null,null,null,null,null,null,"令和",null,{"$f":"U5","v":0},null,"年",{"$f":"X5","v":0},null,"月",{"$f":"AA5","v":0},null,"日"]
[null,null,null,null,null,null,null,null,null,null,null,null,null,null,null,null,null,"申請者","（登録名義人）","住所(所在地)",null,null,null,null,{"$f":"Y6","v":0}]
[null,"　   京都府府税条例第70条第2項の規定に基づき、\n  下記のとおり申請します。",null,null,null,null,null,null,null,null,null,null,null,null,null,null,null,null,null,"氏名(名称)",null,null,null,null,{"$f":"Y7","v":0}]
[null,null,null,null,null,null,null,null,null,null,null,null,null,null,null,null,null,null,null,"代表者名",null,null,null,null,{"$f":"Y8","v":0}]
[null,null,null,null,null,null,null,null,null,null,null,null,null,null,null,null,null,null,null,"電話番号",null,null,null,null,{"$f":"Y9","v":0}]
[null,null,null,null,null,null,null,null,null,null,null,null,null,null,null,null,null,null,null,"担当者名",null,null,null,null,{"$f":"Y10","v":0}]
[null,null,null,null,null,null,null,null,null,null,null,null,null,null,null,null,null,null,null,"古物商許可番号",null,null,null,null,null,null,"第",{"$f":"AB11","v":0},null,null,null,null,null,null,null,null,"号"]
[]
[null,"減　免　対　象　自　動　車　の　総　台　数",null,null,null,null,null,null,null,null,null,null,null,null,null,null,null,null,null,null,null,"台"]
[null,"NO.",null,"登録番号",null,null,null,null,null,null,null,null,null,null,null,null,"車台番号",null,null,null,null,"備　　　　　考"]
[null,null,null,"区分",null,"車種",null,null,null,"かな",null,"番号",null,null,null,null,"(下3ｹﾀ)"]
[null,{"$f":"B15","v":76}]
[null,null,null,{"$f":"D16","v":"京都"},null,null,null,null,null,{"$f":"J16","v":0}]
[null,{"$f":"B17","v":77}]
[null,null,null,{"$f":"D18","v":"京都"},null,{"$f":"F18","v":0},null,null,null,{"$f":"J18","v":0},null,{"$f":"L18","v":0},null,null,null,null,{"$f":"Q18","v":0}]
[null,{"$f":"B19","v":78}]
[null,null,null,{"$f":"D20","v":"京都"},null,{"$f":"F20","v":0},null,null,null,{"$f":"J20","v":0},null,{"$f":"L20","v":0},null,null,null,null,{"$f":"Q20","v":0}]
[null,{"$f":"B21","v":79}]
[null,null,null,{"$f":"D22","v":"京都"},null,{"$f":"F22","v":0},null,null,null,{"$f":"J22","v":0},null,{"$f":"L22","v":0},null,null,null,null,{"$f":"Q22","v":0}]
[null,{"$f":"B23","v":80}]
[null,null,null,{"$f":"D24","v":"京都"},null,{"$f":"F24","v":0},null,null,null,{"$f":"J24","v":0},null,{"$f":"L24","v":0},null,null,null,null,{"$f":"Q24","v":0}]
[null,{"$f":"B25","v":81}]
[null,null,null,{"$f":"D26","v":"京都"},null,{"$f":"F26","v":0},null,null,null,{"$f":"J26","v":0},null,{"$f":"L26","v":0},null,null,null,null,{"$f":"Q26","v":0}]
[null,{"$f":"B27","v":82}]
[null,null,null,{"$f":"D28","v":"京都"},null,{"$f":"F28","v":0},null,null,null,{"$f":"J28","v":0},null,{"$f":"L28","v":0},null,null,null,null,{"$f":"Q28","v":0}]
[null,{"$f":"B29","v":83}]
[null,null,null,{"$f":"D30","v":"京都"},null,{"$f":"F30","v":0},null,null,null,{"$f":"J30","v":0},null,{"$f":"L30","v":0},null,null,null,null,{"$f":"Q30","v":0}]
[null,{"$f":"B31","v":84}]
[null,null,null,{"$f":"D32","v":"京都"},null,{"$f":"F32","v":0},null,null,null,{"$f":"J32","v":0},null,{"$f":"L32","v":0},null,null,null,null,{"$f":"Q32","v":0}]
[null,{"$f":"B33","v":85}]
[null,null,null,{"$f":"D34","v":"京都"},null,{"$f":"F34","v":0},null,null,null,{"$f":"J34","v":0},null,{"$f":"L34","v":0},null,null,null,null,{"$f":"Q34","v":0}]
[null,{"$f":"B35","v":86}]
[null,null,null,{"$f":"D36","v":"京都"},null,{"$f":"F36","v":0},null,null,null,{"$f":"J36","v":0},null,{"$f":"L36","v":0},null,null,null,null,{"$f":"Q36","v":0}]
[null,{"$f":"B37","v":87}]
[null,null,null,{"$f":"D38","v":"京都"},null,{"$f":"F38","v":0},null,null,null,{"$f":"J38","v":0},null,{"$f":"L38","v":0},null,null,null,null,{"$f":"Q38","v":0}]
[null,{"$f":"B39","v":88}]
[null,null,null,{"$f":"D40","v":"京都"},null,{"$f":"F40","v":0},null,null,null,{"$f":"J40","v":0},null,{"$f":"L40","v":0},null,null,null,null,{"$f":"Q40","v":0}]
[null,{"$f":"B41","v":89}]
[null,null,null,{"$f":"D42","v":"京都"},null,{"$f":"F42","v":0},null,null,null,{"$f":"J42","v":0},null,{"$f":"L42","v":0},null,null,null,null,{"$f":"Q42","v":0}]
[null,{"$f":"B43","v":90}]
[null,null,null,{"$f":"D44","v":"京都"},null,{"$f":"F44","v":0},null,null,null,{"$f":"J44","v":0},null,{"$f":"L44","v":0},null,null,null,null,{"$f":"Q44","v":0}]
[]
[null,null,null,null,null,null,null,null,null,null,null,null,null,null,null,null,null,null,null,"　上記は、商品中古自動車確認証明業務実施要領\nに定める商品中古自動車であることを証明する。"]
[]
[null,null,null,null,null,null,null,null,null,null,null,null,null,null,null,null,null,null,null,null,"令和　　　年　　　月　　　日"]
[]
[null,null,null,null,null,null,null,null,null,null,null,null,null,null,null,null,null,null,"住　　所"]
[]
[null,null,null,null,null,null,null,null,null,null,null,null,null,null,null,null,null,null,"支 所 名"]
[]
[null,null,null,null,null,null,null,null,null,null,null,null,null,null,null,null,null,null,"代表者名",null,null,null,null,null,null,null,null,null,null,null,null,null,null,null,null,null,"㊞"]
["様式1-(3)",null,null,null,null,null,null,null,null,null,null,null,null,null,null,null,null,null,null,null,null,null,null,null,null,null,null,null,null,null,null,null,null,"(申請者控)"]
["商品中古自動車証明申請書"]
[null,null,null,null,null,null,null,null,null,null,null,null,null,null,null,null,null,null,null,null,"（企業コード番号　　　　　　　　　　　　）",null,null,null,null,null,null,null,null,null,null,null,{"$f":"AG3","v":"（6枚目）"}]
[]
[null,"一般財団法人　日本自動車査定協会",null,null,null,null,null,null,null,null,null,null,null,null,null,null,null,null,"令和",null,{"$f":"U5","v":0},null,"年",{"$f":"X5","v":0},null,"月",{"$f":"AA5","v":0},null,"日"]
[null,"　　　　　　　　　　　　　　　京都府支所長　　様",null,null,null,null,null,null,null,null,null,null,null,null,null,null,null,"申請者","（登録名義人）","住所(所在地)",null,null,null,null,{"$f":"Y6","v":0}]
[null,"　商品中古自動車確認証明業務実施要領に基づき下記の自動車が商品中古自動車であることの証明を申請します。\n　なお、下記の自動車が商品自動車であること及び記載事項に相違ないこと並びに現地調査が行われる場合には協力することを確約いたします。",null,null,null,null,null,null,null,null,null,null,null,null,null,null,null,null,null,"氏名(名称)",null,null,null,null,{"$f":"Y7","v":0}]
[null,null,null,null,null,null,null,null,null,null,null,null,null,null,null,null,null,null,null,"代表者名",null,null,null,null,{"$f":"Y8","v":0}]
[null,null,null,null,null,null,null,null,null,null,null,null,null,null,null,null,null,null,null,"電話番号",null,null,null,null,{"$f":"Y9","v":0}]
[null,null,null,null,null,null,null,null,null,null,null,null,null,null,null,null,null,null,null,"担当者名",null,null,null,null,{"$f":"Y10","v":0}]
[null,null,null,null,null,null,null,null,null,null,null,null,null,null,null,null,null,null,null,"古物商許可番号",null,null,null,null,null,null,"第",{"$f":"AB11","v":0},null,null,null,null,null,null,null,null,"号"]
[]
[null,"NO.",null,"登録番号",null,null,null,null,null,null,null,null,null,null,null,null,"車台番号",null,null,null,null,"登録\n年月日",null,null,null,null,"展示場",null,null,"調査",null,null,null,"備考"]
[null,null,null,"区分",null,"車種",null,null,null,"かな",null,"番号",null,null,null,null,"(下3ｹﾀ)",null,null,null,null,null,null,null,null,null,null,null,null,"月日",null,"結果"]
[null,{"$f":"B15","v":76},null,null,null,null,null,null,null,null,null,null,null,null,null,null,null,null,null,null,null,{"$f":"V15","v":"00:00:00"},null,null,null,null,{"$f":"AA15","v":0},null,null,null,null,"現","帳"]
[null,null,null,{"$f":"D16","v":"京都"},null,{"$f":"F16","v":0},null,null,null,{"$f":"J16","v":0},null,{"$f":"L16","v":0},null,null,null,null,{"$f":"Q16","v":0}]
[null,{"$f":"B17","v":77},null,null,null,null,null,null,null,null,null,null,null,null,null,null,null,null,null,null,null,{"$f":"V17","v":"00:00:00"},null,null,null,null,{"$f":"AA17","v":0},null,null,null,null,"現","帳"]
[null,null,null,{"$f":"D18","v":"京都"},null,{"$f":"F18","v":0},null,null,null,{"$f":"J18","v":0},null,{"$f":"L18","v":0},null,null,null,null,{"$f":"Q18","v":0}]
[null,{"$f":"B19","v":78},null,null,null,null,null,null,null,null,null,null,null,null,null,null,null,null,null,null,null,{"$f":"V19","v":"00:00:00"},null,null,null,null,{"$f":"AA19","v":0},null,null,null,null,"現","帳"]
[null,null,null,{"$f":"D20","v":"京都"},null,{"$f":"F20","v":0},null,null,null,{"$f":"J20","v":0},null,{"$f":"L20","v":0},null,null,null,null,{"$f":"Q20","v":0}]
[null,{"$f":"B21","v":79},null,null,null,null,null,null,null,null,null,null,null,null,null,null,null,null,null,null,null,{"$f":"V21","v":"00:00:00"},null,null,null,null,{"$f":"AA21","v":0},null,null,null,null,"現","帳"]
[null,null,null,{"$f":"D22","v":"京都"},null,{"$f":"F22","v":0},null,null,null,{"$f":"J22","v":0},null,{"$f":"L22","v":0},null,null,null,null,{"$f":"Q22","v":0}]
[null,{"$f":"B23","v":80},null,null,null,null,null,null,null,null,null,null,null,null,null,null,null,null,null,null,null,{"$f":"V23","v":"00:00:00"},null,null,null,null,{"$f":"AA23","v":0},null,null,null,null,"現","帳"]
[null,null,null,{"$f":"D24","v":"京都"},null,{"$f":"F24","v":0},null,null,null,{"$f":"J24","v":0},null,{"$f":"L24","v":0},null,null,null,null,{"$f":"Q24","v":0}]
[null,{"$f":"B25","v":81},null,null,null,null,null,null,null,null,null,null,null,null,null,null,null,null,null,null,null,{"$f":"V25","v":"00:00:00"},null,null,null,null,{"$f":"AA25","v":0},null,null,null,null,"現","帳"]
[null,null,null,{"$f":"D26","v":"京都"},null,{"$f":"F26","v":0},null,null,null,{"$f":"J26","v":0},null,{"$f":"L26","v":0},null,null,null,null,{"$f":"Q26","v":0}]
[null,{"$f":"B27","v":82},null,null,null,null,null,null,null,null,null,null,null,null,null,null,null,null,null,null,null,{"$f":"V27","v":"00:00:00"},null,null,null,null,{"$f":"AA27","v":0},null,null,null,null,"現","帳"]
[null,null,null,{"$f":"D28","v":"京都"},null,{"$f":"F28","v":0},null,null,null,{"$f":"J28","v":0},null,{"$f":"L28","v":0},null,null,null,null,{"$f":"Q28","v":0}]
[null,{"$f":"B29","v":83},null,null,null,null,null,null,null,null,null,null,null,null,null,null,null,null,null,null,null,{"$f":"V29","v":"00:00:00"},null,null,null,null,{"$f":"AA29","v":0},null,null,null,null,"現","帳"]
[null,null,null,{"$f":"D30","v":"京都"},null,{"$f":"F30","v":0},null,null,null,{"$f":"J30","v":0},null,{"$f":"L30","v":0},null,null,null,null,{"$f":"Q30","v":0}]
[null,{"$f":"B31","v":84},null,null,null,null,null,null,null,null,null,null,null,null,null,null,null,null,null,null,null,{"$f":"V31","v":"00:00:00"},null,null,null,null,{"$f":"AA31","v":0},null,null,null,null,"現","帳"]
[null,null,null,{"$f":"D32","v":"京都"},null,{"$f":"F32","v":0},null,null,null,{"$f":"J32","v":0},null,{"$f":"L32","v":0},null,null,null,null,{"$f":"Q32","v":0}]
[null,{"$f":"B33","v":85},null,null,null,null,null,null,null,null,null,null,null,null,null,null,null,null,null,null,null,{"$f":"V33","v":"00:00:00"},null,null,null,null,{"$f":"AA33","v":0},null,null,null,null,"現","帳"]
[null,null,null,{"$f":"D34","v":"京都"},null,{"$f":"F34","v":0},null,null,null,{"$f":"J34","v":0},null,{"$f":"L34","v":0},null,null,null,null,{"$f":"Q34","v":0}]
[null,{"$f":"B35","v":86},null,null,null,null,null,null,null,null,null,null,null,null,null,null,null,null,null,null,null,{"$f":"V35","v":"00:00:00"},null,null,null,null,{"$f":"AA35","v":0},null,null,null,null,"現","帳"]
[null,null,null,{"$f":"D36","v":"京都"},null,{"$f":"F36","v":0},null,null,null,{"$f":"J36","v":0},null,{"$f":"L36","v":0},null,null,null,null,{"$f":"Q36","v":0}]
[null,{"$f":"B37","v":87},null,null,null,null,null,null,null,null,null,null,null,null,null,null,null,null,null,null,null,{"$f":"V37","v":"00:00:00"},null,null,null,null,{"$f":"AA37","v":0},null,null,null,null,"現","帳"]
[null,null,null,{"$f":"D38","v":"京都"},null,{"$f":"F38","v":0},null,null,null,{"$f":"J38","v":0},null,{"$f":"L38","v":0},null,null,null,null,{"$f":"Q38","v":0}]
[null,{"$f":"B39","v":88},null,null,null,null,null,null,null,null,null,null,null,null,null,null,null,null,null,null,null,{"$f":"V39","v":"00:00:00"},null,null,null,null,{"$f":"AA39","v":0},null,null,null,null,"現","帳"]
[null,null,null,{"$f":"D40","v":"京都"},null,{"$f":"F40","v":0},null,null,null,{"$f":"J40","v":0},null,{"$f":"L40","v":0},null,null,null,null,{"$f":"Q40","v":0}]
[null,{"$f":"B41","v":89},null,null,null,null,null,null,null,null,null,null,null,null,null,null,null,null,null,null,null,{"$f":"V41","v":"00:00:00"},null,null,null,null,{"$f":"AA41","v":0},null,null,null,null,"現","帳"]
[null,null,null,{"$f":"D42","v":"京都"},null,{"$f":"F42","v":0},null,null,null,{"$f":"J42","v":0},null,{"$f":"L42","v":0},null,null,null,null,{"$f":"Q42","v":0}]
[null,{"$f":"B43","v":90},null,null,null,null,null,null,null,null,null,null,null,null,null,null,null,null,null,null,null,{"$f":"V43","v":"00:00:00"},null,null,null,null,{"$f":"AA43","v":0},null,null,null,null,"現","帳"]
[null,null,null,{"$f":"D44","v":"京都"},null,{"$f":"F44","v":0},null,null,null,{"$f":"J44","v":0},null,{"$f":"L44","v":0},null,null,null,null,{"$f":"Q44","v":0}]
[]
[null,null,null,null,null,null,null,null,null,null,null,null,null,null,null,null,null,"誓約事項"]
[null,null,null,null,null,null,null,null,null,null,null,null,null,null,null,null,null,null,null,"申請する自動車には、取得時の登録事由が新規登"]
[null,null,null,null,null,null,null,null,null,null,null,null,null,null,null,null,null,null,null,"録（新車・中古車とも）のものを含みません。"]
[]
[null,null,null,null,null,null,null,null,null,null,null,null,null,null,null,null,null,null,null,null,null,"担当者署名欄"]

{"sheet":"7枚目","index":7,"n_rows":155,"n_cols":49,"rows_kept":155,"cut":false,"hidden":false,"merged":[[6,1,9,16],[6,19,6,23],[6,24,6,37],[7,19,7,23],[7,24,7,37],[8,19,8,23],[1,0,1,37],[1,48,2,51],[2,20,2,31],[2,32,2,36],[4,18,4,19],[4,20,4,21],[4,23,4,24],[4,26,4,27],[8,24,8,37],[9,19,9,23],[9,24,9,37],[10,19,10,25],[10,27,10,35],[10,36,10,37],[5,17,10,17],[5,18,10,18],[5,19,5,23],[5,24,5,37],[12,33,13,36],[13,3,13,4],[13,5,13,8],[13,9,13,10],[13,11,13,15],[13,16,13,20],[13,29,13,30],[13,31,13,32],[12,1,13,2],[12,3,12,15],[12,16,12,20],[12,21,13,25],[12,26,13,28],[12,29,12,32],[14,21,15,25],[14,26,15,28],[14,29,15,30],[14,31,15,31],[14,32,15,32],[14,33,15,36],[14,1,15,2],[14,3,14,4],[14,5,14,8],[14,9,14,10],[14,11,14,15],[14,16,14,20],[15,3,15,4],[15,5,15,8],[15,9,15,10],[15,11,15,15],[15,16,15,20],[16,1,17,2],[16,3,16,4],[16,5,16,8],[16,9,16,10],[16,11,16,15],[16,16,16,20],[17,3,17,4],[17,5,17,8],[17,9,17,10],[18,21,19,25],[18,26,19,28],[18,29,19,30],[18,31,19,31],[18,32,19,32],[18,33,19,36],[17,11,17,15],[17,16,17,20],[18,1,19,2],[18,3,18,4],[18,5,18,8],[18,9,18,10],[18,11,18,15],[18,16,18,20],[19,3,19,4],[19,5,19,8],[16,21,17,25],[16,26,17,28],[16,29,17,30],[16,31,17,31],[16,32,17,32],[16,33,17,36],[19,9,19,10],[19,11,19,15],[19,16,19,20],[20,1,21,2],[20,3,20,4],[20,5,20,8],[20,9,20,10],[20,11,20,15],[20,16,20,20],[21,3,21,4],[22,21,23,25],[22,26,23,28],[22,29,23,30],[22,31,23,31],[22,32,23,32],[22,33,23,36],[21,5,21,8],[21,9,21,10],[21,11,21,15],[21,16,21,20],[22,5,22,8],[22,9,22,10],[22,11,22,15],[22,16,22,20],[20,21,21,25],[20,26,21,28],[20,29,21,30],[20,31,21,31],[20,32,21,32],[20,33,21,36],[23,3,23,4],[23,5,23,8],[23,9,23,10],[23,11,23,15],[23,16,23,20],[24,1,25,2],[24,3,24,4],[24,5,24,8],[24,9,24,10],[24,11,24,15],[22,1,23,2],[22,3,22,4],[24,33,25,36],[25,3,25,4],[25,5,25,8],[25,9,25,10],[25,11,25,15],[25,16,25,20],[24,16,24,20],[24,21,25,25],[24,26,25,28],[24,29,25,30],[24,31,25,31],[24,32,25,32],[26,21,27,25],[26,26,27,28],[26,29,27,30],[26,31,27,31],[26,32,27,32],[26,33,27,36],[26,1,27,2],[26,3,26,4],[26,5,26,8],[26,9,26,10],[26,11,26,15],[26,16,26,20],[27,3,27,4],[27,5,27,8],[27,9,27,10],[27,11,27,15],[27,16,27,20],[28,1,29,2],[28,3,28,4],[28,5,28,8],[28,9,28,10],[28,11,28,15],[28,16,28,20],[29,3,29,4],[29,5,29,8],[29,9,29,10],[30,21,31,25],[30,26,31,28],[30,29,31,30],[30,31,31,31],[30,32,31,32],[30,33,31,36],[29,11,29,15],[29,16,29,20],[30,1,31,2],[30,3,30,4],[30,5,30,8],[30,9,30,10],[30,11,30,15],[30,16,30,20],[31,3,31,4],[31,5,31,8],[28,21,29,25],[28,26,29,28],[28,29,29,30],[28,31,29,31],[28,32,29,32],[28,33,29,36],[31,9,31,10],[31,11,31,15],[31,16,31,20],[32,1,33,2],[32,3,32,4],[32,5,32,8],[32,9,32,10],[32,11,32,15],[32,16,32,20],[33,3,33,4],[34,21,35,25],[34,26,35,28],[34,29,35,30],[34,31,35,31],[34,32,35,32],[34,33,35,36],[33,5,33,8],[33,9,33,10],[33,11,33,15],[33,16,33,20],[34,5,34,8],[34,9,34,10],[34,11,34,15],[34,16,34,20],[32,21,33,25],[32,26,33,28],[32,29,33,30],[32,31,33,31],[32,32,33,32],[32,33,33,36],[35,3,35,4],[35,5,35,8],[35,9,35,10],[35,11,35,15],[35,16,35,20],[36,1,37,2],[36,3,36,4],[36,5,36,8],[36,9,36,10],[36,11,36,15],[34,1,35,2],[34,3,34,4],[38,5,38,8],[38,9,38,10],[38,11,38,15],[38,16,38,20],[39,3,39,4],[39,5,39,8],[39,9,39,10],[39,11,39,15],[36,33,37,36],[37,3,37,4],[37,5,37,8],[37,9,37,10],[37,11,37,15],[37,16,37,20],[36,16,36,20],[36,21,37,25],[36,26,37,28],[36,29,37,30],[36,31,37,31],[36,32,37,32],[40,21,41,25],[40,26,41,28],[40,29,41,30],[40,31,41,31],[40,32,41,32],[40,33,41,36],[39,16,39,20],[40,1,41,2],[40,3,40,4],[40,5,40,8],[40,9,40,10],[40,11,40,15],[40,16,40,20],[41,3,41,4],[41,5,41,8],[41,9,41,10],[38,21,39,25],[38,26,39,28],[38,29,39,30],[38,31,39,31],[38,32,39,32],[38,33,39,36],[38,1,39,2],[38,3,38,4],[41,11,41,15],[41,16,41,20],[42,1,43,2],[42,3,42,4],[42,5,42,8],[42,9,42,10],[42,11,42,15],[42,16,42,20],[43,3,43,4],[43,5,43,8],[43,9,43,10],[43,11,43,15],[43,16,43,20],[45,17,49,18],[46,19,46,36],[47,19,47,36],[42,21,43,25],[42,26,43,28],[42,29,43,30],[42,31,43,31],[42,32,43,32],[42,33,43,36],[56,1,59,16],[56,19,56,23],[56,24,56,37],[57,19,57,23],[57,24,57,37],[58,19,58,23],[51,0,51,37],[52,20,52,31],[52,32,52,36],[54,18,54,19],[54,20,54,21],[54,23,54,24],[54,26,54,27],[58,24,58,37],[59,19,59,23],[59,24,59,37],[60,19,60,25],[60,27,60,35],[60,36,60,37],[55,17,60,17],[55,18,60,18],[55,19,55,23],[55,24,55,37],[62,1,62,20],[62,21,62,36],[63,1,64,2],[63,3,63,15],[63,16,63,20],[63,21,64,36],[64,3,64,4],[64,5,64,8],[64,9,64,10],[64,11,64,15],[65,21,66,36],[66,3,66,4],[66,5,66,8],[66,9,66,10],[66,11,66,15],[66,16,66,20],[64,16,64,20],[65,1,66,2],[65,3,65,4],[65,5,65,8],[65,9,65,10],[65,11,65,15],[65,16,65,20],[67,21,68,36],[68,3,68,4],[68,5,68,8],[68,9,68,10],[68,11,68,15],[68,16,68,20],[67,1,68,2],[67,3,67,4],[67,5,67,8],[67,9,67,10],[67,11,67,15],[67,16,67,20],[69,21,70,36],[70,3,70,4],[70,5,70,8],[70,9,70,10],[70,11,70,15],[70,16,70,20],[69,1,70,2],[69,3,69,4],[69,5,69,8],[69,9,69,10],[69,11,69,15],[69,16,69,20],[71,21,72,36],[72,3,72,4],[72,5,72,8],[72,9,72,10],[72,11,72,15],[72,16,72,20],[71,1,72,2],[71,3,71,4],[71,5,71,8],[71,9,71,10],[71,11,71,15],[71,16,71,20],[73,21,74,36],[74,3,74,4],[74,5,74,8],[74,9,74,10],[74,11,74,15],[74,16,74,20],[73,1,74,2],[73,3,73,4],[73,5,73,8],[73,9,73,10],[73,11,73,15],[73,16,73,20],[75,21,76,36],[76,3,76,4],[76,5,76,8],[76,9,76,10],[76,11,76,15],[76,16,76,20],[75,1,76,2],[75,3,75,4],[75,5,75,8],[75,9,75,10],[75,11,75,15],[75,16,75,20],[77,21,78,36],[78,3,78,4],[78,5,78,8],[78,9,78,10],[78,11,78,15],[78,16,78,20],[77,1,78,2],[77,3,77,4],[77,5,77,8],[77,9,77,10],[77,11,77,15],[77,16,77,20],[79,21,80,36],[80,3,80,4],[80,5,80,8],[80,9,80,10],[80,11,80,15],[80,16,80,20],[79,1,80,2],[79,3,79,4],[79,5,79,8],[79,9,79,10],[79,11,79,15],[79,16,79,20],[81,21,82,36],[82,3,82,4],[82,5,82,8],[82,9,82,10],[82,11,82,15],[82,16,82,20],[81,1,82,2],[81,3,81,4],[81,5,81,8],[81,9,81,10],[81,11,81,15],[81,16,81,20],[83,21,84,36],[84,3,84,4],[84,5,84,8],[84,9,84,10],[84,11,84,15],[84,16,84,20],[83,1,84,2],[83,3,83,4],[83,5,83,8],[83,9,83,10],[83,11,83,15],[83,16,83,20],[85,21,86,36],[86,3,86,4],[86,5,86,8],[86,9,86,10],[86,11,86,15],[86,16,86,20],[85,1,86,2],[85,3,85,4],[85,5,85,8],[85,9,85,10],[85,11,85,15],[85,16,85,20],[87,21,88,36],[88,3,88,4],[88,5,88,8],[88,9,88,10],[88,11,88,15],[88,16,88,20],[87,1,88,2],[87,3,87,4],[87,5,87,8],[87,9,87,10],[87,11,87,15],[87,16,87,20],[89,21,90,36],[90,3,90,4],[90,5,90,8],[90,9,90,10],[90,11,90,15],[90,16,90,20],[89,1,90,2],[89,3,89,4],[89,5,89,8],[89,9,89,10],[89,11,89,15],[89,16,89,20],[91,21,92,36],[92,3,92,4],[92,5,92,8],[92,9,92,10],[92,11,92,15],[92,16,92,20],[91,1,92,2],[91,3,91,4],[91,5,91,8],[91,9,91,10],[91,11,91,15],[91,16,91,20],[96,19,96,36],[100,18,100,21],[102,18,102,21],[104,18,104,21],[106,0,106,37],[107,20,107,31],[107,32,107,36],[93,21,94,36],[94,3,94,4],[94,5,94,8],[94,9,94,10],[94,11,94,15],[94,16,94,20],[93,1,94,2],[93,3,93,4],[93,5,93,8],[93,9,93,10],[93,11,93,15],[93,16,93,20],[109,18,109,19],[109,20,109,21],[109,23,109,24],[109,26,109,27],[110,17,115,17],[110,18,115,18],[110,19,110,23],[110,24,110,37],[115,19,115,25],[115,27,115,35],[111,1,114,16],[111,19,111,23],[111,24,111,37],[112,19,112,23],[112,24,112,37],[113,19,113,23],[113,24,113,37],[114,19,114,23],[114,24,114,37],[115,36,115,37],[117,1,118,2],[117,3,117,15],[117,16,117,20],[117,21,118,25],[117,26,118,28],[117,29,117,32],[117,33,118,36],[118,3,118,4],[118,5,118,8],[118,9,118,10],[118,11,118,15],[118,16,118,20],[118,29,118,30],[118,31,118,32],[119,1,120,2],[119,3,119,4],[119,5,119,8],[119,9,119,10],[119,11,119,15],[119,33,120,36],[120,3,120,4],[120,5,120,8],[120,9,120,10],[120,11,120,15],[120,16,120,20],[119,16,119,20],[119,21,120,25],[119,26,120,28],[119,29,120,30],[119,31,120,31],[119,32,120,32],[121,21,122,25],[121,26,122,28],[121,29,122,30],[121,31,122,31],[121,32,122,32],[121,33,122,36],[121,1,122,2],[121,3,121,4],[121,5,121,8],[121,9,121,10],[121,11,121,15],[121,16,121,20],[122,3,122,4],[122,5,122,8],[122,9,122,10],[122,11,122,15],[122,16,122,20],[123,1,124,2],[123,3,123,4],[123,5,123,8],[123,9,123,10],[123,11,123,15],[123,16,123,20],[124,3,124,4],[124,5,124,8],[124,9,124,10],[125,21,126,25],[125,26,126,28],[125,29,126,30],[125,31,126,31],[125,32,126,32],[125,33,126,36],[124,11,124,15],[124,16,124,20],[125,1,126,2],[125,3,125,4],[125,5,125,8],[125,9,125,10],[125,11,125,15],[125,16,125,20],[126,3,126,4],[126,5,126,8],[123,21,124,25],[123,26,124,28],[123,29,124,30],[123,31,124,31],[123,32,124,32],[123,33,124,36],[126,9,126,10],[126,11,126,15],[126,16,126,20],[127,1,128,2],[127,3,127,4],[127,5,127,8],[127,9,127,10],[127,11,127,15],[127,16,127,20],[128,3,128,4],[129,21,130,25],[129,26,130,28],[129,29,130,30],[129,31,130,31],[129,32,130,32],[129,33,130,36],[128,5,128,8],[128,9,128,10],[128,11,128,15],[128,16,128,20],[129,5,129,8],[129,9,129,10],[129,11,129,15],[129,16,129,20],[127,21,128,25],[127,26,128,28],[127,29,128,30],[127,31,128,31],[127,32,128,32],[127,33,128,36],[130,3,130,4],[130,5,130,8],[130,9,130,10],[130,11,130,15],[130,16,130,20],[131,1,132,2],[131,3,131,4],[131,5,131,8],[131,9,131,10],[131,11,131,15],[129,1,130,2],[129,3,129,4],[131,33,132,36],[132,3,132,4],[132,5,132,8],[132,9,132,10],[132,11,132,15],[132,16,132,20],[131,16,131,20],[131,21,132,25],[131,26,132,28],[131,29,132,30],[131,31,132,31],[131,32,132,32],[133,21,134,25],[133,26,134,28],[133,29,134,30],[133,31,134,31],[133,32,134,32],[133,33,134,36],[133,1,134,2],[133,3,133,4],[133,5,133,8],[133,9,133,10],[133,11,133,15],[133,16,133,20],[134,3,134,4],[134,5,134,8],[134,9,134,10],[134,11,134,15],[134,16,134,20],[135,1,136,2],[135,3,135,4],[135,5,135,8],[135,9,135,10],[135,11,135,15],[135,16,135,20],[136,3,136,4],[136,5,136,8],[136,9,136,10],[137,21,138,25],[137,26,138,28],[137,29,138,30],[137,31,138,31],[137,32,138,32],[137,33,138,36],[136,11,136,15],[136,16,136,20],[137,1,138,2],[137,3,137,4],[137,5,137,8],[137,9,137,10],[137,11,137,15],[137,16,137,20],[138,3,138,4],[138,5,138,8],[135,21,136,25],[135,26,136,28],[135,29,136,30],[135,31,136,31],[135,32,136,32],[135,33,136,36],[138,9,138,10],[138,11,138,15],[138,16,138,20],[139,1,140,2],[139,3,139,4],[139,5,139,8],[139,9,139,10],[139,11,139,15],[139,16,139,20],[140,3,140,4],[141,21,142,25],[141,26,142,28],[141,29,142,30],[141,31,142,31],[141,32,142,32],[141,33,142,36],[140,5,140,8],[140,9,140,10],[140,11,140,15],[140,16,140,20],[141,5,141,8],[141,9,141,10],[141,11,141,15],[141,16,141,20],[139,21,140,25],[139,26,140,28],[139,29,140,30],[139,31,140,31],[139,32,140,32],[139,33,140,36],[142,3,142,4],[142,5,142,8],[142,9,142,10],[142,11,142,15],[142,16,142,20],[143,1,144,2],[143,3,143,4],[143,5,143,8],[143,9,143,10],[143,11,143,15],[141,1,142,2],[141,3,141,4],[143,33,144,36],[144,3,144,4],[144,5,144,8],[144,9,144,10],[144,11,144,15],[144,16,144,20],[143,16,143,20],[143,21,144,25],[143,26,144,28],[143,29,144,30],[143,31,144,31],[143,32,144,32],[145,21,146,25],[145,26,146,28],[145,29,146,30],[145,31,146,31],[145,32,146,32],[145,33,146,36],[145,1,146,2],[145,3,145,4],[145,5,145,8],[145,9,145,10],[145,11,145,15],[145,16,145,20],[146,3,146,4],[146,5,146,8],[146,9,146,10],[146,11,146,15],[146,16,146,20],[147,1,148,2],[147,3,147,4],[147,5,147,8],[147,9,147,10],[147,11,147,15],[147,16,147,20],[148,3,148,4],[148,5,148,8],[148,9,148,10],[148,11,148,15],[148,16,148,20],[150,17,154,18],[151,19,151,36],[152,19,152,36],[147,21,148,25],[147,26,148,28],[147,29,148,30],[147,31,148,31],[147,32,148,32],[147,33,148,36]]}
["様式1-(1)",null,null,null,null,null,null,null,null,null,null,null,null,null,null,null,null,null,null,null,null,null,null,null,null,null,null,null,null,null,null,"(査定協会提出用)"]
["商品中古自動車証明申請書",null,null,null,null,null,null,null,null,null,null,null,null,null,null,null,null,null,null,null,null,null,null,null,null,null,null,null,null,null,null,null,null,null,null,null,null,null,null,null,null,null,null,null,null,null,null,null,"記入箇所"]
[null,null,null,null,null,null,null,null,null,null,null,null,null,null,null,null,null,null,null,null,"（企業コード番号　　　　　　　　　　　　）",null,null,null,null,null,null,null,null,null,null,null,"（7枚目）"]
[]
[null,"一般財団法人　日本自動車査定協会",null,null,null,null,null,null,null,null,null,null,null,null,null,null,null,null,"令和",null,{"$f":"'1枚目'!U5","v":0},null,"年",{"$f":"'1枚目'!X5","v":0},null,"月",{"$f":"'1枚目'!AA5","v":0},null,"日"]
[null,"　　　　　　　　　　　　　　　京都府支所長　　様",null,null,null,null,null,null,null,null,null,null,null,null,null,null,null,"申請者","（登録名義人）","住所(所在地)",null,null,null,null,{"$f":"'1枚目'!Y6","v":0}]
[null,"　商品中古自動車確認証明業務実施要領に基づき下記の自動車が商品中古自動車であることの証明を申請します。\n　なお、下記の自動車が商品自動車であること及び記載事項に相違ないこと並びに現地調査が行われる場合には協力することを確約いたします。",null,null,null,null,null,null,null,null,null,null,null,null,null,null,null,null,null,"氏名(名称)",null,null,null,null,{"$f":"'1枚目'!Y7","v":0}]
[null,null,null,null,null,null,null,null,null,null,null,null,null,null,null,null,null,null,null,"代表者名",null,null,null,null,{"$f":"'1枚目'!Y8","v":0}]
[null,null,null,null,null,null,null,null,null,null,null,null,null,null,null,null,null,null,null,"電話番号",null,null,null,null,{"$f":"'1枚目'!Y9","v":0}]
[null,null,null,null,null,null,null,null,null,null,null,null,null,null,null,null,null,null,null,"担当者名",null,null,null,null,{"$f":"'1枚目'!Y10","v":0}]
[null,null,null,null,null,null,null,null,null,null,null,null,null,null,null,null,null,null,null,"古物商許可番号",null,null,null,null,null,null,"第",{"$f":"'1枚目'!AB11","v":0},null,null,null,null,null,null,null,null,"号"]
[]
[null,"NO.",null,"登録番号",null,null,null,null,null,null,null,null,null,null,null,null,"車台番号",null,null,null,null,"登録\n年月日",null,null,null,null,"展示場",null,null,"調査",null,null,null,"備考"]
[null,null,null,"区分",null,"車種",null,null,null,"かな",null,"番号",null,null,null,null,"(下3ｹﾀ)",null,null,null,null,null,null,null,null,null,null,null,null,"月日",null,"結果"]
[null,91,null,null,null,null,null,null,null,null,null,null,null,null,null,null,null,null,null,null,null,null,null,null,null,null,null,null,null,null,null,"現","帳"]
[null,null,null,"京都"]
[null,92,null,null,null,null,null,null,null,null,null,null,null,null,null,null,null,null,null,null,null,null,null,null,null,null,null,null,null,null,null,"現","帳"]
[null,null,null,"京都"]
[null,93,null,null,null,null,null,null,null,null,null,null,null,null,null,null,null,null,null,null,null,null,null,null,null,null,null,null,null,null,null,"現","帳"]
[null,null,null,"京都"]
[null,94,null,null,null,null,null,null,null,null,null,null,null,null,null,null,null,null,null,null,null,null,null,null,null,null,null,null,null,null,null,"現","帳"]
[null,null,null,"京都"]
[null,95,null,null,null,null,null,null,null,null,null,null,null,null,null,null,null,null,null,null,null,null,null,null,null,null,null,null,null,null,null,"現","帳"]
[null,null,null,"京都"]
[null,96,null,null,null,null,null,null,null,null,null,null,null,null,null,null,null,null,null,null,null,null,null,null,null,null,null,null,null,null,null,"現","帳"]
[null,null,null,"京都"]
[null,97,null,null,null,null,null,null,null,null,null,null,null,null,null,null,null,null,null,null,null,null,null,null,null,null,null,null,null,null,null,"現","帳"]
[null,null,null,"京都"]
[null,98,null,null,null,null,null,null,null,null,null,null,null,null,null,null,null,null,null,null,null,null,null,null,null,null,null,null,null,null,null,"現","帳"]
[null,null,null,"京都"]
[null,99,null,null,null,null,null,null,null,null,null,null,null,null,null,null,null,null,null,null,null,null,null,null,null,null,null,null,null,null,null,"現","帳"]
[null,null,null,"京都"]
[null,100,null,null,null,null,null,null,null,null,null,null,null,null,null,null,null,null,null,null,null,null,null,null,null,null,null,null,null,null,null,"現","帳"]
[null,null,null,"京都"]
[null,101,null,null,null,null,null,null,null,null,null,null,null,null,null,null,null,null,null,null,null,null,null,null,null,null,null,null,null,null,null,"現","帳"]
[null,null,null,"京都"]
[null,102,null,null,null,null,null,null,null,null,null,null,null,null,null,null,null,null,null,null,null,null,null,null,null,null,null,null,null,null,null,"現","帳"]
[null,null,null,"京都"]
[null,103,null,null,null,null,null,null,null,null,null,null,null,null,null,null,null,null,null,null,null,null,null,null,null,null,null,null,null,null,null,"現","帳"]
[null,null,null,"京都"]
[null,104,null,null,null,null,null,null,null,null,null,null,null,null,null,null,null,null,null,null,null,null,null,null,null,null,null,null,null,null,null,"現","帳"]
[null,null,null,"京都"]
[null,105,null,null,null,null,null,null,null,null,null,null,null,null,null,null,null,null,null,null,null,null,null,null,null,null,null,null,null,null,null,"現","帳"]
[null,null,null,"京都"]
[]
[null,null,null,null,null,null,null,null,null,null,null,null,null,null,null,null,null,"誓約事項"]
[null,null,null,null,null,null,null,null,null,null,null,null,null,null,null,null,null,null,null,"申請する自動車には、取得時の登録事由が新規登"]
[null,null,null,null,null,null,null,null,null,null,null,null,null,null,null,null,null,null,null,"録（新車・中古車とも）のものを含みません。"]
[]
[null,null,null,null,null,null,null,null,null,null,null,null,null,null,null,null,null,null,null,null,null,"担当者署名欄"]
["様式1-(2)",null,null,null,null,null,null,null,null,null,null,null,null,null,null,null,null,null,null,null,null,null,null,null,null,null,null,"(自動車税管理事務所提出用)"]
["商品中古自動車の自動車税の種別割減免申請書"]
[null,null,null,null,null,null,null,null,null,null,null,null,null,null,null,null,null,null,null,null,"（企業コード番号　　　　　　　　　　　　）",null,null,null,null,null,null,null,null,null,null,null,{"$f":"AG3","v":"（7枚目）"}]
[]
[null,"京都府自動車税管理事務所長　様",null,null,null,null,null,null,null,null,null,null,null,null,null,null,null,null,"令和",null,{"$f":"U5","v":0},null,"年",{"$f":"X5","v":0},null,"月",{"$f":"AA5","v":0},null,"日"]
[null,null,null,null,null,null,null,null,null,null,null,null,null,null,null,null,null,"申請者","（登録名義人）","住所(所在地)",null,null,null,null,{"$f":"Y6","v":0}]
[null,"　   京都府府税条例第70条第2項の規定に基づき、\n  下記のとおり申請します。",null,null,null,null,null,null,null,null,null,null,null,null,null,null,null,null,null,"氏名(名称)",null,null,null,null,{"$f":"Y7","v":0}]
[null,null,null,null,null,null,null,null,null,null,null,null,null,null,null,null,null,null,null,"代表者名",null,null,null,null,{"$f":"Y8","v":0}]
[null,null,null,null,null,null,null,null,null,null,null,null,null,null,null,null,null,null,null,"電話番号",null,null,null,null,{"$f":"Y9","v":0}]
[null,null,null,null,null,null,null,null,null,null,null,null,null,null,null,null,null,null,null,"担当者名",null,null,null,null,{"$f":"Y10","v":0}]
[null,null,null,null,null,null,null,null,null,null,null,null,null,null,null,null,null,null,null,"古物商許可番号",null,null,null,null,null,null,"第",{"$f":"AB11","v":0},null,null,null,null,null,null,null,null,"号"]
[]
[null,"減　免　対　象　自　動　車　の　総　台　数",null,null,null,null,null,null,null,null,null,null,null,null,null,null,null,null,null,null,null,"台"]
[null,"NO.",null,"登録番号",null,null,null,null,null,null,null,null,null,null,null,null,"車台番号",null,null,null,null,"備　　　　　考"]
[null,null,null,"区分",null,"車種",null,null,null,"かな",null,"番号",null,null,null,null,"(下3ｹﾀ)"]
[null,{"$f":"B15","v":91}]
[null,null,null,{"$f":"D16","v":"京都"},null,null,null,null,null,{"$f":"J16","v":0}]
[null,{"$f":"B17","v":92}]
[null,null,null,{"$f":"D18","v":"京都"},null,{"$f":"F18","v":0},null,null,null,{"$f":"J18","v":0},null,{"$f":"L18","v":0},null,null,null,null,{"$f":"Q18","v":0}]
[null,{"$f":"B19","v":93}]
[null,null,null,{"$f":"D20","v":"京都"},null,{"$f":"F20","v":0},null,null,null,{"$f":"J20","v":0},null,{"$f":"L20","v":0},null,null,null,null,{"$f":"Q20","v":0}]
[null,{"$f":"B21","v":94}]
[null,null,null,{"$f":"D22","v":"京都"},null,{"$f":"F22","v":0},null,null,null,{"$f":"J22","v":0},null,{"$f":"L22","v":0},null,null,null,null,{"$f":"Q22","v":0}]
[null,{"$f":"B23","v":95}]
[null,null,null,{"$f":"D24","v":"京都"},null,{"$f":"F24","v":0},null,null,null,{"$f":"J24","v":0},null,{"$f":"L24","v":0},null,null,null,null,{"$f":"Q24","v":0}]
[null,{"$f":"B25","v":96}]
[null,null,null,{"$f":"D26","v":"京都"},null,{"$f":"F26","v":0},null,null,null,{"$f":"J26","v":0},null,{"$f":"L26","v":0},null,null,null,null,{"$f":"Q26","v":0}]
[null,{"$f":"B27","v":97}]
[null,null,null,{"$f":"D28","v":"京都"},null,{"$f":"F28","v":0},null,null,null,{"$f":"J28","v":0},null,{"$f":"L28","v":0},null,null,null,null,{"$f":"Q28","v":0}]
[null,{"$f":"B29","v":98}]
[null,null,null,{"$f":"D30","v":"京都"},null,{"$f":"F30","v":0},null,null,null,{"$f":"J30","v":0},null,{"$f":"L30","v":0},null,null,null,null,{"$f":"Q30","v":0}]
[null,{"$f":"B31","v":99}]
[null,null,null,{"$f":"D32","v":"京都"},null,{"$f":"F32","v":0},null,null,null,{"$f":"J32","v":0},null,{"$f":"L32","v":0},null,null,null,null,{"$f":"Q32","v":0}]
[null,{"$f":"B33","v":100}]
[null,null,null,{"$f":"D34","v":"京都"},null,{"$f":"F34","v":0},null,null,null,{"$f":"J34","v":0},null,{"$f":"L34","v":0},null,null,null,null,{"$f":"Q34","v":0}]
[null,{"$f":"B35","v":101}]
[null,null,null,{"$f":"D36","v":"京都"},null,{"$f":"F36","v":0},null,null,null,{"$f":"J36","v":0},null,{"$f":"L36","v":0},null,null,null,null,{"$f":"Q36","v":0}]
[null,{"$f":"B37","v":102}]
[null,null,null,{"$f":"D38","v":"京都"},null,{"$f":"F38","v":0},null,null,null,{"$f":"J38","v":0},null,{"$f":"L38","v":0},null,null,null,null,{"$f":"Q38","v":0}]
[null,{"$f":"B39","v":103}]
[null,null,null,{"$f":"D40","v":"京都"},null,{"$f":"F40","v":0},null,null,null,{"$f":"J40","v":0},null,{"$f":"L40","v":0},null,null,null,null,{"$f":"Q40","v":0}]
[null,{"$f":"B41","v":104}]
[null,null,null,{"$f":"D42","v":"京都"},null,{"$f":"F42","v":0},null,null,null,{"$f":"J42","v":0},null,{"$f":"L42","v":0},null,null,null,null,{"$f":"Q42","v":0}]
[null,{"$f":"B43","v":105}]
[null,null,null,{"$f":"D44","v":"京都"},null,{"$f":"F44","v":0},null,null,null,{"$f":"J44","v":0},null,{"$f":"L44","v":0},null,null,null,null,{"$f":"Q44","v":0}]
[]
[null,null,null,null,null,null,null,null,null,null,null,null,null,null,null,null,null,null,null,"　上記は、商品中古自動車確認証明業務実施要領\nに定める商品中古自動車であることを証明する。"]
[]
[null,null,null,null,null,null,null,null,null,null,null,null,null,null,null,null,null,null,null,null,"令和　　　年　　　月　　　日"]
[]
[null,null,null,null,null,null,null,null,null,null,null,null,null,null,null,null,null,null,"住　　所"]
[]
[null,null,null,null,null,null,null,null,null,null,null,null,null,null,null,null,null,null,"支 所 名"]
[]
[null,null,null,null,null,null,null,null,null,null,null,null,null,null,null,null,null,null,"代表者名",null,null,null,null,null,null,null,null,null,null,null,null,null,null,null,null,null,"㊞"]
["様式1-(3)",null,null,null,null,null,null,null,null,null,null,null,null,null,null,null,null,null,null,null,null,null,null,null,null,null,null,null,null,null,null,null,null,"(申請者控)"]
["商品中古自動車証明申請書"]
[null,null,null,null,null,null,null,null,null,null,null,null,null,null,null,null,null,null,null,null,"（企業コード番号　　　　　　　　　　　　）",null,null,null,null,null,null,null,null,null,null,null,{"$f":"AG3","v":"（7枚目）"}]
[]
[null,"一般財団法人　日本自動車査定協会",null,null,null,null,null,null,null,null,null,null,null,null,null,null,null,null,"令和",null,{"$f":"U5","v":0},null,"年",{"$f":"X5","v":0},null,"月",{"$f":"AA5","v":0},null,"日"]
[null,"　　　　　　　　　　　　　　　京都府支所長　　様",null,null,null,null,null,null,null,null,null,null,null,null,null,null,null,"申請者","（登録名義人）","住所(所在地)",null,null,null,null,{"$f":"Y6","v":0}]
[null,"　商品中古自動車確認証明業務実施要領に基づき下記の自動車が商品中古自動車であることの証明を申請します。\n　なお、下記の自動車が商品自動車であること及び記載事項に相違ないこと並びに現地調査が行われる場合には協力することを確約いたします。",null,null,null,null,null,null,null,null,null,null,null,null,null,null,null,null,null,"氏名(名称)",null,null,null,null,{"$f":"Y7","v":0}]
[null,null,null,null,null,null,null,null,null,null,null,null,null,null,null,null,null,null,null,"代表者名",null,null,null,null,{"$f":"Y8","v":0}]
[null,null,null,null,null,null,null,null,null,null,null,null,null,null,null,null,null,null,null,"電話番号",null,null,null,null,{"$f":"Y9","v":0}]
[null,null,null,null,null,null,null,null,null,null,null,null,null,null,null,null,null,null,null,"担当者名",null,null,null,null,{"$f":"Y10","v":0}]
[null,null,null,null,null,null,null,null,null,null,null,null,null,null,null,null,null,null,null,"古物商許可番号",null,null,null,null,null,null,"第",{"$f":"AB11","v":0},null,null,null,null,null,null,null,null,"号"]
[]
[null,"NO.",null,"登録番号",null,null,null,null,null,null,null,null,null,null,null,null,"車台番号",null,null,null,null,"登録\n年月日",null,null,null,null,"展示場",null,null,"調査",null,null,null,"備考"]
[null,null,null,"区分",null,"車種",null,null,null,"かな",null,"番号",null,null,null,null,"(下3ｹﾀ)",null,null,null,null,null,null,null,null,null,null,null,null,"月日",null,"結果"]
[null,{"$f":"B15","v":91},null,null,null,null,null,null,null,null,null,null,null,null,null,null,null,null,null,null,null,{"$f":"V15","v":"00:00:00"},null,null,null,null,{"$f":"AA15","v":0},null,null,null,null,"現","帳"]
[null,null,null,{"$f":"D16","v":"京都"},null,{"$f":"F16","v":0},null,null,null,{"$f":"J16","v":0},null,{"$f":"L16","v":0},null,null,null,null,{"$f":"Q16","v":0}]
[null,{"$f":"B17","v":92},null,null,null,null,null,null,null,null,null,null,null,null,null,null,null,null,null,null,null,{"$f":"V17","v":"00:00:00"},null,null,null,null,{"$f":"AA17","v":0},null,null,null,null,"現","帳"]
[null,null,null,{"$f":"D18","v":"京都"},null,{"$f":"F18","v":0},null,null,null,{"$f":"J18","v":0},null,{"$f":"L18","v":0},null,null,null,null,{"$f":"Q18","v":0}]
[null,{"$f":"B19","v":93},null,null,null,null,null,null,null,null,null,null,null,null,null,null,null,null,null,null,null,{"$f":"V19","v":"00:00:00"},null,null,null,null,{"$f":"AA19","v":0},null,null,null,null,"現","帳"]
[null,null,null,{"$f":"D20","v":"京都"},null,{"$f":"F20","v":0},null,null,null,{"$f":"J20","v":0},null,{"$f":"L20","v":0},null,null,null,null,{"$f":"Q20","v":0}]
[null,{"$f":"B21","v":94},null,null,null,null,null,null,null,null,null,null,null,null,null,null,null,null,null,null,null,{"$f":"V21","v":"00:00:00"},null,null,null,null,{"$f":"AA21","v":0},null,null,null,null,"現","帳"]
[null,null,null,{"$f":"D22","v":"京都"},null,{"$f":"F22","v":0},null,null,null,{"$f":"J22","v":0},null,{"$f":"L22","v":0},null,null,null,null,{"$f":"Q22","v":0}]
[null,{"$f":"B23","v":95},null,null,null,null,null,null,null,null,null,null,null,null,null,null,null,null,null,null,null,{"$f":"V23","v":"00:00:00"},null,null,null,null,{"$f":"AA23","v":0},null,null,null,null,"現","帳"]
[null,null,null,{"$f":"D24","v":"京都"},null,{"$f":"F24","v":0},null,null,null,{"$f":"J24","v":0},null,{"$f":"L24","v":0},null,null,null,null,{"$f":"Q24","v":0}]
[null,{"$f":"B25","v":96},null,null,null,null,null,null,null,null,null,null,null,null,null,null,null,null,null,null,null,{"$f":"V25","v":"00:00:00"},null,null,null,null,{"$f":"AA25","v":0},null,null,null,null,"現","帳"]
[null,null,null,{"$f":"D26","v":"京都"},null,{"$f":"F26","v":0},null,null,null,{"$f":"J26","v":0},null,{"$f":"L26","v":0},null,null,null,null,{"$f":"Q26","v":0}]
[null,{"$f":"B27","v":97},null,null,null,null,null,null,null,null,null,null,null,null,null,null,null,null,null,null,null,{"$f":"V27","v":"00:00:00"},null,null,null,null,{"$f":"AA27","v":0},null,null,null,null,"現","帳"]
[null,null,null,{"$f":"D28","v":"京都"},null,{"$f":"F28","v":0},null,null,null,{"$f":"J28","v":0},null,{"$f":"L28","v":0},null,null,null,null,{"$f":"Q28","v":0}]
[null,{"$f":"B29","v":98},null,null,null,null,null,null,null,null,null,null,null,null,null,null,null,null,null,null,null,{"$f":"V29","v":"00:00:00"},null,null,null,null,{"$f":"AA29","v":0},null,null,null,null,"現","帳"]
[null,null,null,{"$f":"D30","v":"京都"},null,{"$f":"F30","v":0},null,null,null,{"$f":"J30","v":0},null,{"$f":"L30","v":0},null,null,null,null,{"$f":"Q30","v":0}]
[null,{"$f":"B31","v":99},null,null,null,null,null,null,null,null,null,null,null,null,null,null,null,null,null,null,null,{"$f":"V31","v":"00:00:00"},null,null,null,null,{"$f":"AA31","v":0},null,null,null,null,"現","帳"]
[null,null,null,{"$f":"D32","v":"京都"},null,{"$f":"F32","v":0},null,null,null,{"$f":"J32","v":0},null,{"$f":"L32","v":0},null,null,null,null,{"$f":"Q32","v":0}]
[null,{"$f":"B33","v":100},null,null,null,null,null,null,null,null,null,null,null,null,null,null,null,null,null,null,null,{"$f":"V33","v":"00:00:00"},null,null,null,null,{"$f":"AA33","v":0},null,null,null,null,"現","帳"]
[null,null,null,{"$f":"D34","v":"京都"},null,{"$f":"F34","v":0},null,null,null,{"$f":"J34","v":0},null,{"$f":"L34","v":0},null,null,null,null,{"$f":"Q34","v":0}]
[null,{"$f":"B35","v":101},null,null,null,null,null,null,null,null,null,null,null,null,null,null,null,null,null,null,null,{"$f":"V35","v":"00:00:00"},null,null,null,null,{"$f":"AA35","v":0},null,null,null,null,"現","帳"]
[null,null,null,{"$f":"D36","v":"京都"},null,{"$f":"F36","v":0},null,null,null,{"$f":"J36","v":0},null,{"$f":"L36","v":0},null,null,null,null,{"$f":"Q36","v":0}]
[null,{"$f":"B37","v":102},null,null,null,null,null,null,null,null,null,null,null,null,null,null,null,null,null,null,null,{"$f":"V37","v":"00:00:00"},null,null,null,null,{"$f":"AA37","v":0},null,null,null,null,"現","帳"]
[null,null,null,{"$f":"D38","v":"京都"},null,{"$f":"F38","v":0},null,null,null,{"$f":"J38","v":0},null,{"$f":"L38","v":0},null,null,null,null,{"$f":"Q38","v":0}]
[null,{"$f":"B39","v":103},null,null,null,null,null,null,null,null,null,null,null,null,null,null,null,null,null,null,null,{"$f":"V39","v":"00:00:00"},null,null,null,null,{"$f":"AA39","v":0},null,null,null,null,"現","帳"]
[null,null,null,{"$f":"D40","v":"京都"},null,{"$f":"F40","v":0},null,null,null,{"$f":"J40","v":0},null,{"$f":"L40","v":0},null,null,null,null,{"$f":"Q40","v":0}]
[null,{"$f":"B41","v":104},null,null,null,null,null,null,null,null,null,null,null,null,null,null,null,null,null,null,null,{"$f":"V41","v":"00:00:00"},null,null,null,null,{"$f":"AA41","v":0},null,null,null,null,"現","帳"]
[null,null,null,{"$f":"D42","v":"京都"},null,{"$f":"F42","v":0},null,null,null,{"$f":"J42","v":0},null,{"$f":"L42","v":0},null,null,null,null,{"$f":"Q42","v":0}]
[null,{"$f":"B43","v":105},null,null,null,null,null,null,null,null,null,null,null,null,null,null,null,null,null,null,null,{"$f":"V43","v":"00:00:00"},null,null,null,null,{"$f":"AA43","v":0},null,null,null,null,"現","帳"]
[null,null,null,{"$f":"D44","v":"京都"},null,{"$f":"F44","v":0},null,null,null,{"$f":"J44","v":0},null,{"$f":"L44","v":0},null,null,null,null,{"$f":"Q44","v":0}]
[]
[null,null,null,null,null,null,null,null,null,null,null,null,null,null,null,null,null,"誓約事項"]
[null,null,null,null,null,null,null,null,null,null,null,null,null,null,null,null,null,null,null,"申請する自動車には、取得時の登録事由が新規登"]
[null,null,null,null,null,null,null,null,null,null,null,null,null,null,null,null,null,null,null,"録（新車・中古車とも）のものを含みません。"]
[]
[null,null,null,null,null,null,null,null,null,null,null,null,null,null,null,null,null,null,null,null,null,"担当者署名欄"]

{"sheet":"8枚目","index":8,"n_rows":155,"n_cols":49,"rows_kept":155,"cut":false,"hidden":false,"merged":[[6,1,9,16],[6,19,6,23],[6,24,6,37],[7,19,7,23],[7,24,7,37],[8,19,8,23],[1,0,1,37],[1,48,2,51],[2,20,2,31],[2,32,2,36],[4,18,4,19],[4,20,4,21],[4,23,4,24],[4,26,4,27],[8,24,8,37],[9,19,9,23],[9,24,9,37],[10,19,10,25],[10,27,10,35],[10,36,10,37],[5,17,10,17],[5,18,10,18],[5,19,5,23],[5,24,5,37],[12,33,13,36],[13,3,13,4],[13,5,13,8],[13,9,13,10],[13,11,13,15],[13,16,13,20],[13,29,13,30],[13,31,13,32],[12,1,13,2],[12,3,12,15],[12,16,12,20],[12,21,13,25],[12,26,13,28],[12,29,12,32],[14,21,15,25],[14,26,15,28],[14,29,15,30],[14,31,15,31],[14,32,15,32],[14,33,15,36],[14,1,15,2],[14,3,14,4],[14,5,14,8],[14,9,14,10],[14,11,14,15],[14,16,14,20],[15,3,15,4],[15,5,15,8],[15,9,15,10],[15,11,15,15],[15,16,15,20],[16,1,17,2],[16,3,16,4],[16,5,16,8],[16,9,16,10],[16,11,16,15],[16,16,16,20],[17,3,17,4],[17,5,17,8],[17,9,17,10],[18,21,19,25],[18,26,19,28],[18,29,19,30],[18,31,19,31],[18,32,19,32],[18,33,19,36],[17,11,17,15],[17,16,17,20],[18,1,19,2],[18,3,18,4],[18,5,18,8],[18,9,18,10],[18,11,18,15],[18,16,18,20],[19,3,19,4],[19,5,19,8],[16,21,17,25],[16,26,17,28],[16,29,17,30],[16,31,17,31],[16,32,17,32],[16,33,17,36],[19,9,19,10],[19,11,19,15],[19,16,19,20],[20,1,21,2],[20,3,20,4],[20,5,20,8],[20,9,20,10],[20,11,20,15],[20,16,20,20],[21,3,21,4],[22,21,23,25],[22,26,23,28],[22,29,23,30],[22,31,23,31],[22,32,23,32],[22,33,23,36],[21,5,21,8],[21,9,21,10],[21,11,21,15],[21,16,21,20],[22,5,22,8],[22,9,22,10],[22,11,22,15],[22,16,22,20],[20,21,21,25],[20,26,21,28],[20,29,21,30],[20,31,21,31],[20,32,21,32],[20,33,21,36],[23,3,23,4],[23,5,23,8],[23,9,23,10],[23,11,23,15],[23,16,23,20],[24,1,25,2],[24,3,24,4],[24,5,24,8],[24,9,24,10],[24,11,24,15],[22,1,23,2],[22,3,22,4],[24,33,25,36],[25,3,25,4],[25,5,25,8],[25,9,25,10],[25,11,25,15],[25,16,25,20],[24,16,24,20],[24,21,25,25],[24,26,25,28],[24,29,25,30],[24,31,25,31],[24,32,25,32],[26,21,27,25],[26,26,27,28],[26,29,27,30],[26,31,27,31],[26,32,27,32],[26,33,27,36],[26,1,27,2],[26,3,26,4],[26,5,26,8],[26,9,26,10],[26,11,26,15],[26,16,26,20],[27,3,27,4],[27,5,27,8],[27,9,27,10],[27,11,27,15],[27,16,27,20],[28,1,29,2],[28,3,28,4],[28,5,28,8],[28,9,28,10],[28,11,28,15],[28,16,28,20],[29,3,29,4],[29,5,29,8],[29,9,29,10],[30,21,31,25],[30,26,31,28],[30,29,31,30],[30,31,31,31],[30,32,31,32],[30,33,31,36],[29,11,29,15],[29,16,29,20],[30,1,31,2],[30,3,30,4],[30,5,30,8],[30,9,30,10],[30,11,30,15],[30,16,30,20],[31,3,31,4],[31,5,31,8],[28,21,29,25],[28,26,29,28],[28,29,29,30],[28,31,29,31],[28,32,29,32],[28,33,29,36],[31,9,31,10],[31,11,31,15],[31,16,31,20],[32,1,33,2],[32,3,32,4],[32,5,32,8],[32,9,32,10],[32,11,32,15],[32,16,32,20],[33,3,33,4],[34,21,35,25],[34,26,35,28],[34,29,35,30],[34,31,35,31],[34,32,35,32],[34,33,35,36],[33,5,33,8],[33,9,33,10],[33,11,33,15],[33,16,33,20],[34,5,34,8],[34,9,34,10],[34,11,34,15],[34,16,34,20],[32,21,33,25],[32,26,33,28],[32,29,33,30],[32,31,33,31],[32,32,33,32],[32,33,33,36],[35,3,35,4],[35,5,35,8],[35,9,35,10],[35,11,35,15],[35,16,35,20],[36,1,37,2],[36,3,36,4],[36,5,36,8],[36,9,36,10],[36,11,36,15],[34,1,35,2],[34,3,34,4],[38,5,38,8],[38,9,38,10],[38,11,38,15],[38,16,38,20],[39,3,39,4],[39,5,39,8],[39,9,39,10],[39,11,39,15],[36,33,37,36],[37,3,37,4],[37,5,37,8],[37,9,37,10],[37,11,37,15],[37,16,37,20],[36,16,36,20],[36,21,37,25],[36,26,37,28],[36,29,37,30],[36,31,37,31],[36,32,37,32],[40,21,41,25],[40,26,41,28],[40,29,41,30],[40,31,41,31],[40,32,41,32],[40,33,41,36],[39,16,39,20],[40,1,41,2],[40,3,40,4],[40,5,40,8],[40,9,40,10],[40,11,40,15],[40,16,40,20],[41,3,41,4],[41,5,41,8],[41,9,41,10],[38,21,39,25],[38,26,39,28],[38,29,39,30],[38,31,39,31],[38,32,39,32],[38,33,39,36],[38,1,39,2],[38,3,38,4],[41,11,41,15],[41,16,41,20],[42,1,43,2],[42,3,42,4],[42,5,42,8],[42,9,42,10],[42,11,42,15],[42,16,42,20],[43,3,43,4],[43,5,43,8],[43,9,43,10],[43,11,43,15],[43,16,43,20],[45,17,49,18],[46,19,46,36],[47,19,47,36],[42,21,43,25],[42,26,43,28],[42,29,43,30],[42,31,43,31],[42,32,43,32],[42,33,43,36],[56,1,59,16],[56,19,56,23],[56,24,56,37],[57,19,57,23],[57,24,57,37],[58,19,58,23],[51,0,51,37],[52,20,52,31],[52,32,52,36],[54,18,54,19],[54,20,54,21],[54,23,54,24],[54,26,54,27],[58,24,58,37],[59,19,59,23],[59,24,59,37],[60,19,60,25],[60,27,60,35],[60,36,60,37],[55,17,60,17],[55,18,60,18],[55,19,55,23],[55,24,55,37],[62,1,62,20],[62,21,62,36],[63,1,64,2],[63,3,63,15],[63,16,63,20],[63,21,64,36],[64,3,64,4],[64,5,64,8],[64,9,64,10],[64,11,64,15],[65,21,66,36],[66,3,66,4],[66,5,66,8],[66,9,66,10],[66,11,66,15],[66,16,66,20],[64,16,64,20],[65,1,66,2],[65,3,65,4],[65,5,65,8],[65,9,65,10],[65,11,65,15],[65,16,65,20],[67,21,68,36],[68,3,68,4],[68,5,68,8],[68,9,68,10],[68,11,68,15],[68,16,68,20],[67,1,68,2],[67,3,67,4],[67,5,67,8],[67,9,67,10],[67,11,67,15],[67,16,67,20],[69,21,70,36],[70,3,70,4],[70,5,70,8],[70,9,70,10],[70,11,70,15],[70,16,70,20],[69,1,70,2],[69,3,69,4],[69,5,69,8],[69,9,69,10],[69,11,69,15],[69,16,69,20],[71,21,72,36],[72,3,72,4],[72,5,72,8],[72,9,72,10],[72,11,72,15],[72,16,72,20],[71,1,72,2],[71,3,71,4],[71,5,71,8],[71,9,71,10],[71,11,71,15],[71,16,71,20],[73,21,74,36],[74,3,74,4],[74,5,74,8],[74,9,74,10],[74,11,74,15],[74,16,74,20],[73,1,74,2],[73,3,73,4],[73,5,73,8],[73,9,73,10],[73,11,73,15],[73,16,73,20],[75,21,76,36],[76,3,76,4],[76,5,76,8],[76,9,76,10],[76,11,76,15],[76,16,76,20],[75,1,76,2],[75,3,75,4],[75,5,75,8],[75,9,75,10],[75,11,75,15],[75,16,75,20],[77,21,78,36],[78,3,78,4],[78,5,78,8],[78,9,78,10],[78,11,78,15],[78,16,78,20],[77,1,78,2],[77,3,77,4],[77,5,77,8],[77,9,77,10],[77,11,77,15],[77,16,77,20],[79,21,80,36],[80,3,80,4],[80,5,80,8],[80,9,80,10],[80,11,80,15],[80,16,80,20],[79,1,80,2],[79,3,79,4],[79,5,79,8],[79,9,79,10],[79,11,79,15],[79,16,79,20],[81,21,82,36],[82,3,82,4],[82,5,82,8],[82,9,82,10],[82,11,82,15],[82,16,82,20],[81,1,82,2],[81,3,81,4],[81,5,81,8],[81,9,81,10],[81,11,81,15],[81,16,81,20],[83,21,84,36],[84,3,84,4],[84,5,84,8],[84,9,84,10],[84,11,84,15],[84,16,84,20],[83,1,84,2],[83,3,83,4],[83,5,83,8],[83,9,83,10],[83,11,83,15],[83,16,83,20],[85,21,86,36],[86,3,86,4],[86,5,86,8],[86,9,86,10],[86,11,86,15],[86,16,86,20],[85,1,86,2],[85,3,85,4],[85,5,85,8],[85,9,85,10],[85,11,85,15],[85,16,85,20],[87,21,88,36],[88,3,88,4],[88,5,88,8],[88,9,88,10],[88,11,88,15],[88,16,88,20],[87,1,88,2],[87,3,87,4],[87,5,87,8],[87,9,87,10],[87,11,87,15],[87,16,87,20],[89,21,90,36],[90,3,90,4],[90,5,90,8],[90,9,90,10],[90,11,90,15],[90,16,90,20],[89,1,90,2],[89,3,89,4],[89,5,89,8],[89,9,89,10],[89,11,89,15],[89,16,89,20],[91,21,92,36],[92,3,92,4],[92,5,92,8],[92,9,92,10],[92,11,92,15],[92,16,92,20],[91,1,92,2],[91,3,91,4],[91,5,91,8],[91,9,91,10],[91,11,91,15],[91,16,91,20],[96,19,96,36],[100,18,100,21],[102,18,102,21],[104,18,104,21],[106,0,106,37],[107,20,107,31],[107,32,107,36],[93,21,94,36],[94,3,94,4],[94,5,94,8],[94,9,94,10],[94,11,94,15],[94,16,94,20],[93,1,94,2],[93,3,93,4],[93,5,93,8],[93,9,93,10],[93,11,93,15],[93,16,93,20],[109,18,109,19],[109,20,109,21],[109,23,109,24],[109,26,109,27],[110,17,115,17],[110,18,115,18],[110,19,110,23],[110,24,110,37],[115,19,115,25],[115,27,115,35],[111,1,114,16],[111,19,111,23],[111,24,111,37],[112,19,112,23],[112,24,112,37],[113,19,113,23],[113,24,113,37],[114,19,114,23],[114,24,114,37],[115,36,115,37],[117,1,118,2],[117,3,117,15],[117,16,117,20],[117,21,118,25],[117,26,118,28],[117,29,117,32],[117,33,118,36],[118,3,118,4],[118,5,118,8],[118,9,118,10],[118,11,118,15],[118,16,118,20],[118,29,118,30],[118,31,118,32],[119,1,120,2],[119,3,119,4],[119,5,119,8],[119,9,119,10],[119,11,119,15],[119,33,120,36],[120,3,120,4],[120,5,120,8],[120,9,120,10],[120,11,120,15],[120,16,120,20],[119,16,119,20],[119,21,120,25],[119,26,120,28],[119,29,120,30],[119,31,120,31],[119,32,120,32],[121,21,122,25],[121,26,122,28],[121,29,122,30],[121,31,122,31],[121,32,122,32],[121,33,122,36],[121,1,122,2],[121,3,121,4],[121,5,121,8],[121,9,121,10],[121,11,121,15],[121,16,121,20],[122,3,122,4],[122,5,122,8],[122,9,122,10],[122,11,122,15],[122,16,122,20],[123,1,124,2],[123,3,123,4],[123,5,123,8],[123,9,123,10],[123,11,123,15],[123,16,123,20],[124,3,124,4],[124,5,124,8],[124,9,124,10],[125,21,126,25],[125,26,126,28],[125,29,126,30],[125,31,126,31],[125,32,126,32],[125,33,126,36],[124,11,124,15],[124,16,124,20],[125,1,126,2],[125,3,125,4],[125,5,125,8],[125,9,125,10],[125,11,125,15],[125,16,125,20],[126,3,126,4],[126,5,126,8],[123,21,124,25],[123,26,124,28],[123,29,124,30],[123,31,124,31],[123,32,124,32],[123,33,124,36],[126,9,126,10],[126,11,126,15],[126,16,126,20],[127,1,128,2],[127,3,127,4],[127,5,127,8],[127,9,127,10],[127,11,127,15],[127,16,127,20],[128,3,128,4],[129,21,130,25],[129,26,130,28],[129,29,130,30],[129,31,130,31],[129,32,130,32],[129,33,130,36],[128,5,128,8],[128,9,128,10],[128,11,128,15],[128,16,128,20],[129,5,129,8],[129,9,129,10],[129,11,129,15],[129,16,129,20],[127,21,128,25],[127,26,128,28],[127,29,128,30],[127,31,128,31],[127,32,128,32],[127,33,128,36],[130,3,130,4],[130,5,130,8],[130,9,130,10],[130,11,130,15],[130,16,130,20],[131,1,132,2],[131,3,131,4],[131,5,131,8],[131,9,131,10],[131,11,131,15],[129,1,130,2],[129,3,129,4],[131,33,132,36],[132,3,132,4],[132,5,132,8],[132,9,132,10],[132,11,132,15],[132,16,132,20],[131,16,131,20],[131,21,132,25],[131,26,132,28],[131,29,132,30],[131,31,132,31],[131,32,132,32],[133,21,134,25],[133,26,134,28],[133,29,134,30],[133,31,134,31],[133,32,134,32],[133,33,134,36],[133,1,134,2],[133,3,133,4],[133,5,133,8],[133,9,133,10],[133,11,133,15],[133,16,133,20],[134,3,134,4],[134,5,134,8],[134,9,134,10],[134,11,134,15],[134,16,134,20],[135,1,136,2],[135,3,135,4],[135,5,135,8],[135,9,135,10],[135,11,135,15],[135,16,135,20],[136,3,136,4],[136,5,136,8],[136,9,136,10],[137,21,138,25],[137,26,138,28],[137,29,138,30],[137,31,138,31],[137,32,138,32],[137,33,138,36],[136,11,136,15],[136,16,136,20],[137,1,138,2],[137,3,137,4],[137,5,137,8],[137,9,137,10],[137,11,137,15],[137,16,137,20],[138,3,138,4],[138,5,138,8],[135,21,136,25],[135,26,136,28],[135,29,136,30],[135,31,136,31],[135,32,136,32],[135,33,136,36],[138,9,138,10],[138,11,138,15],[138,16,138,20],[139,1,140,2],[139,3,139,4],[139,5,139,8],[139,9,139,10],[139,11,139,15],[139,16,139,20],[140,3,140,4],[141,21,142,25],[141,26,142,28],[141,29,142,30],[141,31,142,31],[141,32,142,32],[141,33,142,36],[140,5,140,8],[140,9,140,10],[140,11,140,15],[140,16,140,20],[141,5,141,8],[141,9,141,10],[141,11,141,15],[141,16,141,20],[139,21,140,25],[139,26,140,28],[139,29,140,30],[139,31,140,31],[139,32,140,32],[139,33,140,36],[142,3,142,4],[142,5,142,8],[142,9,142,10],[142,11,142,15],[142,16,142,20],[143,1,144,2],[143,3,143,4],[143,5,143,8],[143,9,143,10],[143,11,143,15],[141,1,142,2],[141,3,141,4],[143,33,144,36],[144,3,144,4],[144,5,144,8],[144,9,144,10],[144,11,144,15],[144,16,144,20],[143,16,143,20],[143,21,144,25],[143,26,144,28],[143,29,144,30],[143,31,144,31],[143,32,144,32],[145,21,146,25],[145,26,146,28],[145,29,146,30],[145,31,146,31],[145,32,146,32],[145,33,146,36],[145,1,146,2],[145,3,145,4],[145,5,145,8],[145,9,145,10],[145,11,145,15],[145,16,145,20],[146,3,146,4],[146,5,146,8],[146,9,146,10],[146,11,146,15],[146,16,146,20],[147,1,148,2],[147,3,147,4],[147,5,147,8],[147,9,147,10],[147,11,147,15],[147,16,147,20],[148,3,148,4],[148,5,148,8],[148,9,148,10],[148,11,148,15],[148,16,148,20],[150,17,154,18],[151,19,151,36],[152,19,152,36],[147,21,148,25],[147,26,148,28],[147,29,148,30],[147,31,148,31],[147,32,148,32],[147,33,148,36]]}
["様式1-(1)",null,null,null,null,null,null,null,null,null,null,null,null,null,null,null,null,null,null,null,null,null,null,null,null,null,null,null,null,null,null,"(査定協会提出用)"]
["商品中古自動車証明申請書",null,null,null,null,null,null,null,null,null,null,null,null,null,null,null,null,null,null,null,null,null,null,null,null,null,null,null,null,null,null,null,null,null,null,null,null,null,null,null,null,null,null,null,null,null,null,null,"記入箇所"]
[null,null,null,null,null,null,null,null,null,null,null,null,null,null,null,null,null,null,null,null,"（企業コード番号　　　　　　　　　　　　）",null,null,null,null,null,null,null,null,null,null,null,"（8枚目）"]
[]
[null,"一般財団法人　日本自動車査定協会",null,null,null,null,null,null,null,null,null,null,null,null,null,null,null,null,"令和",null,{"$f":"'1枚目'!U5","v":0},null,"年",{"$f":"'1枚目'!X5","v":0},null,"月",{"$f":"'1枚目'!AA5","v":0},null,"日"]
[null,"　　　　　　　　　　　　　　　京都府支所長　　様",null,null,null,null,null,null,null,null,null,null,null,null,null,null,null,"申請者","（登録名義人）","住所(所在地)",null,null,null,null,{"$f":"'1枚目'!Y6","v":0}]
[null,"　商品中古自動車確認証明業務実施要領に基づき下記の自動車が商品中古自動車であることの証明を申請します。\n　なお、下記の自動車が商品自動車であること及び記載事項に相違ないこと並びに現地調査が行われる場合には協力することを確約いたします。",null,null,null,null,null,null,null,null,null,null,null,null,null,null,null,null,null,"氏名(名称)",null,null,null,null,{"$f":"'1枚目'!Y7","v":0}]
[null,null,null,null,null,null,null,null,null,null,null,null,null,null,null,null,null,null,null,"代表者名",null,null,null,null,{"$f":"'1枚目'!Y8","v":0}]
[null,null,null,null,null,null,null,null,null,null,null,null,null,null,null,null,null,null,null,"電話番号",null,null,null,null,{"$f":"'1枚目'!Y9","v":0}]
[null,null,null,null,null,null,null,null,null,null,null,null,null,null,null,null,null,null,null,"担当者名",null,null,null,null,{"$f":"'1枚目'!Y10","v":0}]
[null,null,null,null,null,null,null,null,null,null,null,null,null,null,null,null,null,null,null,"古物商許可番号",null,null,null,null,null,null,"第",{"$f":"'1枚目'!AB11","v":0},null,null,null,null,null,null,null,null,"号"]
[]
[null,"NO.",null,"登録番号",null,null,null,null,null,null,null,null,null,null,null,null,"車台番号",null,null,null,null,"登録\n年月日",null,null,null,null,"展示場",null,null,"調査",null,null,null,"備考"]
[null,null,null,"区分",null,"車種",null,null,null,"かな",null,"番号",null,null,null,null,"(下3ｹﾀ)",null,null,null,null,null,null,null,null,null,null,null,null,"月日",null,"結果"]
[null,106,null,null,null,null,null,null,null,null,null,null,null,null,null,null,null,null,null,null,null,null,null,null,null,null,null,null,null,null,null,"現","帳"]
[null,null,null,"京都"]
[null,107,null,null,null,null,null,null,null,null,null,null,null,null,null,null,null,null,null,null,null,null,null,null,null,null,null,null,null,null,null,"現","帳"]
[null,null,null,"京都"]
[null,108,null,null,null,null,null,null,null,null,null,null,null,null,null,null,null,null,null,null,null,null,null,null,null,null,null,null,null,null,null,"現","帳"]
[null,null,null,"京都"]
[null,109,null,null,null,null,null,null,null,null,null,null,null,null,null,null,null,null,null,null,null,null,null,null,null,null,null,null,null,null,null,"現","帳"]
[null,null,null,"京都"]
[null,110,null,null,null,null,null,null,null,null,null,null,null,null,null,null,null,null,null,null,null,null,null,null,null,null,null,null,null,null,null,"現","帳"]
[null,null,null,"京都"]
[null,111,null,null,null,null,null,null,null,null,null,null,null,null,null,null,null,null,null,null,null,null,null,null,null,null,null,null,null,null,null,"現","帳"]
[null,null,null,"京都"]
[null,112,null,null,null,null,null,null,null,null,null,null,null,null,null,null,null,null,null,null,null,null,null,null,null,null,null,null,null,null,null,"現","帳"]
[null,null,null,"京都"]
[null,113,null,null,null,null,null,null,null,null,null,null,null,null,null,null,null,null,null,null,null,null,null,null,null,null,null,null,null,null,null,"現","帳"]
[null,null,null,"京都"]
[null,114,null,null,null,null,null,null,null,null,null,null,null,null,null,null,null,null,null,null,null,null,null,null,null,null,null,null,null,null,null,"現","帳"]
[null,null,null,"京都"]
[null,115,null,null,null,null,null,null,null,null,null,null,null,null,null,null,null,null,null,null,null,null,null,null,null,null,null,null,null,null,null,"現","帳"]
[null,null,null,"京都"]
[null,116,null,null,null,null,null,null,null,null,null,null,null,null,null,null,null,null,null,null,null,null,null,null,null,null,null,null,null,null,null,"現","帳"]
[null,null,null,"京都"]
[null,117,null,null,null,null,null,null,null,null,null,null,null,null,null,null,null,null,null,null,null,null,null,null,null,null,null,null,null,null,null,"現","帳"]
[null,null,null,"京都"]
[null,118,null,null,null,null,null,null,null,null,null,null,null,null,null,null,null,null,null,null,null,null,null,null,null,null,null,null,null,null,null,"現","帳"]
[null,null,null,"京都"]
[null,119,null,null,null,null,null,null,null,null,null,null,null,null,null,null,null,null,null,null,null,null,null,null,null,null,null,null,null,null,null,"現","帳"]
[null,null,null,"京都"]
[null,120,null,null,null,null,null,null,null,null,null,null,null,null,null,null,null,null,null,null,null,null,null,null,null,null,null,null,null,null,null,"現","帳"]
[null,null,null,"京都"]
[]
[null,null,null,null,null,null,null,null,null,null,null,null,null,null,null,null,null,"誓約事項"]
[null,null,null,null,null,null,null,null,null,null,null,null,null,null,null,null,null,null,null,"申請する自動車には、取得時の登録事由が新規登"]
[null,null,null,null,null,null,null,null,null,null,null,null,null,null,null,null,null,null,null,"録（新車・中古車とも）のものを含みません。"]
[]
[null,null,null,null,null,null,null,null,null,null,null,null,null,null,null,null,null,null,null,null,null,"担当者署名欄"]
["様式1-(2)",null,null,null,null,null,null,null,null,null,null,null,null,null,null,null,null,null,null,null,null,null,null,null,null,null,null,"(自動車税管理事務所提出用)"]
["商品中古自動車の自動車税の種別割減免申請書"]
[null,null,null,null,null,null,null,null,null,null,null,null,null,null,null,null,null,null,null,null,"（企業コード番号　　　　　　　　　　　　）",null,null,null,null,null,null,null,null,null,null,null,{"$f":"AG3","v":"（8枚目）"}]
[]
[null,"京都府自動車税管理事務所長　様",null,null,null,null,null,null,null,null,null,null,null,null,null,null,null,null,"令和",null,{"$f":"U5","v":0},null,"年",{"$f":"X5","v":0},null,"月",{"$f":"AA5","v":0},null,"日"]
[null,null,null,null,null,null,null,null,null,null,null,null,null,null,null,null,null,"申請者","（登録名義人）","住所(所在地)",null,null,null,null,{"$f":"Y6","v":0}]
[null,"　   京都府府税条例第70条第2項の規定に基づき、\n  下記のとおり申請します。",null,null,null,null,null,null,null,null,null,null,null,null,null,null,null,null,null,"氏名(名称)",null,null,null,null,{"$f":"Y7","v":0}]
[null,null,null,null,null,null,null,null,null,null,null,null,null,null,null,null,null,null,null,"代表者名",null,null,null,null,{"$f":"Y8","v":0}]
[null,null,null,null,null,null,null,null,null,null,null,null,null,null,null,null,null,null,null,"電話番号",null,null,null,null,{"$f":"Y9","v":0}]
[null,null,null,null,null,null,null,null,null,null,null,null,null,null,null,null,null,null,null,"担当者名",null,null,null,null,{"$f":"Y10","v":0}]
[null,null,null,null,null,null,null,null,null,null,null,null,null,null,null,null,null,null,null,"古物商許可番号",null,null,null,null,null,null,"第",{"$f":"AB11","v":0},null,null,null,null,null,null,null,null,"号"]
[]
[null,"減　免　対　象　自　動　車　の　総　台　数",null,null,null,null,null,null,null,null,null,null,null,null,null,null,null,null,null,null,null,"台"]
[null,"NO.",null,"登録番号",null,null,null,null,null,null,null,null,null,null,null,null,"車台番号",null,null,null,null,"備　　　　　考"]
[null,null,null,"区分",null,"車種",null,null,null,"かな",null,"番号",null,null,null,null,"(下3ｹﾀ)"]
[null,{"$f":"B15","v":106}]
[null,null,null,{"$f":"D16","v":"京都"},null,null,null,null,null,{"$f":"J16","v":0}]
[null,{"$f":"B17","v":107}]
[null,null,null,{"$f":"D18","v":"京都"},null,{"$f":"F18","v":0},null,null,null,{"$f":"J18","v":0},null,{"$f":"L18","v":0},null,null,null,null,{"$f":"Q18","v":0}]
[null,{"$f":"B19","v":108}]
[null,null,null,{"$f":"D20","v":"京都"},null,{"$f":"F20","v":0},null,null,null,{"$f":"J20","v":0},null,{"$f":"L20","v":0},null,null,null,null,{"$f":"Q20","v":0}]
[null,{"$f":"B21","v":109}]
[null,null,null,{"$f":"D22","v":"京都"},null,{"$f":"F22","v":0},null,null,null,{"$f":"J22","v":0},null,{"$f":"L22","v":0},null,null,null,null,{"$f":"Q22","v":0}]
[null,{"$f":"B23","v":110}]
[null,null,null,{"$f":"D24","v":"京都"},null,{"$f":"F24","v":0},null,null,null,{"$f":"J24","v":0},null,{"$f":"L24","v":0},null,null,null,null,{"$f":"Q24","v":0}]
[null,{"$f":"B25","v":111}]
[null,null,null,{"$f":"D26","v":"京都"},null,{"$f":"F26","v":0},null,null,null,{"$f":"J26","v":0},null,{"$f":"L26","v":0},null,null,null,null,{"$f":"Q26","v":0}]
[null,{"$f":"B27","v":112}]
[null,null,null,{"$f":"D28","v":"京都"},null,{"$f":"F28","v":0},null,null,null,{"$f":"J28","v":0},null,{"$f":"L28","v":0},null,null,null,null,{"$f":"Q28","v":0}]
[null,{"$f":"B29","v":113}]
[null,null,null,{"$f":"D30","v":"京都"},null,{"$f":"F30","v":0},null,null,null,{"$f":"J30","v":0},null,{"$f":"L30","v":0},null,null,null,null,{"$f":"Q30","v":0}]
[null,{"$f":"B31","v":114}]
[null,null,null,{"$f":"D32","v":"京都"},null,{"$f":"F32","v":0},null,null,null,{"$f":"J32","v":0},null,{"$f":"L32","v":0},null,null,null,null,{"$f":"Q32","v":0}]
[null,{"$f":"B33","v":115}]
[null,null,null,{"$f":"D34","v":"京都"},null,{"$f":"F34","v":0},null,null,null,{"$f":"J34","v":0},null,{"$f":"L34","v":0},null,null,null,null,{"$f":"Q34","v":0}]
[null,{"$f":"B35","v":116}]
[null,null,null,{"$f":"D36","v":"京都"},null,{"$f":"F36","v":0},null,null,null,{"$f":"J36","v":0},null,{"$f":"L36","v":0},null,null,null,null,{"$f":"Q36","v":0}]
[null,{"$f":"B37","v":117}]
[null,null,null,{"$f":"D38","v":"京都"},null,{"$f":"F38","v":0},null,null,null,{"$f":"J38","v":0},null,{"$f":"L38","v":0},null,null,null,null,{"$f":"Q38","v":0}]
[null,{"$f":"B39","v":118}]
[null,null,null,{"$f":"D40","v":"京都"},null,{"$f":"F40","v":0},null,null,null,{"$f":"J40","v":0},null,{"$f":"L40","v":0},null,null,null,null,{"$f":"Q40","v":0}]
[null,{"$f":"B41","v":119}]
[null,null,null,{"$f":"D42","v":"京都"},null,{"$f":"F42","v":0},null,null,null,{"$f":"J42","v":0},null,{"$f":"L42","v":0},null,null,null,null,{"$f":"Q42","v":0}]
[null,{"$f":"B43","v":120}]
[null,null,null,{"$f":"D44","v":"京都"},null,{"$f":"F44","v":0},null,null,null,{"$f":"J44","v":0},null,{"$f":"L44","v":0},null,null,null,null,{"$f":"Q44","v":0}]
[]
[null,null,null,null,null,null,null,null,null,null,null,null,null,null,null,null,null,null,null,"　上記は、商品中古自動車確認証明業務実施要領\nに定める商品中古自動車であることを証明する。"]
[]
[null,null,null,null,null,null,null,null,null,null,null,null,null,null,null,null,null,null,null,null,"令和　　　年　　　月　　　日"]
[]
[null,null,null,null,null,null,null,null,null,null,null,null,null,null,null,null,null,null,"住　　所"]
[]
[null,null,null,null,null,null,null,null,null,null,null,null,null,null,null,null,null,null,"支 所 名"]
[]
[null,null,null,null,null,null,null,null,null,null,null,null,null,null,null,null,null,null,"代表者名",null,null,null,null,null,null,null,null,null,null,null,null,null,null,null,null,null,"㊞"]
["様式1-(3)",null,null,null,null,null,null,null,null,null,null,null,null,null,null,null,null,null,null,null,null,null,null,null,null,null,null,null,null,null,null,null,null,"(申請者控)"]
["商品中古自動車証明申請書"]
[null,null,null,null,null,null,null,null,null,null,null,null,null,null,null,null,null,null,null,null,"（企業コード番号　　　　　　　　　　　　）",null,null,null,null,null,null,null,null,null,null,null,{"$f":"AG3","v":"（8枚目）"}]
[]
[null,"一般財団法人　日本自動車査定協会",null,null,null,null,null,null,null,null,null,null,null,null,null,null,null,null,"令和",null,{"$f":"U5","v":0},null,"年",{"$f":"X5","v":0},null,"月",{"$f":"AA5","v":0},null,"日"]
[null,"　　　　　　　　　　　　　　　京都府支所長　　様",null,null,null,null,null,null,null,null,null,null,null,null,null,null,null,"申請者","（登録名義人）","住所(所在地)",null,null,null,null,{"$f":"Y6","v":0}]
[null,"　商品中古自動車確認証明業務実施要領に基づき下記の自動車が商品中古自動車であることの証明を申請します。\n　なお、下記の自動車が商品自動車であること及び記載事項に相違ないこと並びに現地調査が行われる場合には協力することを確約いたします。",null,null,null,null,null,null,null,null,null,null,null,null,null,null,null,null,null,"氏名(名称)",null,null,null,null,{"$f":"Y7","v":0}]
[null,null,null,null,null,null,null,null,null,null,null,null,null,null,null,null,null,null,null,"代表者名",null,null,null,null,{"$f":"Y8","v":0}]
[null,null,null,null,null,null,null,null,null,null,null,null,null,null,null,null,null,null,null,"電話番号",null,null,null,null,{"$f":"Y9","v":0}]
[null,null,null,null,null,null,null,null,null,null,null,null,null,null,null,null,null,null,null,"担当者名",null,null,null,null,{"$f":"Y10","v":0}]
[null,null,null,null,null,null,null,null,null,null,null,null,null,null,null,null,null,null,null,"古物商許可番号",null,null,null,null,null,null,"第",{"$f":"AB11","v":0},null,null,null,null,null,null,null,null,"号"]
[]
[null,"NO.",null,"登録番号",null,null,null,null,null,null,null,null,null,null,null,null,"車台番号",null,null,null,null,"登録\n年月日",null,null,null,null,"展示場",null,null,"調査",null,null,null,"備考"]
[null,null,null,"区分",null,"車種",null,null,null,"かな",null,"番号",null,null,null,null,"(下3ｹﾀ)",null,null,null,null,null,null,null,null,null,null,null,null,"月日",null,"結果"]
[null,{"$f":"B15","v":106},null,null,null,null,null,null,null,null,null,null,null,null,null,null,null,null,null,null,null,{"$f":"V15","v":"00:00:00"},null,null,null,null,{"$f":"AA15","v":0},null,null,null,null,"現","帳"]
[null,null,null,{"$f":"D16","v":"京都"},null,{"$f":"F16","v":0},null,null,null,{"$f":"J16","v":0},null,{"$f":"L16","v":0},null,null,null,null,{"$f":"Q16","v":0}]
[null,{"$f":"B17","v":107},null,null,null,null,null,null,null,null,null,null,null,null,null,null,null,null,null,null,null,{"$f":"V17","v":"00:00:00"},null,null,null,null,{"$f":"AA17","v":0},null,null,null,null,"現","帳"]
[null,null,null,{"$f":"D18","v":"京都"},null,{"$f":"F18","v":0},null,null,null,{"$f":"J18","v":0},null,{"$f":"L18","v":0},null,null,null,null,{"$f":"Q18","v":0}]
[null,{"$f":"B19","v":108},null,null,null,null,null,null,null,null,null,null,null,null,null,null,null,null,null,null,null,{"$f":"V19","v":"00:00:00"},null,null,null,null,{"$f":"AA19","v":0},null,null,null,null,"現","帳"]
[null,null,null,{"$f":"D20","v":"京都"},null,{"$f":"F20","v":0},null,null,null,{"$f":"J20","v":0},null,{"$f":"L20","v":0},null,null,null,null,{"$f":"Q20","v":0}]
[null,{"$f":"B21","v":109},null,null,null,null,null,null,null,null,null,null,null,null,null,null,null,null,null,null,null,{"$f":"V21","v":"00:00:00"},null,null,null,null,{"$f":"AA21","v":0},null,null,null,null,"現","帳"]
[null,null,null,{"$f":"D22","v":"京都"},null,{"$f":"F22","v":0},null,null,null,{"$f":"J22","v":0},null,{"$f":"L22","v":0},null,null,null,null,{"$f":"Q22","v":0}]
[null,{"$f":"B23","v":110},null,null,null,null,null,null,null,null,null,null,null,null,null,null,null,null,null,null,null,{"$f":"V23","v":"00:00:00"},null,null,null,null,{"$f":"AA23","v":0},null,null,null,null,"現","帳"]
[null,null,null,{"$f":"D24","v":"京都"},null,{"$f":"F24","v":0},null,null,null,{"$f":"J24","v":0},null,{"$f":"L24","v":0},null,null,null,null,{"$f":"Q24","v":0}]
[null,{"$f":"B25","v":111},null,null,null,null,null,null,null,null,null,null,null,null,null,null,null,null,null,null,null,{"$f":"V25","v":"00:00:00"},null,null,null,null,{"$f":"AA25","v":0},null,null,null,null,"現","帳"]
[null,null,null,{"$f":"D26","v":"京都"},null,{"$f":"F26","v":0},null,null,null,{"$f":"J26","v":0},null,{"$f":"L26","v":0},null,null,null,null,{"$f":"Q26","v":0}]
[null,{"$f":"B27","v":112},null,null,null,null,null,null,null,null,null,null,null,null,null,null,null,null,null,null,null,{"$f":"V27","v":"00:00:00"},null,null,null,null,{"$f":"AA27","v":0},null,null,null,null,"現","帳"]
[null,null,null,{"$f":"D28","v":"京都"},null,{"$f":"F28","v":0},null,null,null,{"$f":"J28","v":0},null,{"$f":"L28","v":0},null,null,null,null,{"$f":"Q28","v":0}]
[null,{"$f":"B29","v":113},null,null,null,null,null,null,null,null,null,null,null,null,null,null,null,null,null,null,null,{"$f":"V29","v":"00:00:00"},null,null,null,null,{"$f":"AA29","v":0},null,null,null,null,"現","帳"]
[null,null,null,{"$f":"D30","v":"京都"},null,{"$f":"F30","v":0},null,null,null,{"$f":"J30","v":0},null,{"$f":"L30","v":0},null,null,null,null,{"$f":"Q30","v":0}]
[null,{"$f":"B31","v":114},null,null,null,null,null,null,null,null,null,null,null,null,null,null,null,null,null,null,null,{"$f":"V31","v":"00:00:00"},null,null,null,null,{"$f":"AA31","v":0},null,null,null,null,"現","帳"]
[null,null,null,{"$f":"D32","v":"京都"},null,{"$f":"F32","v":0},null,null,null,{"$f":"J32","v":0},null,{"$f":"L32","v":0},null,null,null,null,{"$f":"Q32","v":0}]
[null,{"$f":"B33","v":115},null,null,null,null,null,null,null,null,null,null,null,null,null,null,null,null,null,null,null,{"$f":"V33","v":"00:00:00"},null,null,null,null,{"$f":"AA33","v":0},null,null,null,null,"現","帳"]
[null,null,null,{"$f":"D34","v":"京都"},null,{"$f":"F34","v":0},null,null,null,{"$f":"J34","v":0},null,{"$f":"L34","v":0},null,null,null,null,{"$f":"Q34","v":0}]
[null,{"$f":"B35","v":116},null,null,null,null,null,null,null,null,null,null,null,null,null,null,null,null,null,null,null,{"$f":"V35","v":"00:00:00"},null,null,null,null,{"$f":"AA35","v":0},null,null,null,null,"現","帳"]
[null,null,null,{"$f":"D36","v":"京都"},null,{"$f":"F36","v":0},null,null,null,{"$f":"J36","v":0},null,{"$f":"L36","v":0},null,null,null,null,{"$f":"Q36","v":0}]
[null,{"$f":"B37","v":117},null,null,null,null,null,null,null,null,null,null,null,null,null,null,null,null,null,null,null,{"$f":"V37","v":"00:00:00"},null,null,null,null,{"$f":"AA37","v":0},null,null,null,null,"現","帳"]
[null,null,null,{"$f":"D38","v":"京都"},null,{"$f":"F38","v":0},null,null,null,{"$f":"J38","v":0},null,{"$f":"L38","v":0},null,null,null,null,{"$f":"Q38","v":0}]
[null,{"$f":"B39","v":118},null,null,null,null,null,null,null,null,null,null,null,null,null,null,null,null,null,null,null,{"$f":"V39","v":"00:00:00"},null,null,null,null,{"$f":"AA39","v":0},null,null,null,null,"現","帳"]
[null,null,null,{"$f":"D40","v":"京都"},null,{"$f":"F40","v":0},null,null,null,{"$f":"J40","v":0},null,{"$f":"L40","v":0},null,null,null,null,{"$f":"Q40","v":0}]
[null,{"$f":"B41","v":119},null,null,null,null,null,null,null,null,null,null,null,null,null,null,null,null,null,null,null,{"$f":"V41","v":"00:00:00"},null,null,null,null,{"$f":"AA41","v":0},null,null,null,null,"現","帳"]
[null,null,null,{"$f":"D42","v":"京都"},null,{"$f":"F42","v":0},null,null,null,{"$f":"J42","v":0},null,{"$f":"L42","v":0},null,null,null,null,{"$f":"Q42","v":0}]
[null,{"$f":"B43","v":120},null,null,null,null,null,null,null,null,null,null,null,null,null,null,null,null,null,null,null,{"$f":"V43","v":"00:00:00"},null,null,null,null,{"$f":"AA43","v":0},null,null,null,null,"現","帳"]
[null,null,null,{"$f":"D44","v":"京都"},null,{"$f":"F44","v":0},null,null,null,{"$f":"J44","v":0},null,{"$f":"L44","v":0},null,null,null,null,{"$f":"Q44","v":0}]
[]
[null,null,null,null,null,null,null,null,null,null,null,null,null,null,null,null,null,"誓約事項"]
[null,null,null,null,null,null,null,null,null,null,null,null,null,null,null,null,null,null,null,"申請する自動車には、取得時の登録事由が新規登"]
[null,null,null,null,null,null,null,null,null,null,null,null,null,null,null,null,null,null,null,"録（新車・中古車とも）のものを含みません。"]
[]
[null,null,null,null,null,null,null,null,null,null,null,null,null,null,null,null,null,null,null,null,null,"担当者署名欄"]

{"sheet":"9枚目","index":9,"n_rows":155,"n_cols":49,"rows_kept":155,"cut":false,"hidden":false,"merged":[[6,1,9,16],[6,19,6,23],[6,24,6,37],[7,19,7,23],[7,24,7,37],[8,19,8,23],[1,0,1,37],[1,48,2,51],[2,20,2,31],[2,32,2,36],[4,18,4,19],[4,20,4,21],[4,23,4,24],[4,26,4,27],[8,24,8,37],[9,19,9,23],[9,24,9,37],[10,19,10,25],[10,27,10,35],[10,36,10,37],[5,17,10,17],[5,18,10,18],[5,19,5,23],[5,24,5,37],[12,33,13,36],[13,3,13,4],[13,5,13,8],[13,9,13,10],[13,11,13,15],[13,16,13,20],[13,29,13,30],[13,31,13,32],[12,1,13,2],[12,3,12,15],[12,16,12,20],[12,21,13,25],[12,26,13,28],[12,29,12,32],[14,21,15,25],[14,26,15,28],[14,29,15,30],[14,31,15,31],[14,32,15,32],[14,33,15,36],[14,1,15,2],[14,3,14,4],[14,5,14,8],[14,9,14,10],[14,11,14,15],[14,16,14,20],[15,3,15,4],[15,5,15,8],[15,9,15,10],[15,11,15,15],[15,16,15,20],[16,1,17,2],[16,3,16,4],[16,5,16,8],[16,9,16,10],[16,11,16,15],[16,16,16,20],[17,3,17,4],[17,5,17,8],[17,9,17,10],[18,21,19,25],[18,26,19,28],[18,29,19,30],[18,31,19,31],[18,32,19,32],[18,33,19,36],[17,11,17,15],[17,16,17,20],[18,1,19,2],[18,3,18,4],[18,5,18,8],[18,9,18,10],[18,11,18,15],[18,16,18,20],[19,3,19,4],[19,5,19,8],[16,21,17,25],[16,26,17,28],[16,29,17,30],[16,31,17,31],[16,32,17,32],[16,33,17,36],[19,9,19,10],[19,11,19,15],[19,16,19,20],[20,1,21,2],[20,3,20,4],[20,5,20,8],[20,9,20,10],[20,11,20,15],[20,16,20,20],[21,3,21,4],[22,21,23,25],[22,26,23,28],[22,29,23,30],[22,31,23,31],[22,32,23,32],[22,33,23,36],[21,5,21,8],[21,9,21,10],[21,11,21,15],[21,16,21,20],[22,5,22,8],[22,9,22,10],[22,11,22,15],[22,16,22,20],[20,21,21,25],[20,26,21,28],[20,29,21,30],[20,31,21,31],[20,32,21,32],[20,33,21,36],[23,3,23,4],[23,5,23,8],[23,9,23,10],[23,11,23,15],[23,16,23,20],[24,1,25,2],[24,3,24,4],[24,5,24,8],[24,9,24,10],[24,11,24,15],[22,1,23,2],[22,3,22,4],[24,33,25,36],[25,3,25,4],[25,5,25,8],[25,9,25,10],[25,11,25,15],[25,16,25,20],[24,16,24,20],[24,21,25,25],[24,26,25,28],[24,29,25,30],[24,31,25,31],[24,32,25,32],[26,21,27,25],[26,26,27,28],[26,29,27,30],[26,31,27,31],[26,32,27,32],[26,33,27,36],[26,1,27,2],[26,3,26,4],[26,5,26,8],[26,9,26,10],[26,11,26,15],[26,16,26,20],[27,3,27,4],[27,5,27,8],[27,9,27,10],[27,11,27,15],[27,16,27,20],[28,1,29,2],[28,3,28,4],[28,5,28,8],[28,9,28,10],[28,11,28,15],[28,16,28,20],[29,3,29,4],[29,5,29,8],[29,9,29,10],[30,21,31,25],[30,26,31,28],[30,29,31,30],[30,31,31,31],[30,32,31,32],[30,33,31,36],[29,11,29,15],[29,16,29,20],[30,1,31,2],[30,3,30,4],[30,5,30,8],[30,9,30,10],[30,11,30,15],[30,16,30,20],[31,3,31,4],[31,5,31,8],[28,21,29,25],[28,26,29,28],[28,29,29,30],[28,31,29,31],[28,32,29,32],[28,33,29,36],[31,9,31,10],[31,11,31,15],[31,16,31,20],[32,1,33,2],[32,3,32,4],[32,5,32,8],[32,9,32,10],[32,11,32,15],[32,16,32,20],[33,3,33,4],[34,21,35,25],[34,26,35,28],[34,29,35,30],[34,31,35,31],[34,32,35,32],[34,33,35,36],[33,5,33,8],[33,9,33,10],[33,11,33,15],[33,16,33,20],[34,5,34,8],[34,9,34,10],[34,11,34,15],[34,16,34,20],[32,21,33,25],[32,26,33,28],[32,29,33,30],[32,31,33,31],[32,32,33,32],[32,33,33,36],[35,3,35,4],[35,5,35,8],[35,9,35,10],[35,11,35,15],[35,16,35,20],[36,1,37,2],[36,3,36,4],[36,5,36,8],[36,9,36,10],[36,11,36,15],[34,1,35,2],[34,3,34,4],[38,5,38,8],[38,9,38,10],[38,11,38,15],[38,16,38,20],[39,3,39,4],[39,5,39,8],[39,9,39,10],[39,11,39,15],[36,33,37,36],[37,3,37,4],[37,5,37,8],[37,9,37,10],[37,11,37,15],[37,16,37,20],[36,16,36,20],[36,21,37,25],[36,26,37,28],[36,29,37,30],[36,31,37,31],[36,32,37,32],[40,21,41,25],[40,26,41,28],[40,29,41,30],[40,31,41,31],[40,32,41,32],[40,33,41,36],[39,16,39,20],[40,1,41,2],[40,3,40,4],[40,5,40,8],[40,9,40,10],[40,11,40,15],[40,16,40,20],[41,3,41,4],[41,5,41,8],[41,9,41,10],[38,21,39,25],[38,26,39,28],[38,29,39,30],[38,31,39,31],[38,32,39,32],[38,33,39,36],[38,1,39,2],[38,3,38,4],[41,11,41,15],[41,16,41,20],[42,1,43,2],[42,3,42,4],[42,5,42,8],[42,9,42,10],[42,11,42,15],[42,16,42,20],[43,3,43,4],[43,5,43,8],[43,9,43,10],[43,11,43,15],[43,16,43,20],[45,17,49,18],[46,19,46,36],[47,19,47,36],[42,21,43,25],[42,26,43,28],[42,29,43,30],[42,31,43,31],[42,32,43,32],[42,33,43,36],[56,1,59,16],[56,19,56,23],[56,24,56,37],[57,19,57,23],[57,24,57,37],[58,19,58,23],[51,0,51,37],[52,20,52,31],[52,32,52,36],[54,18,54,19],[54,20,54,21],[54,23,54,24],[54,26,54,27],[58,24,58,37],[59,19,59,23],[59,24,59,37],[60,19,60,25],[60,27,60,35],[60,36,60,37],[55,17,60,17],[55,18,60,18],[55,19,55,23],[55,24,55,37],[62,1,62,20],[62,21,62,36],[63,1,64,2],[63,3,63,15],[63,16,63,20],[63,21,64,36],[64,3,64,4],[64,5,64,8],[64,9,64,10],[64,11,64,15],[65,21,66,36],[66,3,66,4],[66,5,66,8],[66,9,66,10],[66,11,66,15],[66,16,66,20],[64,16,64,20],[65,1,66,2],[65,3,65,4],[65,5,65,8],[65,9,65,10],[65,11,65,15],[65,16,65,20],[67,21,68,36],[68,3,68,4],[68,5,68,8],[68,9,68,10],[68,11,68,15],[68,16,68,20],[67,1,68,2],[67,3,67,4],[67,5,67,8],[67,9,67,10],[67,11,67,15],[67,16,67,20],[69,21,70,36],[70,3,70,4],[70,5,70,8],[70,9,70,10],[70,11,70,15],[70,16,70,20],[69,1,70,2],[69,3,69,4],[69,5,69,8],[69,9,69,10],[69,11,69,15],[69,16,69,20],[71,21,72,36],[72,3,72,4],[72,5,72,8],[72,9,72,10],[72,11,72,15],[72,16,72,20],[71,1,72,2],[71,3,71,4],[71,5,71,8],[71,9,71,10],[71,11,71,15],[71,16,71,20],[73,21,74,36],[74,3,74,4],[74,5,74,8],[74,9,74,10],[74,11,74,15],[74,16,74,20],[73,1,74,2],[73,3,73,4],[73,5,73,8],[73,9,73,10],[73,11,73,15],[73,16,73,20],[75,21,76,36],[76,3,76,4],[76,5,76,8],[76,9,76,10],[76,11,76,15],[76,16,76,20],[75,1,76,2],[75,3,75,4],[75,5,75,8],[75,9,75,10],[75,11,75,15],[75,16,75,20],[77,21,78,36],[78,3,78,4],[78,5,78,8],[78,9,78,10],[78,11,78,15],[78,16,78,20],[77,1,78,2],[77,3,77,4],[77,5,77,8],[77,9,77,10],[77,11,77,15],[77,16,77,20],[79,21,80,36],[80,3,80,4],[80,5,80,8],[80,9,80,10],[80,11,80,15],[80,16,80,20],[79,1,80,2],[79,3,79,4],[79,5,79,8],[79,9,79,10],[79,11,79,15],[79,16,79,20],[81,21,82,36],[82,3,82,4],[82,5,82,8],[82,9,82,10],[82,11,82,15],[82,16,82,20],[81,1,82,2],[81,3,81,4],[81,5,81,8],[81,9,81,10],[81,11,81,15],[81,16,81,20],[83,21,84,36],[84,3,84,4],[84,5,84,8],[84,9,84,10],[84,11,84,15],[84,16,84,20],[83,1,84,2],[83,3,83,4],[83,5,83,8],[83,9,83,10],[83,11,83,15],[83,16,83,20],[85,21,86,36],[86,3,86,4],[86,5,86,8],[86,9,86,10],[86,11,86,15],[86,16,86,20],[85,1,86,2],[85,3,85,4],[85,5,85,8],[85,9,85,10],[85,11,85,15],[85,16,85,20],[87,21,88,36],[88,3,88,4],[88,5,88,8],[88,9,88,10],[88,11,88,15],[88,16,88,20],[87,1,88,2],[87,3,87,4],[87,5,87,8],[87,9,87,10],[87,11,87,15],[87,16,87,20],[89,21,90,36],[90,3,90,4],[90,5,90,8],[90,9,90,10],[90,11,90,15],[90,16,90,20],[89,1,90,2],[89,3,89,4],[89,5,89,8],[89,9,89,10],[89,11,89,15],[89,16,89,20],[91,21,92,36],[92,3,92,4],[92,5,92,8],[92,9,92,10],[92,11,92,15],[92,16,92,20],[91,1,92,2],[91,3,91,4],[91,5,91,8],[91,9,91,10],[91,11,91,15],[91,16,91,20],[96,19,96,36],[100,18,100,21],[102,18,102,21],[104,18,104,21],[106,0,106,37],[107,20,107,31],[107,32,107,36],[93,21,94,36],[94,3,94,4],[94,5,94,8],[94,9,94,10],[94,11,94,15],[94,16,94,20],[93,1,94,2],[93,3,93,4],[93,5,93,8],[93,9,93,10],[93,11,93,15],[93,16,93,20],[109,18,109,19],[109,20,109,21],[109,23,109,24],[109,26,109,27],[110,17,115,17],[110,18,115,18],[110,19,110,23],[110,24,110,37],[115,19,115,25],[115,27,115,35],[111,1,114,16],[111,19,111,23],[111,24,111,37],[112,19,112,23],[112,24,112,37],[113,19,113,23],[113,24,113,37],[114,19,114,23],[114,24,114,37],[115,36,115,37],[117,1,118,2],[117,3,117,15],[117,16,117,20],[117,21,118,25],[117,26,118,28],[117,29,117,32],[117,33,118,36],[118,3,118,4],[118,5,118,8],[118,9,118,10],[118,11,118,15],[118,16,118,20],[118,29,118,30],[118,31,118,32],[119,1,120,2],[119,3,119,4],[119,5,119,8],[119,9,119,10],[119,11,119,15],[119,33,120,36],[120,3,120,4],[120,5,120,8],[120,9,120,10],[120,11,120,15],[120,16,120,20],[119,16,119,20],[119,21,120,25],[119,26,120,28],[119,29,120,30],[119,31,120,31],[119,32,120,32],[121,21,122,25],[121,26,122,28],[121,29,122,30],[121,31,122,31],[121,32,122,32],[121,33,122,36],[121,1,122,2],[121,3,121,4],[121,5,121,8],[121,9,121,10],[121,11,121,15],[121,16,121,20],[122,3,122,4],[122,5,122,8],[122,9,122,10],[122,11,122,15],[122,16,122,20],[123,1,124,2],[123,3,123,4],[123,5,123,8],[123,9,123,10],[123,11,123,15],[123,16,123,20],[124,3,124,4],[124,5,124,8],[124,9,124,10],[125,21,126,25],[125,26,126,28],[125,29,126,30],[125,31,126,31],[125,32,126,32],[125,33,126,36],[124,11,124,15],[124,16,124,20],[125,1,126,2],[125,3,125,4],[125,5,125,8],[125,9,125,10],[125,11,125,15],[125,16,125,20],[126,3,126,4],[126,5,126,8],[123,21,124,25],[123,26,124,28],[123,29,124,30],[123,31,124,31],[123,32,124,32],[123,33,124,36],[126,9,126,10],[126,11,126,15],[126,16,126,20],[127,1,128,2],[127,3,127,4],[127,5,127,8],[127,9,127,10],[127,11,127,15],[127,16,127,20],[128,3,128,4],[129,21,130,25],[129,26,130,28],[129,29,130,30],[129,31,130,31],[129,32,130,32],[129,33,130,36],[128,5,128,8],[128,9,128,10],[128,11,128,15],[128,16,128,20],[129,5,129,8],[129,9,129,10],[129,11,129,15],[129,16,129,20],[127,21,128,25],[127,26,128,28],[127,29,128,30],[127,31,128,31],[127,32,128,32],[127,33,128,36],[130,3,130,4],[130,5,130,8],[130,9,130,10],[130,11,130,15],[130,16,130,20],[131,1,132,2],[131,3,131,4],[131,5,131,8],[131,9,131,10],[131,11,131,15],[129,1,130,2],[129,3,129,4],[131,33,132,36],[132,3,132,4],[132,5,132,8],[132,9,132,10],[132,11,132,15],[132,16,132,20],[131,16,131,20],[131,21,132,25],[131,26,132,28],[131,29,132,30],[131,31,132,31],[131,32,132,32],[133,21,134,25],[133,26,134,28],[133,29,134,30],[133,31,134,31],[133,32,134,32],[133,33,134,36],[133,1,134,2],[133,3,133,4],[133,5,133,8],[133,9,133,10],[133,11,133,15],[133,16,133,20],[134,3,134,4],[134,5,134,8],[134,9,134,10],[134,11,134,15],[134,16,134,20],[135,1,136,2],[135,3,135,4],[135,5,135,8],[135,9,135,10],[135,11,135,15],[135,16,135,20],[136,3,136,4],[136,5,136,8],[136,9,136,10],[137,21,138,25],[137,26,138,28],[137,29,138,30],[137,31,138,31],[137,32,138,32],[137,33,138,36],[136,11,136,15],[136,16,136,20],[137,1,138,2],[137,3,137,4],[137,5,137,8],[137,9,137,10],[137,11,137,15],[137,16,137,20],[138,3,138,4],[138,5,138,8],[135,21,136,25],[135,26,136,28],[135,29,136,30],[135,31,136,31],[135,32,136,32],[135,33,136,36],[138,9,138,10],[138,11,138,15],[138,16,138,20],[139,1,140,2],[139,3,139,4],[139,5,139,8],[139,9,139,10],[139,11,139,15],[139,16,139,20],[140,3,140,4],[141,21,142,25],[141,26,142,28],[141,29,142,30],[141,31,142,31],[141,32,142,32],[141,33,142,36],[140,5,140,8],[140,9,140,10],[140,11,140,15],[140,16,140,20],[141,5,141,8],[141,9,141,10],[141,11,141,15],[141,16,141,20],[139,21,140,25],[139,26,140,28],[139,29,140,30],[139,31,140,31],[139,32,140,32],[139,33,140,36],[142,3,142,4],[142,5,142,8],[142,9,142,10],[142,11,142,15],[142,16,142,20],[143,1,144,2],[143,3,143,4],[143,5,143,8],[143,9,143,10],[143,11,143,15],[141,1,142,2],[141,3,141,4],[143,33,144,36],[144,3,144,4],[144,5,144,8],[144,9,144,10],[144,11,144,15],[144,16,144,20],[143,16,143,20],[143,21,144,25],[143,26,144,28],[143,29,144,30],[143,31,144,31],[143,32,144,32],[145,21,146,25],[145,26,146,28],[145,29,146,30],[145,31,146,31],[145,32,146,32],[145,33,146,36],[145,1,146,2],[145,3,145,4],[145,5,145,8],[145,9,145,10],[145,11,145,15],[145,16,145,20],[146,3,146,4],[146,5,146,8],[146,9,146,10],[146,11,146,15],[146,16,146,20],[147,1,148,2],[147,3,147,4],[147,5,147,8],[147,9,147,10],[147,11,147,15],[147,16,147,20],[148,3,148,4],[148,5,148,8],[148,9,148,10],[148,11,148,15],[148,16,148,20],[150,17,154,18],[151,19,151,36],[152,19,152,36],[147,21,148,25],[147,26,148,28],[147,29,148,30],[147,31,148,31],[147,32,148,32],[147,33,148,36]]}
["様式1-(1)",null,null,null,null,null,null,null,null,null,null,null,null,null,null,null,null,null,null,null,null,null,null,null,null,null,null,null,null,null,null,"(査定協会提出用)"]
["商品中古自動車証明申請書",null,null,null,null,null,null,null,null,null,null,null,null,null,null,null,null,null,null,null,null,null,null,null,null,null,null,null,null,null,null,null,null,null,null,null,null,null,null,null,null,null,null,null,null,null,null,null,"記入箇所"]
[null,null,null,null,null,null,null,null,null,null,null,null,null,null,null,null,null,null,null,null,"（企業コード番号　　　　　　　　　　　　）",null,null,null,null,null,null,null,null,null,null,null,"（9枚目）"]
[]
[null,"一般財団法人　日本自動車査定協会",null,null,null,null,null,null,null,null,null,null,null,null,null,null,null,null,"令和",null,{"$f":"'1枚目'!U5","v":0},null,"年",{"$f":"'1枚目'!X5","v":0},null,"月",{"$f":"'1枚目'!AA5","v":0},null,"日"]
[null,"　　　　　　　　　　　　　　　京都府支所長　　様",null,null,null,null,null,null,null,null,null,null,null,null,null,null,null,"申請者","（登録名義人）","住所(所在地)",null,null,null,null,{"$f":"'1枚目'!Y6","v":0}]
[null,"　商品中古自動車確認証明業務実施要領に基づき下記の自動車が商品中古自動車であることの証明を申請します。\n　なお、下記の自動車が商品自動車であること及び記載事項に相違ないこと並びに現地調査が行われる場合には協力することを確約いたします。",null,null,null,null,null,null,null,null,null,null,null,null,null,null,null,null,null,"氏名(名称)",null,null,null,null,{"$f":"'1枚目'!Y7","v":0}]
[null,null,null,null,null,null,null,null,null,null,null,null,null,null,null,null,null,null,null,"代表者名",null,null,null,null,{"$f":"'1枚目'!Y8","v":0}]
[null,null,null,null,null,null,null,null,null,null,null,null,null,null,null,null,null,null,null,"電話番号",null,null,null,null,{"$f":"'1枚目'!Y9","v":0}]
[null,null,null,null,null,null,null,null,null,null,null,null,null,null,null,null,null,null,null,"担当者名",null,null,null,null,{"$f":"'1枚目'!Y10","v":0}]
[null,null,null,null,null,null,null,null,null,null,null,null,null,null,null,null,null,null,null,"古物商許可番号",null,null,null,null,null,null,"第",{"$f":"'1枚目'!AB11","v":0},null,null,null,null,null,null,null,null,"号"]
[]
[null,"NO.",null,"登録番号",null,null,null,null,null,null,null,null,null,null,null,null,"車台番号",null,null,null,null,"登録\n年月日",null,null,null,null,"展示場",null,null,"調査",null,null,null,"備考"]
[null,null,null,"区分",null,"車種",null,null,null,"かな",null,"番号",null,null,null,null,"(下3ｹﾀ)",null,null,null,null,null,null,null,null,null,null,null,null,"月日",null,"結果"]
[null,121,null,null,null,null,null,null,null,null,null,null,null,null,null,null,null,null,null,null,null,null,null,null,null,null,null,null,null,null,null,"現","帳"]
[null,null,null,"京都"]
[null,122,null,null,null,null,null,null,null,null,null,null,null,null,null,null,null,null,null,null,null,null,null,null,null,null,null,null,null,null,null,"現","帳"]
[null,null,null,"京都"]
[null,123,null,null,null,null,null,null,null,null,null,null,null,null,null,null,null,null,null,null,null,null,null,null,null,null,null,null,null,null,null,"現","帳"]
[null,null,null,"京都"]
[null,124,null,null,null,null,null,null,null,null,null,null,null,null,null,null,null,null,null,null,null,null,null,null,null,null,null,null,null,null,null,"現","帳"]
[null,null,null,"京都"]
[null,125,null,null,null,null,null,null,null,null,null,null,null,null,null,null,null,null,null,null,null,null,null,null,null,null,null,null,null,null,null,"現","帳"]
[null,null,null,"京都"]
[null,126,null,null,null,null,null,null,null,null,null,null,null,null,null,null,null,null,null,null,null,null,null,null,null,null,null,null,null,null,null,"現","帳"]
[null,null,null,"京都"]
[null,127,null,null,null,null,null,null,null,null,null,null,null,null,null,null,null,null,null,null,null,null,null,null,null,null,null,null,null,null,null,"現","帳"]
[null,null,null,"京都"]
[null,128,null,null,null,null,null,null,null,null,null,null,null,null,null,null,null,null,null,null,null,null,null,null,null,null,null,null,null,null,null,"現","帳"]
[null,null,null,"京都"]
[null,129,null,null,null,null,null,null,null,null,null,null,null,null,null,null,null,null,null,null,null,null,null,null,null,null,null,null,null,null,null,"現","帳"]
[null,null,null,"京都"]
[null,130,null,null,null,null,null,null,null,null,null,null,null,null,null,null,null,null,null,null,null,null,null,null,null,null,null,null,null,null,null,"現","帳"]
[null,null,null,"京都"]
[null,131,null,null,null,null,null,null,null,null,null,null,null,null,null,null,null,null,null,null,null,null,null,null,null,null,null,null,null,null,null,"現","帳"]
[null,null,null,"京都"]
[null,132,null,null,null,null,null,null,null,null,null,null,null,null,null,null,null,null,null,null,null,null,null,null,null,null,null,null,null,null,null,"現","帳"]
[null,null,null,"京都"]
[null,133,null,null,null,null,null,null,null,null,null,null,null,null,null,null,null,null,null,null,null,null,null,null,null,null,null,null,null,null,null,"現","帳"]
[null,null,null,"京都"]
[null,134,null,null,null,null,null,null,null,null,null,null,null,null,null,null,null,null,null,null,null,null,null,null,null,null,null,null,null,null,null,"現","帳"]
[null,null,null,"京都"]
[null,135,null,null,null,null,null,null,null,null,null,null,null,null,null,null,null,null,null,null,null,null,null,null,null,null,null,null,null,null,null,"現","帳"]
[null,null,null,"京都"]
[]
[null,null,null,null,null,null,null,null,null,null,null,null,null,null,null,null,null,"誓約事項"]
[null,null,null,null,null,null,null,null,null,null,null,null,null,null,null,null,null,null,null,"申請する自動車には、取得時の登録事由が新規登"]
[null,null,null,null,null,null,null,null,null,null,null,null,null,null,null,null,null,null,null,"録（新車・中古車とも）のものを含みません。"]
[]
[null,null,null,null,null,null,null,null,null,null,null,null,null,null,null,null,null,null,null,null,null,"担当者署名欄"]
["様式1-(2)",null,null,null,null,null,null,null,null,null,null,null,null,null,null,null,null,null,null,null,null,null,null,null,null,null,null,"(自動車税管理事務所提出用)"]
["商品中古自動車の自動車税の種別割減免申請書"]
[null,null,null,null,null,null,null,null,null,null,null,null,null,null,null,null,null,null,null,null,"（企業コード番号　　　　　　　　　　　　）",null,null,null,null,null,null,null,null,null,null,null,{"$f":"AG3","v":"（9枚目）"}]
[]
[null,"京都府自動車税管理事務所長　様",null,null,null,null,null,null,null,null,null,null,null,null,null,null,null,null,"令和",null,{"$f":"U5","v":0},null,"年",{"$f":"X5","v":0},null,"月",{"$f":"AA5","v":0},null,"日"]
[null,null,null,null,null,null,null,null,null,null,null,null,null,null,null,null,null,"申請者","（登録名義人）","住所(所在地)",null,null,null,null,{"$f":"Y6","v":0}]
[null,"　   京都府府税条例第70条第2項の規定に基づき、\n  下記のとおり申請します。",null,null,null,null,null,null,null,null,null,null,null,null,null,null,null,null,null,"氏名(名称)",null,null,null,null,{"$f":"Y7","v":0}]
[null,null,null,null,null,null,null,null,null,null,null,null,null,null,null,null,null,null,null,"代表者名",null,null,null,null,{"$f":"Y8","v":0}]
[null,null,null,null,null,null,null,null,null,null,null,null,null,null,null,null,null,null,null,"電話番号",null,null,null,null,{"$f":"Y9","v":0}]
[null,null,null,null,null,null,null,null,null,null,null,null,null,null,null,null,null,null,null,"担当者名",null,null,null,null,{"$f":"Y10","v":0}]
[null,null,null,null,null,null,null,null,null,null,null,null,null,null,null,null,null,null,null,"古物商許可番号",null,null,null,null,null,null,"第",{"$f":"AB11","v":0},null,null,null,null,null,null,null,null,"号"]
[]
[null,"減　免　対　象　自　動　車　の　総　台　数",null,null,null,null,null,null,null,null,null,null,null,null,null,null,null,null,null,null,null,"台"]
[null,"NO.",null,"登録番号",null,null,null,null,null,null,null,null,null,null,null,null,"車台番号",null,null,null,null,"備　　　　　考"]
[null,null,null,"区分",null,"車種",null,null,null,"かな",null,"番号",null,null,null,null,"(下3ｹﾀ)"]
[null,{"$f":"B15","v":121}]
[null,null,null,{"$f":"D16","v":"京都"},null,null,null,null,null,{"$f":"J16","v":0}]
[null,{"$f":"B17","v":122}]
[null,null,null,{"$f":"D18","v":"京都"},null,{"$f":"F18","v":0},null,null,null,{"$f":"J18","v":0},null,{"$f":"L18","v":0},null,null,null,null,{"$f":"Q18","v":0}]
[null,{"$f":"B19","v":123}]
[null,null,null,{"$f":"D20","v":"京都"},null,{"$f":"F20","v":0},null,null,null,{"$f":"J20","v":0},null,{"$f":"L20","v":0},null,null,null,null,{"$f":"Q20","v":0}]
[null,{"$f":"B21","v":124}]
[null,null,null,{"$f":"D22","v":"京都"},null,{"$f":"F22","v":0},null,null,null,{"$f":"J22","v":0},null,{"$f":"L22","v":0},null,null,null,null,{"$f":"Q22","v":0}]
[null,{"$f":"B23","v":125}]
[null,null,null,{"$f":"D24","v":"京都"},null,{"$f":"F24","v":0},null,null,null,{"$f":"J24","v":0},null,{"$f":"L24","v":0},null,null,null,null,{"$f":"Q24","v":0}]
[null,{"$f":"B25","v":126}]
[null,null,null,{"$f":"D26","v":"京都"},null,{"$f":"F26","v":0},null,null,null,{"$f":"J26","v":0},null,{"$f":"L26","v":0},null,null,null,null,{"$f":"Q26","v":0}]
[null,{"$f":"B27","v":127}]
[null,null,null,{"$f":"D28","v":"京都"},null,{"$f":"F28","v":0},null,null,null,{"$f":"J28","v":0},null,{"$f":"L28","v":0},null,null,null,null,{"$f":"Q28","v":0}]
[null,{"$f":"B29","v":128}]
[null,null,null,{"$f":"D30","v":"京都"},null,{"$f":"F30","v":0},null,null,null,{"$f":"J30","v":0},null,{"$f":"L30","v":0},null,null,null,null,{"$f":"Q30","v":0}]
[null,{"$f":"B31","v":129}]
[null,null,null,{"$f":"D32","v":"京都"},null,{"$f":"F32","v":0},null,null,null,{"$f":"J32","v":0},null,{"$f":"L32","v":0},null,null,null,null,{"$f":"Q32","v":0}]
[null,{"$f":"B33","v":130}]
[null,null,null,{"$f":"D34","v":"京都"},null,{"$f":"F34","v":0},null,null,null,{"$f":"J34","v":0},null,{"$f":"L34","v":0},null,null,null,null,{"$f":"Q34","v":0}]
[null,{"$f":"B35","v":131}]
[null,null,null,{"$f":"D36","v":"京都"},null,{"$f":"F36","v":0},null,null,null,{"$f":"J36","v":0},null,{"$f":"L36","v":0},null,null,null,null,{"$f":"Q36","v":0}]
[null,{"$f":"B37","v":132}]
[null,null,null,{"$f":"D38","v":"京都"},null,{"$f":"F38","v":0},null,null,null,{"$f":"J38","v":0},null,{"$f":"L38","v":0},null,null,null,null,{"$f":"Q38","v":0}]
[null,{"$f":"B39","v":133}]
[null,null,null,{"$f":"D40","v":"京都"},null,{"$f":"F40","v":0},null,null,null,{"$f":"J40","v":0},null,{"$f":"L40","v":0},null,null,null,null,{"$f":"Q40","v":0}]
[null,{"$f":"B41","v":134}]
[null,null,null,{"$f":"D42","v":"京都"},null,{"$f":"F42","v":0},null,null,null,{"$f":"J42","v":0},null,{"$f":"L42","v":0},null,null,null,null,{"$f":"Q42","v":0}]
[null,{"$f":"B43","v":135}]
[null,null,null,{"$f":"D44","v":"京都"},null,{"$f":"F44","v":0},null,null,null,{"$f":"J44","v":0},null,{"$f":"L44","v":0},null,null,null,null,{"$f":"Q44","v":0}]
[]
[null,null,null,null,null,null,null,null,null,null,null,null,null,null,null,null,null,null,null,"　上記は、商品中古自動車確認証明業務実施要領\nに定める商品中古自動車であることを証明する。"]
[]
[null,null,null,null,null,null,null,null,null,null,null,null,null,null,null,null,null,null,null,null,"令和　　　年　　　月　　　日"]
[]
[null,null,null,null,null,null,null,null,null,null,null,null,null,null,null,null,null,null,"住　　所"]
[]
[null,null,null,null,null,null,null,null,null,null,null,null,null,null,null,null,null,null,"支 所 名"]
[]
[null,null,null,null,null,null,null,null,null,null,null,null,null,null,null,null,null,null,"代表者名",null,null,null,null,null,null,null,null,null,null,null,null,null,null,null,null,null,"㊞"]
["様式1-(3)",null,null,null,null,null,null,null,null,null,null,null,null,null,null,null,null,null,null,null,null,null,null,null,null,null,null,null,null,null,null,null,null,"(申請者控)"]
["商品中古自動車証明申請書"]
[null,null,null,null,null,null,null,null,null,null,null,null,null,null,null,null,null,null,null,null,"（企業コード番号　　　　　　　　　　　　）",null,null,null,null,null,null,null,null,null,null,null,{"$f":"AG3","v":"（9枚目）"}]
[]
[null,"一般財団法人　日本自動車査定協会",null,null,null,null,null,null,null,null,null,null,null,null,null,null,null,null,"令和",null,{"$f":"U5","v":0},null,"年",{"$f":"X5","v":0},null,"月",{"$f":"AA5","v":0},null,"日"]
[null,"　　　　　　　　　　　　　　　京都府支所長　　様",null,null,null,null,null,null,null,null,null,null,null,null,null,null,null,"申請者","（登録名義人）","住所(所在地)",null,null,null,null,{"$f":"Y6","v":0}]
[null,"　商品中古自動車確認証明業務実施要領に基づき下記の自動車が商品中古自動車であることの証明を申請します。\n　なお、下記の自動車が商品自動車であること及び記載事項に相違ないこと並びに現地調査が行われる場合には協力することを確約いたします。",null,null,null,null,null,null,null,null,null,null,null,null,null,null,null,null,null,"氏名(名称)",null,null,null,null,{"$f":"Y7","v":0}]
[null,null,null,null,null,null,null,null,null,null,null,null,null,null,null,null,null,null,null,"代表者名",null,null,null,null,{"$f":"Y8","v":0}]
[null,null,null,null,null,null,null,null,null,null,null,null,null,null,null,null,null,null,null,"電話番号",null,null,null,null,{"$f":"Y9","v":0}]
[null,null,null,null,null,null,null,null,null,null,null,null,null,null,null,null,null,null,null,"担当者名",null,null,null,null,{"$f":"Y10","v":0}]
[null,null,null,null,null,null,null,null,null,null,null,null,null,null,null,null,null,null,null,"古物商許可番号",null,null,null,null,null,null,"第",{"$f":"AB11","v":0},null,null,null,null,null,null,null,null,"号"]
[]
[null,"NO.",null,"登録番号",null,null,null,null,null,null,null,null,null,null,null,null,"車台番号",null,null,null,null,"登録\n年月日",null,null,null,null,"展示場",null,null,"調査",null,null,null,"備考"]
[null,null,null,"区分",null,"車種",null,null,null,"かな",null,"番号",null,null,null,null,"(下3ｹﾀ)",null,null,null,null,null,null,null,null,null,null,null,null,"月日",null,"結果"]
[null,{"$f":"B15","v":121},null,null,null,null,null,null,null,null,null,null,null,null,null,null,null,null,null,null,null,{"$f":"V15","v":"00:00:00"},null,null,null,null,{"$f":"AA15","v":0},null,null,null,null,"現","帳"]
[null,null,null,{"$f":"D16","v":"京都"},null,{"$f":"F16","v":0},null,null,null,{"$f":"J16","v":0},null,{"$f":"L16","v":0},null,null,null,null,{"$f":"Q16","v":0}]
[null,{"$f":"B17","v":122},null,null,null,null,null,null,null,null,null,null,null,null,null,null,null,null,null,null,null,{"$f":"V17","v":"00:00:00"},null,null,null,null,{"$f":"AA17","v":0},null,null,null,null,"現","帳"]
[null,null,null,{"$f":"D18","v":"京都"},null,{"$f":"F18","v":0},null,null,null,{"$f":"J18","v":0},null,{"$f":"L18","v":0},null,null,null,null,{"$f":"Q18","v":0}]
[null,{"$f":"B19","v":123},null,null,null,null,null,null,null,null,null,null,null,null,null,null,null,null,null,null,null,{"$f":"V19","v":"00:00:00"},null,null,null,null,{"$f":"AA19","v":0},null,null,null,null,"現","帳"]
[null,null,null,{"$f":"D20","v":"京都"},null,{"$f":"F20","v":0},null,null,null,{"$f":"J20","v":0},null,{"$f":"L20","v":0},null,null,null,null,{"$f":"Q20","v":0}]
[null,{"$f":"B21","v":124},null,null,null,null,null,null,null,null,null,null,null,null,null,null,null,null,null,null,null,{"$f":"V21","v":"00:00:00"},null,null,null,null,{"$f":"AA21","v":0},null,null,null,null,"現","帳"]
[null,null,null,{"$f":"D22","v":"京都"},null,{"$f":"F22","v":0},null,null,null,{"$f":"J22","v":0},null,{"$f":"L22","v":0},null,null,null,null,{"$f":"Q22","v":0}]
[null,{"$f":"B23","v":125},null,null,null,null,null,null,null,null,null,null,null,null,null,null,null,null,null,null,null,{"$f":"V23","v":"00:00:00"},null,null,null,null,{"$f":"AA23","v":0},null,null,null,null,"現","帳"]
[null,null,null,{"$f":"D24","v":"京都"},null,{"$f":"F24","v":0},null,null,null,{"$f":"J24","v":0},null,{"$f":"L24","v":0},null,null,null,null,{"$f":"Q24","v":0}]
[null,{"$f":"B25","v":126},null,null,null,null,null,null,null,null,null,null,null,null,null,null,null,null,null,null,null,{"$f":"V25","v":"00:00:00"},null,null,null,null,{"$f":"AA25","v":0},null,null,null,null,"現","帳"]
[null,null,null,{"$f":"D26","v":"京都"},null,{"$f":"F26","v":0},null,null,null,{"$f":"J26","v":0},null,{"$f":"L26","v":0},null,null,null,null,{"$f":"Q26","v":0}]
[null,{"$f":"B27","v":127},null,null,null,null,null,null,null,null,null,null,null,null,null,null,null,null,null,null,null,{"$f":"V27","v":"00:00:00"},null,null,null,null,{"$f":"AA27","v":0},null,null,null,null,"現","帳"]
[null,null,null,{"$f":"D28","v":"京都"},null,{"$f":"F28","v":0},null,null,null,{"$f":"J28","v":0},null,{"$f":"L28","v":0},null,null,null,null,{"$f":"Q28","v":0}]
[null,{"$f":"B29","v":128},null,null,null,null,null,null,null,null,null,null,null,null,null,null,null,null,null,null,null,{"$f":"V29","v":"00:00:00"},null,null,null,null,{"$f":"AA29","v":0},null,null,null,null,"現","帳"]
[null,null,null,{"$f":"D30","v":"京都"},null,{"$f":"F30","v":0},null,null,null,{"$f":"J30","v":0},null,{"$f":"L30","v":0},null,null,null,null,{"$f":"Q30","v":0}]
[null,{"$f":"B31","v":129},null,null,null,null,null,null,null,null,null,null,null,null,null,null,null,null,null,null,null,{"$f":"V31","v":"00:00:00"},null,null,null,null,{"$f":"AA31","v":0},null,null,null,null,"現","帳"]
[null,null,null,{"$f":"D32","v":"京都"},null,{"$f":"F32","v":0},null,null,null,{"$f":"J32","v":0},null,{"$f":"L32","v":0},null,null,null,null,{"$f":"Q32","v":0}]
[null,{"$f":"B33","v":130},null,null,null,null,null,null,null,null,null,null,null,null,null,null,null,null,null,null,null,{"$f":"V33","v":"00:00:00"},null,null,null,null,{"$f":"AA33","v":0},null,null,null,null,"現","帳"]
[null,null,null,{"$f":"D34","v":"京都"},null,{"$f":"F34","v":0},null,null,null,{"$f":"J34","v":0},null,{"$f":"L34","v":0},null,null,null,null,{"$f":"Q34","v":0}]
[null,{"$f":"B35","v":131},null,null,null,null,null,null,null,null,null,null,null,null,null,null,null,null,null,null,null,{"$f":"V35","v":"00:00:00"},null,null,null,null,{"$f":"AA35","v":0},null,null,null,null,"現","帳"]
[null,null,null,{"$f":"D36","v":"京都"},null,{"$f":"F36","v":0},null,null,null,{"$f":"J36","v":0},null,{"$f":"L36","v":0},null,null,null,null,{"$f":"Q36","v":0}]
[null,{"$f":"B37","v":132},null,null,null,null,null,null,null,null,null,null,null,null,null,null,null,null,null,null,null,{"$f":"V37","v":"00:00:00"},null,null,null,null,{"$f":"AA37","v":0},null,null,null,null,"現","帳"]
[null,null,null,{"$f":"D38","v":"京都"},null,{"$f":"F38","v":0},null,null,null,{"$f":"J38","v":0},null,{"$f":"L38","v":0},null,null,null,null,{"$f":"Q38","v":0}]
[null,{"$f":"B39","v":133},null,null,null,null,null,null,null,null,null,null,null,null,null,null,null,null,null,null,null,{"$f":"V39","v":"00:00:00"},null,null,null,null,{"$f":"AA39","v":0},null,null,null,null,"現","帳"]
[null,null,null,{"$f":"D40","v":"京都"},null,{"$f":"F40","v":0},null,null,null,{"$f":"J40","v":0},null,{"$f":"L40","v":0},null,null,null,null,{"$f":"Q40","v":0}]
[null,{"$f":"B41","v":134},null,null,null,null,null,null,null,null,null,null,null,null,null,null,null,null,null,null,null,{"$f":"V41","v":"00:00:00"},null,null,null,null,{"$f":"AA41","v":0},null,null,null,null,"現","帳"]
[null,null,null,{"$f":"D42","v":"京都"},null,{"$f":"F42","v":0},null,null,null,{"$f":"J42","v":0},null,{"$f":"L42","v":0},null,null,null,null,{"$f":"Q42","v":0}]
[null,{"$f":"B43","v":135},null,null,null,null,null,null,null,null,null,null,null,null,null,null,null,null,null,null,null,{"$f":"V43","v":"00:00:00"},null,null,null,null,{"$f":"AA43","v":0},null,null,null,null,"現","帳"]
[null,null,null,{"$f":"D44","v":"京都"},null,{"$f":"F44","v":0},null,null,null,{"$f":"J44","v":0},null,{"$f":"L44","v":0},null,null,null,null,{"$f":"Q44","v":0}]
[]
[null,null,null,null,null,null,null,null,null,null,null,null,null,null,null,null,null,"誓約事項"]
[null,null,null,null,null,null,null,null,null,null,null,null,null,null,null,null,null,null,null,"申請する自動車には、取得時の登録事由が新規登"]
[null,null,null,null,null,null,null,null,null,null,null,null,null,null,null,null,null,null,null,"録（新車・中古車とも）のものを含みません。"]
[]
[null,null,null,null,null,null,null,null,null,null,null,null,null,null,null,null,null,null,null,null,null,"担当者署名欄"]

{"sheet":"10枚目","index":10,"n_rows":155,"n_cols":49,"rows_kept":155,"cut":false,"hidden":false,"merged":[[6,1,9,16],[6,19,6,23],[6,24,6,37],[7,19,7,23],[7,24,7,37],[8,19,8,23],[1,0,1,37],[1,48,2,51],[2,20,2,31],[2,32,2,36],[4,18,4,19],[4,20,4,21],[4,23,4,24],[4,26,4,27],[8,24,8,37],[9,19,9,23],[9,24,9,37],[10,19,10,25],[10,27,10,35],[10,36,10,37],[5,17,10,17],[5,18,10,18],[5,19,5,23],[5,24,5,37],[12,33,13,36],[13,3,13,4],[13,5,13,8],[13,9,13,10],[13,11,13,15],[13,16,13,20],[13,29,13,30],[13,31,13,32],[12,1,13,2],[12,3,12,15],[12,16,12,20],[12,21,13,25],[12,26,13,28],[12,29,12,32],[14,21,15,25],[14,26,15,28],[14,29,15,30],[14,31,15,31],[14,32,15,32],[14,33,15,36],[14,1,15,2],[14,3,14,4],[14,5,14,8],[14,9,14,10],[14,11,14,15],[14,16,14,20],[15,3,15,4],[15,5,15,8],[15,9,15,10],[15,11,15,15],[15,16,15,20],[16,1,17,2],[16,3,16,4],[16,5,16,8],[16,9,16,10],[16,11,16,15],[16,16,16,20],[17,3,17,4],[17,5,17,8],[17,9,17,10],[18,21,19,25],[18,26,19,28],[18,29,19,30],[18,31,19,31],[18,32,19,32],[18,33,19,36],[17,11,17,15],[17,16,17,20],[18,1,19,2],[18,3,18,4],[18,5,18,8],[18,9,18,10],[18,11,18,15],[18,16,18,20],[19,3,19,4],[19,5,19,8],[16,21,17,25],[16,26,17,28],[16,29,17,30],[16,31,17,31],[16,32,17,32],[16,33,17,36],[19,9,19,10],[19,11,19,15],[19,16,19,20],[20,1,21,2],[20,3,20,4],[20,5,20,8],[20,9,20,10],[20,11,20,15],[20,16,20,20],[21,3,21,4],[22,21,23,25],[22,26,23,28],[22,29,23,30],[22,31,23,31],[22,32,23,32],[22,33,23,36],[21,5,21,8],[21,9,21,10],[21,11,21,15],[21,16,21,20],[22,5,22,8],[22,9,22,10],[22,11,22,15],[22,16,22,20],[20,21,21,25],[20,26,21,28],[20,29,21,30],[20,31,21,31],[20,32,21,32],[20,33,21,36],[23,3,23,4],[23,5,23,8],[23,9,23,10],[23,11,23,15],[23,16,23,20],[24,1,25,2],[24,3,24,4],[24,5,24,8],[24,9,24,10],[24,11,24,15],[22,1,23,2],[22,3,22,4],[24,33,25,36],[25,3,25,4],[25,5,25,8],[25,9,25,10],[25,11,25,15],[25,16,25,20],[24,16,24,20],[24,21,25,25],[24,26,25,28],[24,29,25,30],[24,31,25,31],[24,32,25,32],[26,21,27,25],[26,26,27,28],[26,29,27,30],[26,31,27,31],[26,32,27,32],[26,33,27,36],[26,1,27,2],[26,3,26,4],[26,5,26,8],[26,9,26,10],[26,11,26,15],[26,16,26,20],[27,3,27,4],[27,5,27,8],[27,9,27,10],[27,11,27,15],[27,16,27,20],[28,1,29,2],[28,3,28,4],[28,5,28,8],[28,9,28,10],[28,11,28,15],[28,16,28,20],[29,3,29,4],[29,5,29,8],[29,9,29,10],[30,21,31,25],[30,26,31,28],[30,29,31,30],[30,31,31,31],[30,32,31,32],[30,33,31,36],[29,11,29,15],[29,16,29,20],[30,1,31,2],[30,3,30,4],[30,5,30,8],[30,9,30,10],[30,11,30,15],[30,16,30,20],[31,3,31,4],[31,5,31,8],[28,21,29,25],[28,26,29,28],[28,29,29,30],[28,31,29,31],[28,32,29,32],[28,33,29,36],[31,9,31,10],[31,11,31,15],[31,16,31,20],[32,1,33,2],[32,3,32,4],[32,5,32,8],[32,9,32,10],[32,11,32,15],[32,16,32,20],[33,3,33,4],[34,21,35,25],[34,26,35,28],[34,29,35,30],[34,31,35,31],[34,32,35,32],[34,33,35,36],[33,5,33,8],[33,9,33,10],[33,11,33,15],[33,16,33,20],[34,5,34,8],[34,9,34,10],[34,11,34,15],[34,16,34,20],[32,21,33,25],[32,26,33,28],[32,29,33,30],[32,31,33,31],[32,32,33,32],[32,33,33,36],[35,3,35,4],[35,5,35,8],[35,9,35,10],[35,11,35,15],[35,16,35,20],[36,1,37,2],[36,3,36,4],[36,5,36,8],[36,9,36,10],[36,11,36,15],[34,1,35,2],[34,3,34,4],[38,5,38,8],[38,9,38,10],[38,11,38,15],[38,16,38,20],[39,3,39,4],[39,5,39,8],[39,9,39,10],[39,11,39,15],[36,33,37,36],[37,3,37,4],[37,5,37,8],[37,9,37,10],[37,11,37,15],[37,16,37,20],[36,16,36,20],[36,21,37,25],[36,26,37,28],[36,29,37,30],[36,31,37,31],[36,32,37,32],[40,21,41,25],[40,26,41,28],[40,29,41,30],[40,31,41,31],[40,32,41,32],[40,33,41,36],[39,16,39,20],[40,1,41,2],[40,3,40,4],[40,5,40,8],[40,9,40,10],[40,11,40,15],[40,16,40,20],[41,3,41,4],[41,5,41,8],[41,9,41,10],[38,21,39,25],[38,26,39,28],[38,29,39,30],[38,31,39,31],[38,32,39,32],[38,33,39,36],[38,1,39,2],[38,3,38,4],[41,11,41,15],[41,16,41,20],[42,1,43,2],[42,3,42,4],[42,5,42,8],[42,9,42,10],[42,11,42,15],[42,16,42,20],[43,3,43,4],[43,5,43,8],[43,9,43,10],[43,11,43,15],[43,16,43,20],[45,17,49,18],[46,19,46,36],[47,19,47,36],[42,21,43,25],[42,26,43,28],[42,29,43,30],[42,31,43,31],[42,32,43,32],[42,33,43,36],[56,1,59,16],[56,19,56,23],[56,24,56,37],[57,19,57,23],[57,24,57,37],[58,19,58,23],[51,0,51,37],[52,20,52,31],[52,32,52,36],[54,18,54,19],[54,20,54,21],[54,23,54,24],[54,26,54,27],[58,24,58,37],[59,19,59,23],[59,24,59,37],[60,19,60,25],[60,27,60,35],[60,36,60,37],[55,17,60,17],[55,18,60,18],[55,19,55,23],[55,24,55,37],[62,1,62,20],[62,21,62,36],[63,1,64,2],[63,3,63,15],[63,16,63,20],[63,21,64,36],[64,3,64,4],[64,5,64,8],[64,9,64,10],[64,11,64,15],[65,21,66,36],[66,3,66,4],[66,5,66,8],[66,9,66,10],[66,11,66,15],[66,16,66,20],[64,16,64,20],[65,1,66,2],[65,3,65,4],[65,5,65,8],[65,9,65,10],[65,11,65,15],[65,16,65,20],[67,21,68,36],[68,3,68,4],[68,5,68,8],[68,9,68,10],[68,11,68,15],[68,16,68,20],[67,1,68,2],[67,3,67,4],[67,5,67,8],[67,9,67,10],[67,11,67,15],[67,16,67,20],[69,21,70,36],[70,3,70,4],[70,5,70,8],[70,9,70,10],[70,11,70,15],[70,16,70,20],[69,1,70,2],[69,3,69,4],[69,5,69,8],[69,9,69,10],[69,11,69,15],[69,16,69,20],[71,21,72,36],[72,3,72,4],[72,5,72,8],[72,9,72,10],[72,11,72,15],[72,16,72,20],[71,1,72,2],[71,3,71,4],[71,5,71,8],[71,9,71,10],[71,11,71,15],[71,16,71,20],[73,21,74,36],[74,3,74,4],[74,5,74,8],[74,9,74,10],[74,11,74,15],[74,16,74,20],[73,1,74,2],[73,3,73,4],[73,5,73,8],[73,9,73,10],[73,11,73,15],[73,16,73,20],[75,21,76,36],[76,3,76,4],[76,5,76,8],[76,9,76,10],[76,11,76,15],[76,16,76,20],[75,1,76,2],[75,3,75,4],[75,5,75,8],[75,9,75,10],[75,11,75,15],[75,16,75,20],[77,21,78,36],[78,3,78,4],[78,5,78,8],[78,9,78,10],[78,11,78,15],[78,16,78,20],[77,1,78,2],[77,3,77,4],[77,5,77,8],[77,9,77,10],[77,11,77,15],[77,16,77,20],[79,21,80,36],[80,3,80,4],[80,5,80,8],[80,9,80,10],[80,11,80,15],[80,16,80,20],[79,1,80,2],[79,3,79,4],[79,5,79,8],[79,9,79,10],[79,11,79,15],[79,16,79,20],[81,21,82,36],[82,3,82,4],[82,5,82,8],[82,9,82,10],[82,11,82,15],[82,16,82,20],[81,1,82,2],[81,3,81,4],[81,5,81,8],[81,9,81,10],[81,11,81,15],[81,16,81,20],[83,21,84,36],[84,3,84,4],[84,5,84,8],[84,9,84,10],[84,11,84,15],[84,16,84,20],[83,1,84,2],[83,3,83,4],[83,5,83,8],[83,9,83,10],[83,11,83,15],[83,16,83,20],[85,21,86,36],[86,3,86,4],[86,5,86,8],[86,9,86,10],[86,11,86,15],[86,16,86,20],[85,1,86,2],[85,3,85,4],[85,5,85,8],[85,9,85,10],[85,11,85,15],[85,16,85,20],[87,21,88,36],[88,3,88,4],[88,5,88,8],[88,9,88,10],[88,11,88,15],[88,16,88,20],[87,1,88,2],[87,3,87,4],[87,5,87,8],[87,9,87,10],[87,11,87,15],[87,16,87,20],[89,21,90,36],[90,3,90,4],[90,5,90,8],[90,9,90,10],[90,11,90,15],[90,16,90,20],[89,1,90,2],[89,3,89,4],[89,5,89,8],[89,9,89,10],[89,11,89,15],[89,16,89,20],[91,21,92,36],[92,3,92,4],[92,5,92,8],[92,9,92,10],[92,11,92,15],[92,16,92,20],[91,1,92,2],[91,3,91,4],[91,5,91,8],[91,9,91,10],[91,11,91,15],[91,16,91,20],[96,19,96,36],[100,18,100,21],[102,18,102,21],[104,18,104,21],[106,0,106,37],[107,20,107,31],[107,32,107,36],[93,21,94,36],[94,3,94,4],[94,5,94,8],[94,9,94,10],[94,11,94,15],[94,16,94,20],[93,1,94,2],[93,3,93,4],[93,5,93,8],[93,9,93,10],[93,11,93,15],[93,16,93,20],[109,18,109,19],[109,20,109,21],[109,23,109,24],[109,26,109,27],[110,17,115,17],[110,18,115,18],[110,19,110,23],[110,24,110,37],[115,19,115,25],[115,27,115,35],[111,1,114,16],[111,19,111,23],[111,24,111,37],[112,19,112,23],[112,24,112,37],[113,19,113,23],[113,24,113,37],[114,19,114,23],[114,24,114,37],[115,36,115,37],[117,1,118,2],[117,3,117,15],[117,16,117,20],[117,21,118,25],[117,26,118,28],[117,29,117,32],[117,33,118,36],[118,3,118,4],[118,5,118,8],[118,9,118,10],[118,11,118,15],[118,16,118,20],[118,29,118,30],[118,31,118,32],[119,1,120,2],[119,3,119,4],[119,5,119,8],[119,9,119,10],[119,11,119,15],[119,33,120,36],[120,3,120,4],[120,5,120,8],[120,9,120,10],[120,11,120,15],[120,16,120,20],[119,16,119,20],[119,21,120,25],[119,26,120,28],[119,29,120,30],[119,31,120,31],[119,32,120,32],[121,21,122,25],[121,26,122,28],[121,29,122,30],[121,31,122,31],[121,32,122,32],[121,33,122,36],[121,1,122,2],[121,3,121,4],[121,5,121,8],[121,9,121,10],[121,11,121,15],[121,16,121,20],[122,3,122,4],[122,5,122,8],[122,9,122,10],[122,11,122,15],[122,16,122,20],[123,1,124,2],[123,3,123,4],[123,5,123,8],[123,9,123,10],[123,11,123,15],[123,16,123,20],[124,3,124,4],[124,5,124,8],[124,9,124,10],[125,21,126,25],[125,26,126,28],[125,29,126,30],[125,31,126,31],[125,32,126,32],[125,33,126,36],[124,11,124,15],[124,16,124,20],[125,1,126,2],[125,3,125,4],[125,5,125,8],[125,9,125,10],[125,11,125,15],[125,16,125,20],[126,3,126,4],[126,5,126,8],[123,21,124,25],[123,26,124,28],[123,29,124,30],[123,31,124,31],[123,32,124,32],[123,33,124,36],[126,9,126,10],[126,11,126,15],[126,16,126,20],[127,1,128,2],[127,3,127,4],[127,5,127,8],[127,9,127,10],[127,11,127,15],[127,16,127,20],[128,3,128,4],[129,21,130,25],[129,26,130,28],[129,29,130,30],[129,31,130,31],[129,32,130,32],[129,33,130,36],[128,5,128,8],[128,9,128,10],[128,11,128,15],[128,16,128,20],[129,5,129,8],[129,9,129,10],[129,11,129,15],[129,16,129,20],[127,21,128,25],[127,26,128,28],[127,29,128,30],[127,31,128,31],[127,32,128,32],[127,33,128,36],[130,3,130,4],[130,5,130,8],[130,9,130,10],[130,11,130,15],[130,16,130,20],[131,1,132,2],[131,3,131,4],[131,5,131,8],[131,9,131,10],[131,11,131,15],[129,1,130,2],[129,3,129,4],[131,33,132,36],[132,3,132,4],[132,5,132,8],[132,9,132,10],[132,11,132,15],[132,16,132,20],[131,16,131,20],[131,21,132,25],[131,26,132,28],[131,29,132,30],[131,31,132,31],[131,32,132,32],[133,21,134,25],[133,26,134,28],[133,29,134,30],[133,31,134,31],[133,32,134,32],[133,33,134,36],[133,1,134,2],[133,3,133,4],[133,5,133,8],[133,9,133,10],[133,11,133,15],[133,16,133,20],[134,3,134,4],[134,5,134,8],[134,9,134,10],[134,11,134,15],[134,16,134,20],[135,1,136,2],[135,3,135,4],[135,5,135,8],[135,9,135,10],[135,11,135,15],[135,16,135,20],[136,3,136,4],[136,5,136,8],[136,9,136,10],[137,21,138,25],[137,26,138,28],[137,29,138,30],[137,31,138,31],[137,32,138,32],[137,33,138,36],[136,11,136,15],[136,16,136,20],[137,1,138,2],[137,3,137,4],[137,5,137,8],[137,9,137,10],[137,11,137,15],[137,16,137,20],[138,3,138,4],[138,5,138,8],[135,21,136,25],[135,26,136,28],[135,29,136,30],[135,31,136,31],[135,32,136,32],[135,33,136,36],[138,9,138,10],[138,11,138,15],[138,16,138,20],[139,1,140,2],[139,3,139,4],[139,5,139,8],[139,9,139,10],[139,11,139,15],[139,16,139,20],[140,3,140,4],[141,21,142,25],[141,26,142,28],[141,29,142,30],[141,31,142,31],[141,32,142,32],[141,33,142,36],[140,5,140,8],[140,9,140,10],[140,11,140,15],[140,16,140,20],[141,5,141,8],[141,9,141,10],[141,11,141,15],[141,16,141,20],[139,21,140,25],[139,26,140,28],[139,29,140,30],[139,31,140,31],[139,32,140,32],[139,33,140,36],[142,3,142,4],[142,5,142,8],[142,9,142,10],[142,11,142,15],[142,16,142,20],[143,1,144,2],[143,3,143,4],[143,5,143,8],[143,9,143,10],[143,11,143,15],[141,1,142,2],[141,3,141,4],[143,33,144,36],[144,3,144,4],[144,5,144,8],[144,9,144,10],[144,11,144,15],[144,16,144,20],[143,16,143,20],[143,21,144,25],[143,26,144,28],[143,29,144,30],[143,31,144,31],[143,32,144,32],[145,21,146,25],[145,26,146,28],[145,29,146,30],[145,31,146,31],[145,32,146,32],[145,33,146,36],[145,1,146,2],[145,3,145,4],[145,5,145,8],[145,9,145,10],[145,11,145,15],[145,16,145,20],[146,3,146,4],[146,5,146,8],[146,9,146,10],[146,11,146,15],[146,16,146,20],[147,1,148,2],[147,3,147,4],[147,5,147,8],[147,9,147,10],[147,11,147,15],[147,16,147,20],[148,3,148,4],[148,5,148,8],[148,9,148,10],[148,11,148,15],[148,16,148,20],[150,17,154,18],[151,19,151,36],[152,19,152,36],[147,21,148,25],[147,26,148,28],[147,29,148,30],[147,31,148,31],[147,32,148,32],[147,33,148,36]]}
["様式1-(1)",null,null,null,null,null,null,null,null,null,null,null,null,null,null,null,null,null,null,null,null,null,null,null,null,null,null,null,null,null,null,"(査定協会提出用)"]
["商品中古自動車証明申請書",null,null,null,null,null,null,null,null,null,null,null,null,null,null,null,null,null,null,null,null,null,null,null,null,null,null,null,null,null,null,null,null,null,null,null,null,null,null,null,null,null,null,null,null,null,null,null,"記入箇所"]
[null,null,null,null,null,null,null,null,null,null,null,null,null,null,null,null,null,null,null,null,"（企業コード番号　　　　　　　　　　　　）",null,null,null,null,null,null,null,null,null,null,null,"（10枚目）"]
[]
[null,"一般財団法人　日本自動車査定協会",null,null,null,null,null,null,null,null,null,null,null,null,null,null,null,null,"令和",null,{"$f":"'1枚目'!U5","v":0},null,"年",{"$f":"'1枚目'!X5","v":0},null,"月",{"$f":"'1枚目'!AA5","v":0},null,"日"]
[null,"　　　　　　　　　　　　　　　京都府支所長　　様",null,null,null,null,null,null,null,null,null,null,null,null,null,null,null,"申請者","（登録名義人）","住所(所在地)",null,null,null,null,{"$f":"'1枚目'!Y6","v":0}]
[null,"　商品中古自動車確認証明業務実施要領に基づき下記の自動車が商品中古自動車であることの証明を申請します。\n　なお、下記の自動車が商品自動車であること及び記載事項に相違ないこと並びに現地調査が行われる場合には協力することを確約いたします。",null,null,null,null,null,null,null,null,null,null,null,null,null,null,null,null,null,"氏名(名称)",null,null,null,null,{"$f":"'1枚目'!Y7","v":0}]
[null,null,null,null,null,null,null,null,null,null,null,null,null,null,null,null,null,null,null,"代表者名",null,null,null,null,{"$f":"'1枚目'!Y8","v":0}]
[null,null,null,null,null,null,null,null,null,null,null,null,null,null,null,null,null,null,null,"電話番号",null,null,null,null,{"$f":"'1枚目'!Y9","v":0}]
[null,null,null,null,null,null,null,null,null,null,null,null,null,null,null,null,null,null,null,"担当者名",null,null,null,null,{"$f":"'1枚目'!Y10","v":0}]
[null,null,null,null,null,null,null,null,null,null,null,null,null,null,null,null,null,null,null,"古物商許可番号",null,null,null,null,null,null,"第",{"$f":"'1枚目'!AB11","v":0},null,null,null,null,null,null,null,null,"号"]
[]
[null,"NO.",null,"登録番号",null,null,null,null,null,null,null,null,null,null,null,null,"車台番号",null,null,null,null,"登録\n年月日",null,null,null,null,"展示場",null,null,"調査",null,null,null,"備考"]
[null,null,null,"区分",null,"車種",null,null,null,"かな",null,"番号",null,null,null,null,"(下3ｹﾀ)",null,null,null,null,null,null,null,null,null,null,null,null,"月日",null,"結果"]
[null,136,null,null,null,null,null,null,null,null,null,null,null,null,null,null,null,null,null,null,null,null,null,null,null,null,null,null,null,null,null,"現","帳"]
[null,null,null,"京都"]
[null,137,null,null,null,null,null,null,null,null,null,null,null,null,null,null,null,null,null,null,null,null,null,null,null,null,null,null,null,null,null,"現","帳"]
[null,null,null,"京都"]
[null,138,null,null,null,null,null,null,null,null,null,null,null,null,null,null,null,null,null,null,null,null,null,null,null,null,null,null,null,null,null,"現","帳"]
[null,null,null,"京都"]
[null,139,null,null,null,null,null,null,null,null,null,null,null,null,null,null,null,null,null,null,null,null,null,null,null,null,null,null,null,null,null,"現","帳"]
[null,null,null,"京都"]
[null,140,null,null,null,null,null,null,null,null,null,null,null,null,null,null,null,null,null,null,null,null,null,null,null,null,null,null,null,null,null,"現","帳"]
[null,null,null,"京都"]
[null,141,null,null,null,null,null,null,null,null,null,null,null,null,null,null,null,null,null,null,null,null,null,null,null,null,null,null,null,null,null,"現","帳"]
[null,null,null,"京都"]
[null,142,null,null,null,null,null,null,null,null,null,null,null,null,null,null,null,null,null,null,null,null,null,null,null,null,null,null,null,null,null,"現","帳"]
[null,null,null,"京都"]
[null,143,null,null,null,null,null,null,null,null,null,null,null,null,null,null,null,null,null,null,null,null,null,null,null,null,null,null,null,null,null,"現","帳"]
[null,null,null,"京都"]
[null,144,null,null,null,null,null,null,null,null,null,null,null,null,null,null,null,null,null,null,null,null,null,null,null,null,null,null,null,null,null,"現","帳"]
[null,null,null,"京都"]
[null,145,null,null,null,null,null,null,null,null,null,null,null,null,null,null,null,null,null,null,null,null,null,null,null,null,null,null,null,null,null,"現","帳"]
[null,null,null,"京都"]
[null,146,null,null,null,null,null,null,null,null,null,null,null,null,null,null,null,null,null,null,null,null,null,null,null,null,null,null,null,null,null,"現","帳"]
[null,null,null,"京都"]
[null,147,null,null,null,null,null,null,null,null,null,null,null,null,null,null,null,null,null,null,null,null,null,null,null,null,null,null,null,null,null,"現","帳"]
[null,null,null,"京都"]
[null,148,null,null,null,null,null,null,null,null,null,null,null,null,null,null,null,null,null,null,null,null,null,null,null,null,null,null,null,null,null,"現","帳"]
[null,null,null,"京都"]
[null,149,null,null,null,null,null,null,null,null,null,null,null,null,null,null,null,null,null,null,null,null,null,null,null,null,null,null,null,null,null,"現","帳"]
[null,null,null,"京都"]
[null,150,null,null,null,null,null,null,null,null,null,null,null,null,null,null,null,null,null,null,null,null,null,null,null,null,null,null,null,null,null,"現","帳"]
[null,null,null,"京都"]
[]
[null,null,null,null,null,null,null,null,null,null,null,null,null,null,null,null,null,"誓約事項"]
[null,null,null,null,null,null,null,null,null,null,null,null,null,null,null,null,null,null,null,"申請する自動車には、取得時の登録事由が新規登"]
[null,null,null,null,null,null,null,null,null,null,null,null,null,null,null,null,null,null,null,"録（新車・中古車とも）のものを含みません。"]
[]
[null,null,null,null,null,null,null,null,null,null,null,null,null,null,null,null,null,null,null,null,null,"担当者署名欄"]
["様式1-(2)",null,null,null,null,null,null,null,null,null,null,null,null,null,null,null,null,null,null,null,null,null,null,null,null,null,null,"(自動車税管理事務所提出用)"]
["商品中古自動車の自動車税の種別割減免申請書"]
[null,null,null,null,null,null,null,null,null,null,null,null,null,null,null,null,null,null,null,null,"（企業コード番号　　　　　　　　　　　　）",null,null,null,null,null,null,null,null,null,null,null,{"$f":"AG3","v":"（10枚目）"}]
[]
[null,"京都府自動車税管理事務所長　様",null,null,null,null,null,null,null,null,null,null,null,null,null,null,null,null,"令和",null,{"$f":"U5","v":0},null,"年",{"$f":"X5","v":0},null,"月",{"$f":"AA5","v":0},null,"日"]
[null,null,null,null,null,null,null,null,null,null,null,null,null,null,null,null,null,"申請者","（登録名義人）","住所(所在地)",null,null,null,null,{"$f":"Y6","v":0}]
[null,"　   京都府府税条例第70条第2項の規定に基づき、\n  下記のとおり申請します。",null,null,null,null,null,null,null,null,null,null,null,null,null,null,null,null,null,"氏名(名称)",null,null,null,null,{"$f":"Y7","v":0}]
[null,null,null,null,null,null,null,null,null,null,null,null,null,null,null,null,null,null,null,"代表者名",null,null,null,null,{"$f":"Y8","v":0}]
[null,null,null,null,null,null,null,null,null,null,null,null,null,null,null,null,null,null,null,"電話番号",null,null,null,null,{"$f":"Y9","v":0}]
[null,null,null,null,null,null,null,null,null,null,null,null,null,null,null,null,null,null,null,"担当者名",null,null,null,null,{"$f":"Y10","v":0}]
[null,null,null,null,null,null,null,null,null,null,null,null,null,null,null,null,null,null,null,"古物商許可番号",null,null,null,null,null,null,"第",{"$f":"AB11","v":0},null,null,null,null,null,null,null,null,"号"]
[]
[null,"減　免　対　象　自　動　車　の　総　台　数",null,null,null,null,null,null,null,null,null,null,null,null,null,null,null,null,null,null,null,"台"]
[null,"NO.",null,"登録番号",null,null,null,null,null,null,null,null,null,null,null,null,"車台番号",null,null,null,null,"備　　　　　考"]
[null,null,null,"区分",null,"車種",null,null,null,"かな",null,"番号",null,null,null,null,"(下3ｹﾀ)"]
[null,{"$f":"B15","v":136}]
[null,null,null,{"$f":"D16","v":"京都"},null,null,null,null,null,{"$f":"J16","v":0}]
[null,{"$f":"B17","v":137}]
[null,null,null,{"$f":"D18","v":"京都"},null,{"$f":"F18","v":0},null,null,null,{"$f":"J18","v":0},null,{"$f":"L18","v":0},null,null,null,null,{"$f":"Q18","v":0}]
[null,{"$f":"B19","v":138}]
[null,null,null,{"$f":"D20","v":"京都"},null,{"$f":"F20","v":0},null,null,null,{"$f":"J20","v":0},null,{"$f":"L20","v":0},null,null,null,null,{"$f":"Q20","v":0}]
[null,{"$f":"B21","v":139}]
[null,null,null,{"$f":"D22","v":"京都"},null,{"$f":"F22","v":0},null,null,null,{"$f":"J22","v":0},null,{"$f":"L22","v":0},null,null,null,null,{"$f":"Q22","v":0}]
[null,{"$f":"B23","v":140}]
[null,null,null,{"$f":"D24","v":"京都"},null,{"$f":"F24","v":0},null,null,null,{"$f":"J24","v":0},null,{"$f":"L24","v":0},null,null,null,null,{"$f":"Q24","v":0}]
[null,{"$f":"B25","v":141}]
[null,null,null,{"$f":"D26","v":"京都"},null,{"$f":"F26","v":0},null,null,null,{"$f":"J26","v":0},null,{"$f":"L26","v":0},null,null,null,null,{"$f":"Q26","v":0}]
[null,{"$f":"B27","v":142}]
[null,null,null,{"$f":"D28","v":"京都"},null,{"$f":"F28","v":0},null,null,null,{"$f":"J28","v":0},null,{"$f":"L28","v":0},null,null,null,null,{"$f":"Q28","v":0}]
[null,{"$f":"B29","v":143}]
[null,null,null,{"$f":"D30","v":"京都"},null,{"$f":"F30","v":0},null,null,null,{"$f":"J30","v":0},null,{"$f":"L30","v":0},null,null,null,null,{"$f":"Q30","v":0}]
[null,{"$f":"B31","v":144}]
[null,null,null,{"$f":"D32","v":"京都"},null,{"$f":"F32","v":0},null,null,null,{"$f":"J32","v":0},null,{"$f":"L32","v":0},null,null,null,null,{"$f":"Q32","v":0}]
[null,{"$f":"B33","v":145}]
[null,null,null,{"$f":"D34","v":"京都"},null,{"$f":"F34","v":0},null,null,null,{"$f":"J34","v":0},null,{"$f":"L34","v":0},null,null,null,null,{"$f":"Q34","v":0}]
[null,{"$f":"B35","v":146}]
[null,null,null,{"$f":"D36","v":"京都"},null,{"$f":"F36","v":0},null,null,null,{"$f":"J36","v":0},null,{"$f":"L36","v":0},null,null,null,null,{"$f":"Q36","v":0}]
[null,{"$f":"B37","v":147}]
[null,null,null,{"$f":"D38","v":"京都"},null,{"$f":"F38","v":0},null,null,null,{"$f":"J38","v":0},null,{"$f":"L38","v":0},null,null,null,null,{"$f":"Q38","v":0}]
[null,{"$f":"B39","v":148}]
[null,null,null,{"$f":"D40","v":"京都"},null,{"$f":"F40","v":0},null,null,null,{"$f":"J40","v":0},null,{"$f":"L40","v":0},null,null,null,null,{"$f":"Q40","v":0}]
[null,{"$f":"B41","v":149}]
[null,null,null,{"$f":"D42","v":"京都"},null,{"$f":"F42","v":0},null,null,null,{"$f":"J42","v":0},null,{"$f":"L42","v":0},null,null,null,null,{"$f":"Q42","v":0}]
[null,{"$f":"B43","v":150}]
[null,null,null,{"$f":"D44","v":"京都"},null,{"$f":"F44","v":0},null,null,null,{"$f":"J44","v":0},null,{"$f":"L44","v":0},null,null,null,null,{"$f":"Q44","v":0}]
[]
[null,null,null,null,null,null,null,null,null,null,null,null,null,null,null,null,null,null,null,"　上記は、商品中古自動車確認証明業務実施要領\nに定める商品中古自動車であることを証明する。"]
[]
[null,null,null,null,null,null,null,null,null,null,null,null,null,null,null,null,null,null,null,null,"令和　　　年　　　月　　　日"]
[]
[null,null,null,null,null,null,null,null,null,null,null,null,null,null,null,null,null,null,"住　　所"]
[]
[null,null,null,null,null,null,null,null,null,null,null,null,null,null,null,null,null,null,"支 所 名"]
[]
[null,null,null,null,null,null,null,null,null,null,null,null,null,null,null,null,null,null,"代表者名",null,null,null,null,null,null,null,null,null,null,null,null,null,null,null,null,null,"㊞"]
["様式1-(3)",null,null,null,null,null,null,null,null,null,null,null,null,null,null,null,null,null,null,null,null,null,null,null,null,null,null,null,null,null,null,null,null,"(申請者控)"]
["商品中古自動車証明申請書"]
[null,null,null,null,null,null,null,null,null,null,null,null,null,null,null,null,null,null,null,null,"（企業コード番号　　　　　　　　　　　　）",null,null,null,null,null,null,null,null,null,null,null,{"$f":"AG3","v":"（10枚目）"}]
[]
[null,"一般財団法人　日本自動車査定協会",null,null,null,null,null,null,null,null,null,null,null,null,null,null,null,null,"令和",null,{"$f":"U5","v":0},null,"年",{"$f":"X5","v":0},null,"月",{"$f":"AA5","v":0},null,"日"]
[null,"　　　　　　　　　　　　　　　京都府支所長　　様",null,null,null,null,null,null,null,null,null,null,null,null,null,null,null,"申請者","（登録名義人）","住所(所在地)",null,null,null,null,{"$f":"Y6","v":0}]
[null,"　商品中古自動車確認証明業務実施要領に基づき下記の自動車が商品中古自動車であることの証明を申請します。\n　なお、下記の自動車が商品自動車であること及び記載事項に相違ないこと並びに現地調査が行われる場合には協力することを確約いたします。",null,null,null,null,null,null,null,null,null,null,null,null,null,null,null,null,null,"氏名(名称)",null,null,null,null,{"$f":"Y7","v":0}]
[null,null,null,null,null,null,null,null,null,null,null,null,null,null,null,null,null,null,null,"代表者名",null,null,null,null,{"$f":"Y8","v":0}]
[null,null,null,null,null,null,null,null,null,null,null,null,null,null,null,null,null,null,null,"電話番号",null,null,null,null,{"$f":"Y9","v":0}]
[null,null,null,null,null,null,null,null,null,null,null,null,null,null,null,null,null,null,null,"担当者名",null,null,null,null,{"$f":"Y10","v":0}]
[null,null,null,null,null,null,null,null,null,null,null,null,null,null,null,null,null,null,null,"古物商許可番号",null,null,null,null,null,null,"第",{"$f":"AB11","v":0},null,null,null,null,null,null,null,null,"号"]
[]
[null,"NO.",null,"登録番号",null,null,null,null,null,null,null,null,null,null,null,null,"車台番号",null,null,null,null,"登録\n年月日",null,null,null,null,"展示場",null,null,"調査",null,null,null,"備考"]
[null,null,null,"区分",null,"車種",null,null,null,"かな",null,"番号",null,null,null,null,"(下3ｹﾀ)",null,null,null,null,null,null,null,null,null,null,null,null,"月日",null,"結果"]
[null,{"$f":"B15","v":136},null,null,null,null,null,null,null,null,null,null,null,null,null,null,null,null,null,null,null,{"$f":"V15","v":"00:00:00"},null,null,null,null,{"$f":"AA15","v":0},null,null,null,null,"現","帳"]
[null,null,null,{"$f":"D16","v":"京都"},null,{"$f":"F16","v":0},null,null,null,{"$f":"J16","v":0},null,{"$f":"L16","v":0},null,null,null,null,{"$f":"Q16","v":0}]
[null,{"$f":"B17","v":137},null,null,null,null,null,null,null,null,null,null,null,null,null,null,null,null,null,null,null,{"$f":"V17","v":"00:00:00"},null,null,null,null,{"$f":"AA17","v":0},null,null,null,null,"現","帳"]
[null,null,null,{"$f":"D18","v":"京都"},null,{"$f":"F18","v":0},null,null,null,{"$f":"J18","v":0},null,{"$f":"L18","v":0},null,null,null,null,{"$f":"Q18","v":0}]
[null,{"$f":"B19","v":138},null,null,null,null,null,null,null,null,null,null,null,null,null,null,null,null,null,null,null,{"$f":"V19","v":"00:00:00"},null,null,null,null,{"$f":"AA19","v":0},null,null,null,null,"現","帳"]
[null,null,null,{"$f":"D20","v":"京都"},null,{"$f":"F20","v":0},null,null,null,{"$f":"J20","v":0},null,{"$f":"L20","v":0},null,null,null,null,{"$f":"Q20","v":0}]
[null,{"$f":"B21","v":139},null,null,null,null,null,null,null,null,null,null,null,null,null,null,null,null,null,null,null,{"$f":"V21","v":"00:00:00"},null,null,null,null,{"$f":"AA21","v":0},null,null,null,null,"現","帳"]
[null,null,null,{"$f":"D22","v":"京都"},null,{"$f":"F22","v":0},null,null,null,{"$f":"J22","v":0},null,{"$f":"L22","v":0},null,null,null,null,{"$f":"Q22","v":0}]
[null,{"$f":"B23","v":140},null,null,null,null,null,null,null,null,null,null,null,null,null,null,null,null,null,null,null,{"$f":"V23","v":"00:00:00"},null,null,null,null,{"$f":"AA23","v":0},null,null,null,null,"現","帳"]
[null,null,null,{"$f":"D24","v":"京都"},null,{"$f":"F24","v":0},null,null,null,{"$f":"J24","v":0},null,{"$f":"L24","v":0},null,null,null,null,{"$f":"Q24","v":0}]
[null,{"$f":"B25","v":141},null,null,null,null,null,null,null,null,null,null,null,null,null,null,null,null,null,null,null,{"$f":"V25","v":"00:00:00"},null,null,null,null,{"$f":"AA25","v":0},null,null,null,null,"現","帳"]
[null,null,null,{"$f":"D26","v":"京都"},null,{"$f":"F26","v":0},null,null,null,{"$f":"J26","v":0},null,{"$f":"L26","v":0},null,null,null,null,{"$f":"Q26","v":0}]
[null,{"$f":"B27","v":142},null,null,null,null,null,null,null,null,null,null,null,null,null,null,null,null,null,null,null,{"$f":"V27","v":"00:00:00"},null,null,null,null,{"$f":"AA27","v":0},null,null,null,null,"現","帳"]
[null,null,null,{"$f":"D28","v":"京都"},null,{"$f":"F28","v":0},null,null,null,{"$f":"J28","v":0},null,{"$f":"L28","v":0},null,null,null,null,{"$f":"Q28","v":0}]
[null,{"$f":"B29","v":143},null,null,null,null,null,null,null,null,null,null,null,null,null,null,null,null,null,null,null,{"$f":"V29","v":"00:00:00"},null,null,null,null,{"$f":"AA29","v":0},null,null,null,null,"現","帳"]
[null,null,null,{"$f":"D30","v":"京都"},null,{"$f":"F30","v":0},null,null,null,{"$f":"J30","v":0},null,{"$f":"L30","v":0},null,null,null,null,{"$f":"Q30","v":0}]
[null,{"$f":"B31","v":144},null,null,null,null,null,null,null,null,null,null,null,null,null,null,null,null,null,null,null,{"$f":"V31","v":"00:00:00"},null,null,null,null,{"$f":"AA31","v":0},null,null,null,null,"現","帳"]
[null,null,null,{"$f":"D32","v":"京都"},null,{"$f":"F32","v":0},null,null,null,{"$f":"J32","v":0},null,{"$f":"L32","v":0},null,null,null,null,{"$f":"Q32","v":0}]
[null,{"$f":"B33","v":145},null,null,null,null,null,null,null,null,null,null,null,null,null,null,null,null,null,null,null,{"$f":"V33","v":"00:00:00"},null,null,null,null,{"$f":"AA33","v":0},null,null,null,null,"現","帳"]
[null,null,null,{"$f":"D34","v":"京都"},null,{"$f":"F34","v":0},null,null,null,{"$f":"J34","v":0},null,{"$f":"L34","v":0},null,null,null,null,{"$f":"Q34","v":0}]
[null,{"$f":"B35","v":146},null,null,null,null,null,null,null,null,null,null,null,null,null,null,null,null,null,null,null,{"$f":"V35","v":"00:00:00"},null,null,null,null,{"$f":"AA35","v":0},null,null,null,null,"現","帳"]
[null,null,null,{"$f":"D36","v":"京都"},null,{"$f":"F36","v":0},null,null,null,{"$f":"J36","v":0},null,{"$f":"L36","v":0},null,null,null,null,{"$f":"Q36","v":0}]
[null,{"$f":"B37","v":147},null,null,null,null,null,null,null,null,null,null,null,null,null,null,null,null,null,null,null,{"$f":"V37","v":"00:00:00"},null,null,null,null,{"$f":"AA37","v":0},null,null,null,null,"現","帳"]
[null,null,null,{"$f":"D38","v":"京都"},null,{"$f":"F38","v":0},null,null,null,{"$f":"J38","v":0},null,{"$f":"L38","v":0},null,null,null,null,{"$f":"Q38","v":0}]
[null,{"$f":"B39","v":148},null,null,null,null,null,null,null,null,null,null,null,null,null,null,null,null,null,null,null,{"$f":"V39","v":"00:00:00"},null,null,null,null,{"$f":"AA39","v":0},null,null,null,null,"現","帳"]
[null,null,null,{"$f":"D40","v":"京都"},null,{"$f":"F40","v":0},null,null,null,{"$f":"J40","v":0},null,{"$f":"L40","v":0},null,null,null,null,{"$f":"Q40","v":0}]
[null,{"$f":"B41","v":149},null,null,null,null,null,null,null,null,null,null,null,null,null,null,null,null,null,null,null,{"$f":"V41","v":"00:00:00"},null,null,null,null,{"$f":"AA41","v":0},null,null,null,null,"現","帳"]
[null,null,null,{"$f":"D42","v":"京都"},null,{"$f":"F42","v":0},null,null,null,{"$f":"J42","v":0},null,{"$f":"L42","v":0},null,null,null,null,{"$f":"Q42","v":0}]
[null,{"$f":"B43","v":150},null,null,null,null,null,null,null,null,null,null,null,null,null,null,null,null,null,null,null,{"$f":"V43","v":"00:00:00"},null,null,null,null,{"$f":"AA43","v":0},null,null,null,null,"現","帳"]
[null,null,null,{"$f":"D44","v":"京都"},null,{"$f":"F44","v":0},null,null,null,{"$f":"J44","v":0},null,{"$f":"L44","v":0},null,null,null,null,{"$f":"Q44","v":0}]
[]
[null,null,null,null,null,null,null,null,null,null,null,null,null,null,null,null,null,"誓約事項"]
[null,null,null,null,null,null,null,null,null,null,null,null,null,null,null,null,null,null,null,"申請する自動車には、取得時の登録事由が新規登"]
[null,null,null,null,null,null,null,null,null,null,null,null,null,null,null,null,null,null,null,"録（新車・中古車とも）のものを含みません。"]
[]
[null,null,null,null,null,null,null,null,null,null,null,null,null,null,null,null,null,null,null,null,null,"担当者署名欄"]

{"sheet":"11枚目","index":11,"n_rows":155,"n_cols":49,"rows_kept":155,"cut":false,"hidden":false,"merged":[[6,1,9,16],[6,19,6,23],[6,24,6,37],[7,19,7,23],[7,24,7,37],[8,19,8,23],[1,0,1,37],[1,48,2,51],[2,20,2,31],[2,32,2,36],[4,18,4,19],[4,20,4,21],[4,23,4,24],[4,26,4,27],[8,24,8,37],[9,19,9,23],[9,24,9,37],[10,19,10,25],[10,27,10,35],[10,36,10,37],[5,17,10,17],[5,18,10,18],[5,19,5,23],[5,24,5,37],[12,33,13,36],[13,3,13,4],[13,5,13,8],[13,9,13,10],[13,11,13,15],[13,16,13,20],[13,29,13,30],[13,31,13,32],[12,1,13,2],[12,3,12,15],[12,16,12,20],[12,21,13,25],[12,26,13,28],[12,29,12,32],[14,21,15,25],[14,26,15,28],[14,29,15,30],[14,31,15,31],[14,32,15,32],[14,33,15,36],[14,1,15,2],[14,3,14,4],[14,5,14,8],[14,9,14,10],[14,11,14,15],[14,16,14,20],[15,3,15,4],[15,5,15,8],[15,9,15,10],[15,11,15,15],[15,16,15,20],[16,1,17,2],[16,3,16,4],[16,5,16,8],[16,9,16,10],[16,11,16,15],[16,16,16,20],[17,3,17,4],[17,5,17,8],[17,9,17,10],[18,21,19,25],[18,26,19,28],[18,29,19,30],[18,31,19,31],[18,32,19,32],[18,33,19,36],[17,11,17,15],[17,16,17,20],[18,1,19,2],[18,3,18,4],[18,5,18,8],[18,9,18,10],[18,11,18,15],[18,16,18,20],[19,3,19,4],[19,5,19,8],[16,21,17,25],[16,26,17,28],[16,29,17,30],[16,31,17,31],[16,32,17,32],[16,33,17,36],[19,9,19,10],[19,11,19,15],[19,16,19,20],[20,1,21,2],[20,3,20,4],[20,5,20,8],[20,9,20,10],[20,11,20,15],[20,16,20,20],[21,3,21,4],[22,21,23,25],[22,26,23,28],[22,29,23,30],[22,31,23,31],[22,32,23,32],[22,33,23,36],[21,5,21,8],[21,9,21,10],[21,11,21,15],[21,16,21,20],[22,5,22,8],[22,9,22,10],[22,11,22,15],[22,16,22,20],[20,21,21,25],[20,26,21,28],[20,29,21,30],[20,31,21,31],[20,32,21,32],[20,33,21,36],[23,3,23,4],[23,5,23,8],[23,9,23,10],[23,11,23,15],[23,16,23,20],[24,1,25,2],[24,3,24,4],[24,5,24,8],[24,9,24,10],[24,11,24,15],[22,1,23,2],[22,3,22,4],[24,33,25,36],[25,3,25,4],[25,5,25,8],[25,9,25,10],[25,11,25,15],[25,16,25,20],[24,16,24,20],[24,21,25,25],[24,26,25,28],[24,29,25,30],[24,31,25,31],[24,32,25,32],[26,21,27,25],[26,26,27,28],[26,29,27,30],[26,31,27,31],[26,32,27,32],[26,33,27,36],[26,1,27,2],[26,3,26,4],[26,5,26,8],[26,9,26,10],[26,11,26,15],[26,16,26,20],[27,3,27,4],[27,5,27,8],[27,9,27,10],[27,11,27,15],[27,16,27,20],[28,1,29,2],[28,3,28,4],[28,5,28,8],[28,9,28,10],[28,11,28,15],[28,16,28,20],[29,3,29,4],[29,5,29,8],[29,9,29,10],[30,21,31,25],[30,26,31,28],[30,29,31,30],[30,31,31,31],[30,32,31,32],[30,33,31,36],[29,11,29,15],[29,16,29,20],[30,1,31,2],[30,3,30,4],[30,5,30,8],[30,9,30,10],[30,11,30,15],[30,16,30,20],[31,3,31,4],[31,5,31,8],[28,21,29,25],[28,26,29,28],[28,29,29,30],[28,31,29,31],[28,32,29,32],[28,33,29,36],[31,9,31,10],[31,11,31,15],[31,16,31,20],[32,1,33,2],[32,3,32,4],[32,5,32,8],[32,9,32,10],[32,11,32,15],[32,16,32,20],[33,3,33,4],[34,21,35,25],[34,26,35,28],[34,29,35,30],[34,31,35,31],[34,32,35,32],[34,33,35,36],[33,5,33,8],[33,9,33,10],[33,11,33,15],[33,16,33,20],[34,5,34,8],[34,9,34,10],[34,11,34,15],[34,16,34,20],[32,21,33,25],[32,26,33,28],[32,29,33,30],[32,31,33,31],[32,32,33,32],[32,33,33,36],[35,3,35,4],[35,5,35,8],[35,9,35,10],[35,11,35,15],[35,16,35,20],[36,1,37,2],[36,3,36,4],[36,5,36,8],[36,9,36,10],[36,11,36,15],[34,1,35,2],[34,3,34,4],[38,5,38,8],[38,9,38,10],[38,11,38,15],[38,16,38,20],[39,3,39,4],[39,5,39,8],[39,9,39,10],[39,11,39,15],[36,33,37,36],[37,3,37,4],[37,5,37,8],[37,9,37,10],[37,11,37,15],[37,16,37,20],[36,16,36,20],[36,21,37,25],[36,26,37,28],[36,29,37,30],[36,31,37,31],[36,32,37,32],[40,21,41,25],[40,26,41,28],[40,29,41,30],[40,31,41,31],[40,32,41,32],[40,33,41,36],[39,16,39,20],[40,1,41,2],[40,3,40,4],[40,5,40,8],[40,9,40,10],[40,11,40,15],[40,16,40,20],[41,3,41,4],[41,5,41,8],[41,9,41,10],[38,21,39,25],[38,26,39,28],[38,29,39,30],[38,31,39,31],[38,32,39,32],[38,33,39,36],[38,1,39,2],[38,3,38,4],[41,11,41,15],[41,16,41,20],[42,1,43,2],[42,3,42,4],[42,5,42,8],[42,9,42,10],[42,11,42,15],[42,16,42,20],[43,3,43,4],[43,5,43,8],[43,9,43,10],[43,11,43,15],[43,16,43,20],[45,17,49,18],[46,19,46,36],[47,19,47,36],[42,21,43,25],[42,26,43,28],[42,29,43,30],[42,31,43,31],[42,32,43,32],[42,33,43,36],[56,1,59,16],[56,19,56,23],[56,24,56,37],[57,19,57,23],[57,24,57,37],[58,19,58,23],[51,0,51,37],[52,20,52,31],[52,32,52,36],[54,18,54,19],[54,20,54,21],[54,23,54,24],[54,26,54,27],[58,24,58,37],[59,19,59,23],[59,24,59,37],[60,19,60,25],[60,27,60,35],[60,36,60,37],[55,17,60,17],[55,18,60,18],[55,19,55,23],[55,24,55,37],[62,1,62,20],[62,21,62,36],[63,1,64,2],[63,3,63,15],[63,16,63,20],[63,21,64,36],[64,3,64,4],[64,5,64,8],[64,9,64,10],[64,11,64,15],[65,21,66,36],[66,3,66,4],[66,5,66,8],[66,9,66,10],[66,11,66,15],[66,16,66,20],[64,16,64,20],[65,1,66,2],[65,3,65,4],[65,5,65,8],[65,9,65,10],[65,11,65,15],[65,16,65,20],[67,21,68,36],[68,3,68,4],[68,5,68,8],[68,9,68,10],[68,11,68,15],[68,16,68,20],[67,1,68,2],[67,3,67,4],[67,5,67,8],[67,9,67,10],[67,11,67,15],[67,16,67,20],[69,21,70,36],[70,3,70,4],[70,5,70,8],[70,9,70,10],[70,11,70,15],[70,16,70,20],[69,1,70,2],[69,3,69,4],[69,5,69,8],[69,9,69,10],[69,11,69,15],[69,16,69,20],[71,21,72,36],[72,3,72,4],[72,5,72,8],[72,9,72,10],[72,11,72,15],[72,16,72,20],[71,1,72,2],[71,3,71,4],[71,5,71,8],[71,9,71,10],[71,11,71,15],[71,16,71,20],[73,21,74,36],[74,3,74,4],[74,5,74,8],[74,9,74,10],[74,11,74,15],[74,16,74,20],[73,1,74,2],[73,3,73,4],[73,5,73,8],[73,9,73,10],[73,11,73,15],[73,16,73,20],[75,21,76,36],[76,3,76,4],[76,5,76,8],[76,9,76,10],[76,11,76,15],[76,16,76,20],[75,1,76,2],[75,3,75,4],[75,5,75,8],[75,9,75,10],[75,11,75,15],[75,16,75,20],[77,21,78,36],[78,3,78,4],[78,5,78,8],[78,9,78,10],[78,11,78,15],[78,16,78,20],[77,1,78,2],[77,3,77,4],[77,5,77,8],[77,9,77,10],[77,11,77,15],[77,16,77,20],[79,21,80,36],[80,3,80,4],[80,5,80,8],[80,9,80,10],[80,11,80,15],[80,16,80,20],[79,1,80,2],[79,3,79,4],[79,5,79,8],[79,9,79,10],[79,11,79,15],[79,16,79,20],[81,21,82,36],[82,3,82,4],[82,5,82,8],[82,9,82,10],[82,11,82,15],[82,16,82,20],[81,1,82,2],[81,3,81,4],[81,5,81,8],[81,9,81,10],[81,11,81,15],[81,16,81,20],[83,21,84,36],[84,3,84,4],[84,5,84,8],[84,9,84,10],[84,11,84,15],[84,16,84,20],[83,1,84,2],[83,3,83,4],[83,5,83,8],[83,9,83,10],[83,11,83,15],[83,16,83,20],[85,21,86,36],[86,3,86,4],[86,5,86,8],[86,9,86,10],[86,11,86,15],[86,16,86,20],[85,1,86,2],[85,3,85,4],[85,5,85,8],[85,9,85,10],[85,11,85,15],[85,16,85,20],[87,21,88,36],[88,3,88,4],[88,5,88,8],[88,9,88,10],[88,11,88,15],[88,16,88,20],[87,1,88,2],[87,3,87,4],[87,5,87,8],[87,9,87,10],[87,11,87,15],[87,16,87,20],[89,21,90,36],[90,3,90,4],[90,5,90,8],[90,9,90,10],[90,11,90,15],[90,16,90,20],[89,1,90,2],[89,3,89,4],[89,5,89,8],[89,9,89,10],[89,11,89,15],[89,16,89,20],[91,21,92,36],[92,3,92,4],[92,5,92,8],[92,9,92,10],[92,11,92,15],[92,16,92,20],[91,1,92,2],[91,3,91,4],[91,5,91,8],[91,9,91,10],[91,11,91,15],[91,16,91,20],[96,19,96,36],[100,18,100,21],[102,18,102,21],[104,18,104,21],[106,0,106,37],[107,20,107,31],[107,32,107,36],[93,21,94,36],[94,3,94,4],[94,5,94,8],[94,9,94,10],[94,11,94,15],[94,16,94,20],[93,1,94,2],[93,3,93,4],[93,5,93,8],[93,9,93,10],[93,11,93,15],[93,16,93,20],[109,18,109,19],[109,20,109,21],[109,23,109,24],[109,26,109,27],[110,17,115,17],[110,18,115,18],[110,19,110,23],[110,24,110,37],[115,19,115,25],[115,27,115,35],[111,1,114,16],[111,19,111,23],[111,24,111,37],[112,19,112,23],[112,24,112,37],[113,19,113,23],[113,24,113,37],[114,19,114,23],[114,24,114,37],[115,36,115,37],[117,1,118,2],[117,3,117,15],[117,16,117,20],[117,21,118,25],[117,26,118,28],[117,29,117,32],[117,33,118,36],[118,3,118,4],[118,5,118,8],[118,9,118,10],[118,11,118,15],[118,16,118,20],[118,29,118,30],[118,31,118,32],[119,1,120,2],[119,3,119,4],[119,5,119,8],[119,9,119,10],[119,11,119,15],[119,33,120,36],[120,3,120,4],[120,5,120,8],[120,9,120,10],[120,11,120,15],[120,16,120,20],[119,16,119,20],[119,21,120,25],[119,26,120,28],[119,29,120,30],[119,31,120,31],[119,32,120,32],[121,21,122,25],[121,26,122,28],[121,29,122,30],[121,31,122,31],[121,32,122,32],[121,33,122,36],[121,1,122,2],[121,3,121,4],[121,5,121,8],[121,9,121,10],[121,11,121,15],[121,16,121,20],[122,3,122,4],[122,5,122,8],[122,9,122,10],[122,11,122,15],[122,16,122,20],[123,1,124,2],[123,3,123,4],[123,5,123,8],[123,9,123,10],[123,11,123,15],[123,16,123,20],[124,3,124,4],[124,5,124,8],[124,9,124,10],[125,21,126,25],[125,26,126,28],[125,29,126,30],[125,31,126,31],[125,32,126,32],[125,33,126,36],[124,11,124,15],[124,16,124,20],[125,1,126,2],[125,3,125,4],[125,5,125,8],[125,9,125,10],[125,11,125,15],[125,16,125,20],[126,3,126,4],[126,5,126,8],[123,21,124,25],[123,26,124,28],[123,29,124,30],[123,31,124,31],[123,32,124,32],[123,33,124,36],[126,9,126,10],[126,11,126,15],[126,16,126,20],[127,1,128,2],[127,3,127,4],[127,5,127,8],[127,9,127,10],[127,11,127,15],[127,16,127,20],[128,3,128,4],[129,21,130,25],[129,26,130,28],[129,29,130,30],[129,31,130,31],[129,32,130,32],[129,33,130,36],[128,5,128,8],[128,9,128,10],[128,11,128,15],[128,16,128,20],[129,5,129,8],[129,9,129,10],[129,11,129,15],[129,16,129,20],[127,21,128,25],[127,26,128,28],[127,29,128,30],[127,31,128,31],[127,32,128,32],[127,33,128,36],[130,3,130,4],[130,5,130,8],[130,9,130,10],[130,11,130,15],[130,16,130,20],[131,1,132,2],[131,3,131,4],[131,5,131,8],[131,9,131,10],[131,11,131,15],[129,1,130,2],[129,3,129,4],[131,33,132,36],[132,3,132,4],[132,5,132,8],[132,9,132,10],[132,11,132,15],[132,16,132,20],[131,16,131,20],[131,21,132,25],[131,26,132,28],[131,29,132,30],[131,31,132,31],[131,32,132,32],[133,21,134,25],[133,26,134,28],[133,29,134,30],[133,31,134,31],[133,32,134,32],[133,33,134,36],[133,1,134,2],[133,3,133,4],[133,5,133,8],[133,9,133,10],[133,11,133,15],[133,16,133,20],[134,3,134,4],[134,5,134,8],[134,9,134,10],[134,11,134,15],[134,16,134,20],[135,1,136,2],[135,3,135,4],[135,5,135,8],[135,9,135,10],[135,11,135,15],[135,16,135,20],[136,3,136,4],[136,5,136,8],[136,9,136,10],[137,21,138,25],[137,26,138,28],[137,29,138,30],[137,31,138,31],[137,32,138,32],[137,33,138,36],[136,11,136,15],[136,16,136,20],[137,1,138,2],[137,3,137,4],[137,5,137,8],[137,9,137,10],[137,11,137,15],[137,16,137,20],[138,3,138,4],[138,5,138,8],[135,21,136,25],[135,26,136,28],[135,29,136,30],[135,31,136,31],[135,32,136,32],[135,33,136,36],[138,9,138,10],[138,11,138,15],[138,16,138,20],[139,1,140,2],[139,3,139,4],[139,5,139,8],[139,9,139,10],[139,11,139,15],[139,16,139,20],[140,3,140,4],[141,21,142,25],[141,26,142,28],[141,29,142,30],[141,31,142,31],[141,32,142,32],[141,33,142,36],[140,5,140,8],[140,9,140,10],[140,11,140,15],[140,16,140,20],[141,5,141,8],[141,9,141,10],[141,11,141,15],[141,16,141,20],[139,21,140,25],[139,26,140,28],[139,29,140,30],[139,31,140,31],[139,32,140,32],[139,33,140,36],[142,3,142,4],[142,5,142,8],[142,9,142,10],[142,11,142,15],[142,16,142,20],[143,1,144,2],[143,3,143,4],[143,5,143,8],[143,9,143,10],[143,11,143,15],[141,1,142,2],[141,3,141,4],[143,33,144,36],[144,3,144,4],[144,5,144,8],[144,9,144,10],[144,11,144,15],[144,16,144,20],[143,16,143,20],[143,21,144,25],[143,26,144,28],[143,29,144,30],[143,31,144,31],[143,32,144,32],[145,21,146,25],[145,26,146,28],[145,29,146,30],[145,31,146,31],[145,32,146,32],[145,33,146,36],[145,1,146,2],[145,3,145,4],[145,5,145,8],[145,9,145,10],[145,11,145,15],[145,16,145,20],[146,3,146,4],[146,5,146,8],[146,9,146,10],[146,11,146,15],[146,16,146,20],[147,1,148,2],[147,3,147,4],[147,5,147,8],[147,9,147,10],[147,11,147,15],[147,16,147,20],[148,3,148,4],[148,5,148,8],[148,9,148,10],[148,11,148,15],[148,16,148,20],[150,17,154,18],[151,19,151,36],[152,19,152,36],[147,21,148,25],[147,26,148,28],[147,29,148,30],[147,31,148,31],[147,32,148,32],[147,33,148,36]]}
["様式1-(1)",null,null,null,null,null,null,null,null,null,null,null,null,null,null,null,null,null,null,null,null,null,null,null,null,null,null,null,null,null,null,"(査定協会提出用)"]
["商品中古自動車証明申請書",null,null,null,null,null,null,null,null,null,null,null,null,null,null,null,null,null,null,null,null,null,null,null,null,null,null,null,null,null,null,null,null,null,null,null,null,null,null,null,null,null,null,null,null,null,null,null,"記入箇所"]
[null,null,null,null,null,null,null,null,null,null,null,null,null,null,null,null,null,null,null,null,"（企業コード番号　　　　　　　　　　　　）",null,null,null,null,null,null,null,null,null,null,null,"（11枚目）"]
[]
[null,"一般財団法人　日本自動車査定協会",null,null,null,null,null,null,null,null,null,null,null,null,null,null,null,null,"令和",null,{"$f":"'1枚目'!U5","v":0},null,"年",{"$f":"'1枚目'!X5","v":0},null,"月",{"$f":"'1枚目'!AA5","v":0},null,"日"]
[null,"　　　　　　　　　　　　　　　京都府支所長　　様",null,null,null,null,null,null,null,null,null,null,null,null,null,null,null,"申請者","（登録名義人）","住所(所在地)",null,null,null,null,{"$f":"'1枚目'!Y6","v":0}]
[null,"　商品中古自動車確認証明業務実施要領に基づき下記の自動車が商品中古自動車であることの証明を申請します。\n　なお、下記の自動車が商品自動車であること及び記載事項に相違ないこと並びに現地調査が行われる場合には協力することを確約いたします。",null,null,null,null,null,null,null,null,null,null,null,null,null,null,null,null,null,"氏名(名称)",null,null,null,null,{"$f":"'1枚目'!Y7","v":0}]
[null,null,null,null,null,null,null,null,null,null,null,null,null,null,null,null,null,null,null,"代表者名",null,null,null,null,{"$f":"'1枚目'!Y8","v":0}]
[null,null,null,null,null,null,null,null,null,null,null,null,null,null,null,null,null,null,null,"電話番号",null,null,null,null,{"$f":"'1枚目'!Y9","v":0}]
[null,null,null,null,null,null,null,null,null,null,null,null,null,null,null,null,null,null,null,"担当者名",null,null,null,null,{"$f":"'1枚目'!Y10","v":0}]
[null,null,null,null,null,null,null,null,null,null,null,null,null,null,null,null,null,null,null,"古物商許可番号",null,null,null,null,null,null,"第",{"$f":"'1枚目'!AB11","v":0},null,null,null,null,null,null,null,null,"号"]
[]
[null,"NO.",null,"登録番号",null,null,null,null,null,null,null,null,null,null,null,null,"車台番号",null,null,null,null,"登録\n年月日",null,null,null,null,"展示場",null,null,"調査",null,null,null,"備考"]
[null,null,null,"区分",null,"車種",null,null,null,"かな",null,"番号",null,null,null,null,"(下3ｹﾀ)",null,null,null,null,null,null,null,null,null,null,null,null,"月日",null,"結果"]
[null,151,null,null,null,null,null,null,null,null,null,null,null,null,null,null,null,null,null,null,null,null,null,null,null,null,null,null,null,null,null,"現","帳"]
[null,null,null,"京都"]
[null,152,null,null,null,null,null,null,null,null,null,null,null,null,null,null,null,null,null,null,null,null,null,null,null,null,null,null,null,null,null,"現","帳"]
[null,null,null,"京都"]
[null,153,null,null,null,null,null,null,null,null,null,null,null,null,null,null,null,null,null,null,null,null,null,null,null,null,null,null,null,null,null,"現","帳"]
[null,null,null,"京都"]
[null,154,null,null,null,null,null,null,null,null,null,null,null,null,null,null,null,null,null,null,null,null,null,null,null,null,null,null,null,null,null,"現","帳"]
[null,null,null,"京都"]
[null,155,null,null,null,null,null,null,null,null,null,null,null,null,null,null,null,null,null,null,null,null,null,null,null,null,null,null,null,null,null,"現","帳"]
[null,null,null,"京都"]
[null,156,null,null,null,null,null,null,null,null,null,null,null,null,null,null,null,null,null,null,null,null,null,null,null,null,null,null,null,null,null,"現","帳"]
[null,null,null,"京都"]
[null,157,null,null,null,null,null,null,null,null,null,null,null,null,null,null,null,null,null,null,null,null,null,null,null,null,null,null,null,null,null,"現","帳"]
[null,null,null,"京都"]
[null,158,null,null,null,null,null,null,null,null,null,null,null,null,null,null,null,null,null,null,null,null,null,null,null,null,null,null,null,null,null,"現","帳"]
[null,null,null,"京都"]
[null,159,null,null,null,null,null,null,null,null,null,null,null,null,null,null,null,null,null,null,null,null,null,null,null,null,null,null,null,null,null,"現","帳"]
[null,null,null,"京都"]
[null,160,null,null,null,null,null,null,null,null,null,null,null,null,null,null,null,null,null,null,null,null,null,null,null,null,null,null,null,null,null,"現","帳"]
[null,null,null,"京都"]
[null,161,null,null,null,null,null,null,null,null,null,null,null,null,null,null,null,null,null,null,null,null,null,null,null,null,null,null,null,null,null,"現","帳"]
[null,null,null,"京都"]
[null,162,null,null,null,null,null,null,null,null,null,null,null,null,null,null,null,null,null,null,null,null,null,null,null,null,null,null,null,null,null,"現","帳"]
[null,null,null,"京都"]
[null,163,null,null,null,null,null,null,null,null,null,null,null,null,null,null,null,null,null,null,null,null,null,null,null,null,null,null,null,null,null,"現","帳"]
[null,null,null,"京都"]
[null,164,null,null,null,null,null,null,null,null,null,null,null,null,null,null,null,null,null,null,null,null,null,null,null,null,null,null,null,null,null,"現","帳"]
[null,null,null,"京都"]
[null,165,null,null,null,null,null,null,null,null,null,null,null,null,null,null,null,null,null,null,null,null,null,null,null,null,null,null,null,null,null,"現","帳"]
[null,null,null,"京都"]
[]
[null,null,null,null,null,null,null,null,null,null,null,null,null,null,null,null,null,"誓約事項"]
[null,null,null,null,null,null,null,null,null,null,null,null,null,null,null,null,null,null,null,"申請する自動車には、取得時の登録事由が新規登"]
[null,null,null,null,null,null,null,null,null,null,null,null,null,null,null,null,null,null,null,"録（新車・中古車とも）のものを含みません。"]
[]
[null,null,null,null,null,null,null,null,null,null,null,null,null,null,null,null,null,null,null,null,null,"担当者署名欄"]
["様式1-(2)",null,null,null,null,null,null,null,null,null,null,null,null,null,null,null,null,null,null,null,null,null,null,null,null,null,null,"(自動車税管理事務所提出用)"]
["商品中古自動車の自動車税の種別割減免申請書"]
[null,null,null,null,null,null,null,null,null,null,null,null,null,null,null,null,null,null,null,null,"（企業コード番号　　　　　　　　　　　　）",null,null,null,null,null,null,null,null,null,null,null,{"$f":"AG3","v":"（11枚目）"}]
[]
[null,"京都府自動車税管理事務所長　様",null,null,null,null,null,null,null,null,null,null,null,null,null,null,null,null,"令和",null,{"$f":"U5","v":0},null,"年",{"$f":"X5","v":0},null,"月",{"$f":"AA5","v":0},null,"日"]
[null,null,null,null,null,null,null,null,null,null,null,null,null,null,null,null,null,"申請者","（登録名義人）","住所(所在地)",null,null,null,null,{"$f":"Y6","v":0}]
[null,"　   京都府府税条例第70条第2項の規定に基づき、\n  下記のとおり申請します。",null,null,null,null,null,null,null,null,null,null,null,null,null,null,null,null,null,"氏名(名称)",null,null,null,null,{"$f":"Y7","v":0}]
[null,null,null,null,null,null,null,null,null,null,null,null,null,null,null,null,null,null,null,"代表者名",null,null,null,null,{"$f":"Y8","v":0}]
[null,null,null,null,null,null,null,null,null,null,null,null,null,null,null,null,null,null,null,"電話番号",null,null,null,null,{"$f":"Y9","v":0}]
[null,null,null,null,null,null,null,null,null,null,null,null,null,null,null,null,null,null,null,"担当者名",null,null,null,null,{"$f":"Y10","v":0}]
[null,null,null,null,null,null,null,null,null,null,null,null,null,null,null,null,null,null,null,"古物商許可番号",null,null,null,null,null,null,"第",{"$f":"AB11","v":0},null,null,null,null,null,null,null,null,"号"]
[]
[null,"減　免　対　象　自　動　車　の　総　台　数",null,null,null,null,null,null,null,null,null,null,null,null,null,null,null,null,null,null,null,"台"]
[null,"NO.",null,"登録番号",null,null,null,null,null,null,null,null,null,null,null,null,"車台番号",null,null,null,null,"備　　　　　考"]
[null,null,null,"区分",null,"車種",null,null,null,"かな",null,"番号",null,null,null,null,"(下3ｹﾀ)"]
[null,{"$f":"B15","v":151}]
[null,null,null,{"$f":"D16","v":"京都"},null,null,null,null,null,{"$f":"J16","v":0}]
[null,{"$f":"B17","v":152}]
[null,null,null,{"$f":"D18","v":"京都"},null,{"$f":"F18","v":0},null,null,null,{"$f":"J18","v":0},null,{"$f":"L18","v":0},null,null,null,null,{"$f":"Q18","v":0}]
[null,{"$f":"B19","v":153}]
[null,null,null,{"$f":"D20","v":"京都"},null,{"$f":"F20","v":0},null,null,null,{"$f":"J20","v":0},null,{"$f":"L20","v":0},null,null,null,null,{"$f":"Q20","v":0}]
[null,{"$f":"B21","v":154}]
[null,null,null,{"$f":"D22","v":"京都"},null,{"$f":"F22","v":0},null,null,null,{"$f":"J22","v":0},null,{"$f":"L22","v":0},null,null,null,null,{"$f":"Q22","v":0}]
[null,{"$f":"B23","v":155}]
[null,null,null,{"$f":"D24","v":"京都"},null,{"$f":"F24","v":0},null,null,null,{"$f":"J24","v":0},null,{"$f":"L24","v":0},null,null,null,null,{"$f":"Q24","v":0}]
[null,{"$f":"B25","v":156}]
[null,null,null,{"$f":"D26","v":"京都"},null,{"$f":"F26","v":0},null,null,null,{"$f":"J26","v":0},null,{"$f":"L26","v":0},null,null,null,null,{"$f":"Q26","v":0}]
[null,{"$f":"B27","v":157}]
[null,null,null,{"$f":"D28","v":"京都"},null,{"$f":"F28","v":0},null,null,null,{"$f":"J28","v":0},null,{"$f":"L28","v":0},null,null,null,null,{"$f":"Q28","v":0}]
[null,{"$f":"B29","v":158}]
[null,null,null,{"$f":"D30","v":"京都"},null,{"$f":"F30","v":0},null,null,null,{"$f":"J30","v":0},null,{"$f":"L30","v":0},null,null,null,null,{"$f":"Q30","v":0}]
[null,{"$f":"B31","v":159}]
[null,null,null,{"$f":"D32","v":"京都"},null,{"$f":"F32","v":0},null,null,null,{"$f":"J32","v":0},null,{"$f":"L32","v":0},null,null,null,null,{"$f":"Q32","v":0}]
[null,{"$f":"B33","v":160}]
[null,null,null,{"$f":"D34","v":"京都"},null,{"$f":"F34","v":0},null,null,null,{"$f":"J34","v":0},null,{"$f":"L34","v":0},null,null,null,null,{"$f":"Q34","v":0}]
[null,{"$f":"B35","v":161}]
[null,null,null,{"$f":"D36","v":"京都"},null,{"$f":"F36","v":0},null,null,null,{"$f":"J36","v":0},null,{"$f":"L36","v":0},null,null,null,null,{"$f":"Q36","v":0}]
[null,{"$f":"B37","v":162}]
[null,null,null,{"$f":"D38","v":"京都"},null,{"$f":"F38","v":0},null,null,null,{"$f":"J38","v":0},null,{"$f":"L38","v":0},null,null,null,null,{"$f":"Q38","v":0}]
[null,{"$f":"B39","v":163}]
[null,null,null,{"$f":"D40","v":"京都"},null,{"$f":"F40","v":0},null,null,null,{"$f":"J40","v":0},null,{"$f":"L40","v":0},null,null,null,null,{"$f":"Q40","v":0}]
[null,{"$f":"B41","v":164}]
[null,null,null,{"$f":"D42","v":"京都"},null,{"$f":"F42","v":0},null,null,null,{"$f":"J42","v":0},null,{"$f":"L42","v":0},null,null,null,null,{"$f":"Q42","v":0}]
[null,{"$f":"B43","v":165}]
[null,null,null,{"$f":"D44","v":"京都"},null,{"$f":"F44","v":0},null,null,null,{"$f":"J44","v":0},null,{"$f":"L44","v":0},null,null,null,null,{"$f":"Q44","v":0}]
[]
[null,null,null,null,null,null,null,null,null,null,null,null,null,null,null,null,null,null,null,"　上記は、商品中古自動車確認証明業務実施要領\nに定める商品中古自動車であることを証明する。"]
[]
[null,null,null,null,null,null,null,null,null,null,null,null,null,null,null,null,null,null,null,null,"令和　　　年　　　月　　　日"]
[]
[null,null,null,null,null,null,null,null,null,null,null,null,null,null,null,null,null,null,"住　　所"]
[]
[null,null,null,null,null,null,null,null,null,null,null,null,null,null,null,null,null,null,"支 所 名"]
[]
[null,null,null,null,null,null,null,null,null,null,null,null,null,null,null,null,null,null,"代表者名",null,null,null,null,null,null,null,null,null,null,null,null,null,null,null,null,null,"㊞"]
["様式1-(3)",null,null,null,null,null,null,null,null,null,null,null,null,null,null,null,null,null,null,null,null,null,null,null,null,null,null,null,null,null,null,null,null,"(申請者控)"]
["商品中古自動車証明申請書"]
[null,null,null,null,null,null,null,null,null,null,null,null,null,null,null,null,null,null,null,null,"（企業コード番号　　　　　　　　　　　　）",null,null,null,null,null,null,null,null,null,null,null,{"$f":"AG3","v":"（11枚目）"}]
[]
[null,"一般財団法人　日本自動車査定協会",null,null,null,null,null,null,null,null,null,null,null,null,null,null,null,null,"令和",null,{"$f":"U5","v":0},null,"年",{"$f":"X5","v":0},null,"月",{"$f":"AA5","v":0},null,"日"]
[null,"　　　　　　　　　　　　　　　京都府支所長　　様",null,null,null,null,null,null,null,null,null,null,null,null,null,null,null,"申請者","（登録名義人）","住所(所在地)",null,null,null,null,{"$f":"Y6","v":0}]
[null,"　商品中古自動車確認証明業務実施要領に基づき下記の自動車が商品中古自動車であることの証明を申請します。\n　なお、下記の自動車が商品自動車であること及び記載事項に相違ないこと並びに現地調査が行われる場合には協力することを確約いたします。",null,null,null,null,null,null,null,null,null,null,null,null,null,null,null,null,null,"氏名(名称)",null,null,null,null,{"$f":"Y7","v":0}]
[null,null,null,null,null,null,null,null,null,null,null,null,null,null,null,null,null,null,null,"代表者名",null,null,null,null,{"$f":"Y8","v":0}]
[null,null,null,null,null,null,null,null,null,null,null,null,null,null,null,null,null,null,null,"電話番号",null,null,null,null,{"$f":"Y9","v":0}]
[null,null,null,null,null,null,null,null,null,null,null,null,null,null,null,null,null,null,null,"担当者名",null,null,null,null,{"$f":"Y10","v":0}]
[null,null,null,null,null,null,null,null,null,null,null,null,null,null,null,null,null,null,null,"古物商許可番号",null,null,null,null,null,null,"第",{"$f":"AB11","v":0},null,null,null,null,null,null,null,null,"号"]
[]
[null,"NO.",null,"登録番号",null,null,null,null,null,null,null,null,null,null,null,null,"車台番号",null,null,null,null,"登録\n年月日",null,null,null,null,"展示場",null,null,"調査",null,null,null,"備考"]
[null,null,null,"区分",null,"車種",null,null,null,"かな",null,"番号",null,null,null,null,"(下3ｹﾀ)",null,null,null,null,null,null,null,null,null,null,null,null,"月日",null,"結果"]
[null,{"$f":"B15","v":151},null,null,null,null,null,null,null,null,null,null,null,null,null,null,null,null,null,null,null,{"$f":"V15","v":"00:00:00"},null,null,null,null,{"$f":"AA15","v":0},null,null,null,null,"現","帳"]
[null,null,null,{"$f":"D16","v":"京都"},null,{"$f":"F16","v":0},null,null,null,{"$f":"J16","v":0},null,{"$f":"L16","v":0},null,null,null,null,{"$f":"Q16","v":0}]
[null,{"$f":"B17","v":152},null,null,null,null,null,null,null,null,null,null,null,null,null,null,null,null,null,null,null,{"$f":"V17","v":"00:00:00"},null,null,null,null,{"$f":"AA17","v":0},null,null,null,null,"現","帳"]
[null,null,null,{"$f":"D18","v":"京都"},null,{"$f":"F18","v":0},null,null,null,{"$f":"J18","v":0},null,{"$f":"L18","v":0},null,null,null,null,{"$f":"Q18","v":0}]
[null,{"$f":"B19","v":153},null,null,null,null,null,null,null,null,null,null,null,null,null,null,null,null,null,null,null,{"$f":"V19","v":"00:00:00"},null,null,null,null,{"$f":"AA19","v":0},null,null,null,null,"現","帳"]
[null,null,null,{"$f":"D20","v":"京都"},null,{"$f":"F20","v":0},null,null,null,{"$f":"J20","v":0},null,{"$f":"L20","v":0},null,null,null,null,{"$f":"Q20","v":0}]
[null,{"$f":"B21","v":154},null,null,null,null,null,null,null,null,null,null,null,null,null,null,null,null,null,null,null,{"$f":"V21","v":"00:00:00"},null,null,null,null,{"$f":"AA21","v":0},null,null,null,null,"現","帳"]
[null,null,null,{"$f":"D22","v":"京都"},null,{"$f":"F22","v":0},null,null,null,{"$f":"J22","v":0},null,{"$f":"L22","v":0},null,null,null,null,{"$f":"Q22","v":0}]
[null,{"$f":"B23","v":155},null,null,null,null,null,null,null,null,null,null,null,null,null,null,null,null,null,null,null,{"$f":"V23","v":"00:00:00"},null,null,null,null,{"$f":"AA23","v":0},null,null,null,null,"現","帳"]
[null,null,null,{"$f":"D24","v":"京都"},null,{"$f":"F24","v":0},null,null,null,{"$f":"J24","v":0},null,{"$f":"L24","v":0},null,null,null,null,{"$f":"Q24","v":0}]
[null,{"$f":"B25","v":156},null,null,null,null,null,null,null,null,null,null,null,null,null,null,null,null,null,null,null,{"$f":"V25","v":"00:00:00"},null,null,null,null,{"$f":"AA25","v":0},null,null,null,null,"現","帳"]
[null,null,null,{"$f":"D26","v":"京都"},null,{"$f":"F26","v":0},null,null,null,{"$f":"J26","v":0},null,{"$f":"L26","v":0},null,null,null,null,{"$f":"Q26","v":0}]
[null,{"$f":"B27","v":157},null,null,null,null,null,null,null,null,null,null,null,null,null,null,null,null,null,null,null,{"$f":"V27","v":"00:00:00"},null,null,null,null,{"$f":"AA27","v":0},null,null,null,null,"現","帳"]
[null,null,null,{"$f":"D28","v":"京都"},null,{"$f":"F28","v":0},null,null,null,{"$f":"J28","v":0},null,{"$f":"L28","v":0},null,null,null,null,{"$f":"Q28","v":0}]
[null,{"$f":"B29","v":158},null,null,null,null,null,null,null,null,null,null,null,null,null,null,null,null,null,null,null,{"$f":"V29","v":"00:00:00"},null,null,null,null,{"$f":"AA29","v":0},null,null,null,null,"現","帳"]
[null,null,null,{"$f":"D30","v":"京都"},null,{"$f":"F30","v":0},null,null,null,{"$f":"J30","v":0},null,{"$f":"L30","v":0},null,null,null,null,{"$f":"Q30","v":0}]
[null,{"$f":"B31","v":159},null,null,null,null,null,null,null,null,null,null,null,null,null,null,null,null,null,null,null,{"$f":"V31","v":"00:00:00"},null,null,null,null,{"$f":"AA31","v":0},null,null,null,null,"現","帳"]
[null,null,null,{"$f":"D32","v":"京都"},null,{"$f":"F32","v":0},null,null,null,{"$f":"J32","v":0},null,{"$f":"L32","v":0},null,null,null,null,{"$f":"Q32","v":0}]
[null,{"$f":"B33","v":160},null,null,null,null,null,null,null,null,null,null,null,null,null,null,null,null,null,null,null,{"$f":"V33","v":"00:00:00"},null,null,null,null,{"$f":"AA33","v":0},null,null,null,null,"現","帳"]
[null,null,null,{"$f":"D34","v":"京都"},null,{"$f":"F34","v":0},null,null,null,{"$f":"J34","v":0},null,{"$f":"L34","v":0},null,null,null,null,{"$f":"Q34","v":0}]
[null,{"$f":"B35","v":161},null,null,null,null,null,null,null,null,null,null,null,null,null,null,null,null,null,null,null,{"$f":"V35","v":"00:00:00"},null,null,null,null,{"$f":"AA35","v":0},null,null,null,null,"現","帳"]
[null,null,null,{"$f":"D36","v":"京都"},null,{"$f":"F36","v":0},null,null,null,{"$f":"J36","v":0},null,{"$f":"L36","v":0},null,null,null,null,{"$f":"Q36","v":0}]
[null,{"$f":"B37","v":162},null,null,null,null,null,null,null,null,null,null,null,null,null,null,null,null,null,null,null,{"$f":"V37","v":"00:00:00"},null,null,null,null,{"$f":"AA37","v":0},null,null,null,null,"現","帳"]
[null,null,null,{"$f":"D38","v":"京都"},null,{"$f":"F38","v":0},null,null,null,{"$f":"J38","v":0},null,{"$f":"L38","v":0},null,null,null,null,{"$f":"Q38","v":0}]
[null,{"$f":"B39","v":163},null,null,null,null,null,null,null,null,null,null,null,null,null,null,null,null,null,null,null,{"$f":"V39","v":"00:00:00"},null,null,null,null,{"$f":"AA39","v":0},null,null,null,null,"現","帳"]
[null,null,null,{"$f":"D40","v":"京都"},null,{"$f":"F40","v":0},null,null,null,{"$f":"J40","v":0},null,{"$f":"L40","v":0},null,null,null,null,{"$f":"Q40","v":0}]
[null,{"$f":"B41","v":164},null,null,null,null,null,null,null,null,null,null,null,null,null,null,null,null,null,null,null,{"$f":"V41","v":"00:00:00"},null,null,null,null,{"$f":"AA41","v":0},null,null,null,null,"現","帳"]
[null,null,null,{"$f":"D42","v":"京都"},null,{"$f":"F42","v":0},null,null,null,{"$f":"J42","v":0},null,{"$f":"L42","v":0},null,null,null,null,{"$f":"Q42","v":0}]
[null,{"$f":"B43","v":165},null,null,null,null,null,null,null,null,null,null,null,null,null,null,null,null,null,null,null,{"$f":"V43","v":"00:00:00"},null,null,null,null,{"$f":"AA43","v":0},null,null,null,null,"現","帳"]
[null,null,null,{"$f":"D44","v":"京都"},null,{"$f":"F44","v":0},null,null,null,{"$f":"J44","v":0},null,{"$f":"L44","v":0},null,null,null,null,{"$f":"Q44","v":0}]
[]
[null,null,null,null,null,null,null,null,null,null,null,null,null,null,null,null,null,"誓約事項"]
[null,null,null,null,null,null,null,null,null,null,null,null,null,null,null,null,null,null,null,"申請する自動車には、取得時の登録事由が新規登"]
[null,null,null,null,null,null,null,null,null,null,null,null,null,null,null,null,null,null,null,"録（新車・中古車とも）のものを含みません。"]
[]
[null,null,null,null,null,null,null,null,null,null,null,null,null,null,null,null,null,null,null,null,null,"担当者署名欄"]

{"sheet":"12枚目","index":12,"n_rows":155,"n_cols":49,"rows_kept":155,"cut":false,"hidden":false,"merged":[[6,1,9,16],[6,19,6,23],[6,24,6,37],[7,19,7,23],[7,24,7,37],[8,19,8,23],[1,0,1,37],[1,48,2,51],[2,20,2,31],[2,32,2,36],[4,18,4,19],[4,20,4,21],[4,23,4,24],[4,26,4,27],[8,24,8,37],[9,19,9,23],[9,24,9,37],[10,19,10,25],[10,27,10,35],[10,36,10,37],[5,17,10,17],[5,18,10,18],[5,19,5,23],[5,24,5,37],[12,33,13,36],[13,3,13,4],[13,5,13,8],[13,9,13,10],[13,11,13,15],[13,16,13,20],[13,29,13,30],[13,31,13,32],[12,1,13,2],[12,3,12,15],[12,16,12,20],[12,21,13,25],[12,26,13,28],[12,29,12,32],[14,21,15,25],[14,26,15,28],[14,29,15,30],[14,31,15,31],[14,32,15,32],[14,33,15,36],[14,1,15,2],[14,3,14,4],[14,5,14,8],[14,9,14,10],[14,11,14,15],[14,16,14,20],[15,3,15,4],[15,5,15,8],[15,9,15,10],[15,11,15,15],[15,16,15,20],[16,1,17,2],[16,3,16,4],[16,5,16,8],[16,9,16,10],[16,11,16,15],[16,16,16,20],[17,3,17,4],[17,5,17,8],[17,9,17,10],[18,21,19,25],[18,26,19,28],[18,29,19,30],[18,31,19,31],[18,32,19,32],[18,33,19,36],[17,11,17,15],[17,16,17,20],[18,1,19,2],[18,3,18,4],[18,5,18,8],[18,9,18,10],[18,11,18,15],[18,16,18,20],[19,3,19,4],[19,5,19,8],[16,21,17,25],[16,26,17,28],[16,29,17,30],[16,31,17,31],[16,32,17,32],[16,33,17,36],[19,9,19,10],[19,11,19,15],[19,16,19,20],[20,1,21,2],[20,3,20,4],[20,5,20,8],[20,9,20,10],[20,11,20,15],[20,16,20,20],[21,3,21,4],[22,21,23,25],[22,26,23,28],[22,29,23,30],[22,31,23,31],[22,32,23,32],[22,33,23,36],[21,5,21,8],[21,9,21,10],[21,11,21,15],[21,16,21,20],[22,5,22,8],[22,9,22,10],[22,11,22,15],[22,16,22,20],[20,21,21,25],[20,26,21,28],[20,29,21,30],[20,31,21,31],[20,32,21,32],[20,33,21,36],[23,3,23,4],[23,5,23,8],[23,9,23,10],[23,11,23,15],[23,16,23,20],[24,1,25,2],[24,3,24,4],[24,5,24,8],[24,9,24,10],[24,11,24,15],[22,1,23,2],[22,3,22,4],[24,33,25,36],[25,3,25,4],[25,5,25,8],[25,9,25,10],[25,11,25,15],[25,16,25,20],[24,16,24,20],[24,21,25,25],[24,26,25,28],[24,29,25,30],[24,31,25,31],[24,32,25,32],[26,21,27,25],[26,26,27,28],[26,29,27,30],[26,31,27,31],[26,32,27,32],[26,33,27,36],[26,1,27,2],[26,3,26,4],[26,5,26,8],[26,9,26,10],[26,11,26,15],[26,16,26,20],[27,3,27,4],[27,5,27,8],[27,9,27,10],[27,11,27,15],[27,16,27,20],[28,1,29,2],[28,3,28,4],[28,5,28,8],[28,9,28,10],[28,11,28,15],[28,16,28,20],[29,3,29,4],[29,5,29,8],[29,9,29,10],[30,21,31,25],[30,26,31,28],[30,29,31,30],[30,31,31,31],[30,32,31,32],[30,33,31,36],[29,11,29,15],[29,16,29,20],[30,1,31,2],[30,3,30,4],[30,5,30,8],[30,9,30,10],[30,11,30,15],[30,16,30,20],[31,3,31,4],[31,5,31,8],[28,21,29,25],[28,26,29,28],[28,29,29,30],[28,31,29,31],[28,32,29,32],[28,33,29,36],[31,9,31,10],[31,11,31,15],[31,16,31,20],[32,1,33,2],[32,3,32,4],[32,5,32,8],[32,9,32,10],[32,11,32,15],[32,16,32,20],[33,3,33,4],[34,21,35,25],[34,26,35,28],[34,29,35,30],[34,31,35,31],[34,32,35,32],[34,33,35,36],[33,5,33,8],[33,9,33,10],[33,11,33,15],[33,16,33,20],[34,5,34,8],[34,9,34,10],[34,11,34,15],[34,16,34,20],[32,21,33,25],[32,26,33,28],[32,29,33,30],[32,31,33,31],[32,32,33,32],[32,33,33,36],[35,3,35,4],[35,5,35,8],[35,9,35,10],[35,11,35,15],[35,16,35,20],[36,1,37,2],[36,3,36,4],[36,5,36,8],[36,9,36,10],[36,11,36,15],[34,1,35,2],[34,3,34,4],[38,5,38,8],[38,9,38,10],[38,11,38,15],[38,16,38,20],[39,3,39,4],[39,5,39,8],[39,9,39,10],[39,11,39,15],[36,33,37,36],[37,3,37,4],[37,5,37,8],[37,9,37,10],[37,11,37,15],[37,16,37,20],[36,16,36,20],[36,21,37,25],[36,26,37,28],[36,29,37,30],[36,31,37,31],[36,32,37,32],[40,21,41,25],[40,26,41,28],[40,29,41,30],[40,31,41,31],[40,32,41,32],[40,33,41,36],[39,16,39,20],[40,1,41,2],[40,3,40,4],[40,5,40,8],[40,9,40,10],[40,11,40,15],[40,16,40,20],[41,3,41,4],[41,5,41,8],[41,9,41,10],[38,21,39,25],[38,26,39,28],[38,29,39,30],[38,31,39,31],[38,32,39,32],[38,33,39,36],[38,1,39,2],[38,3,38,4],[41,11,41,15],[41,16,41,20],[42,1,43,2],[42,3,42,4],[42,5,42,8],[42,9,42,10],[42,11,42,15],[42,16,42,20],[43,3,43,4],[43,5,43,8],[43,9,43,10],[43,11,43,15],[43,16,43,20],[45,17,49,18],[46,19,46,36],[47,19,47,36],[42,21,43,25],[42,26,43,28],[42,29,43,30],[42,31,43,31],[42,32,43,32],[42,33,43,36],[56,1,59,16],[56,19,56,23],[56,24,56,37],[57,19,57,23],[57,24,57,37],[58,19,58,23],[51,0,51,37],[52,20,52,31],[52,32,52,36],[54,18,54,19],[54,20,54,21],[54,23,54,24],[54,26,54,27],[58,24,58,37],[59,19,59,23],[59,24,59,37],[60,19,60,25],[60,27,60,35],[60,36,60,37],[55,17,60,17],[55,18,60,18],[55,19,55,23],[55,24,55,37],[62,1,62,20],[62,21,62,36],[63,1,64,2],[63,3,63,15],[63,16,63,20],[63,21,64,36],[64,3,64,4],[64,5,64,8],[64,9,64,10],[64,11,64,15],[65,21,66,36],[66,3,66,4],[66,5,66,8],[66,9,66,10],[66,11,66,15],[66,16,66,20],[64,16,64,20],[65,1,66,2],[65,3,65,4],[65,5,65,8],[65,9,65,10],[65,11,65,15],[65,16,65,20],[67,21,68,36],[68,3,68,4],[68,5,68,8],[68,9,68,10],[68,11,68,15],[68,16,68,20],[67,1,68,2],[67,3,67,4],[67,5,67,8],[67,9,67,10],[67,11,67,15],[67,16,67,20],[69,21,70,36],[70,3,70,4],[70,5,70,8],[70,9,70,10],[70,11,70,15],[70,16,70,20],[69,1,70,2],[69,3,69,4],[69,5,69,8],[69,9,69,10],[69,11,69,15],[69,16,69,20],[71,21,72,36],[72,3,72,4],[72,5,72,8],[72,9,72,10],[72,11,72,15],[72,16,72,20],[71,1,72,2],[71,3,71,4],[71,5,71,8],[71,9,71,10],[71,11,71,15],[71,16,71,20],[73,21,74,36],[74,3,74,4],[74,5,74,8],[74,9,74,10],[74,11,74,15],[74,16,74,20],[73,1,74,2],[73,3,73,4],[73,5,73,8],[73,9,73,10],[73,11,73,15],[73,16,73,20],[75,21,76,36],[76,3,76,4],[76,5,76,8],[76,9,76,10],[76,11,76,15],[76,16,76,20],[75,1,76,2],[75,3,75,4],[75,5,75,8],[75,9,75,10],[75,11,75,15],[75,16,75,20],[77,21,78,36],[78,3,78,4],[78,5,78,8],[78,9,78,10],[78,11,78,15],[78,16,78,20],[77,1,78,2],[77,3,77,4],[77,5,77,8],[77,9,77,10],[77,11,77,15],[77,16,77,20],[79,21,80,36],[80,3,80,4],[80,5,80,8],[80,9,80,10],[80,11,80,15],[80,16,80,20],[79,1,80,2],[79,3,79,4],[79,5,79,8],[79,9,79,10],[79,11,79,15],[79,16,79,20],[81,21,82,36],[82,3,82,4],[82,5,82,8],[82,9,82,10],[82,11,82,15],[82,16,82,20],[81,1,82,2],[81,3,81,4],[81,5,81,8],[81,9,81,10],[81,11,81,15],[81,16,81,20],[83,21,84,36],[84,3,84,4],[84,5,84,8],[84,9,84,10],[84,11,84,15],[84,16,84,20],[83,1,84,2],[83,3,83,4],[83,5,83,8],[83,9,83,10],[83,11,83,15],[83,16,83,20],[85,21,86,36],[86,3,86,4],[86,5,86,8],[86,9,86,10],[86,11,86,15],[86,16,86,20],[85,1,86,2],[85,3,85,4],[85,5,85,8],[85,9,85,10],[85,11,85,15],[85,16,85,20],[87,21,88,36],[88,3,88,4],[88,5,88,8],[88,9,88,10],[88,11,88,15],[88,16,88,20],[87,1,88,2],[87,3,87,4],[87,5,87,8],[87,9,87,10],[87,11,87,15],[87,16,87,20],[89,21,90,36],[90,3,90,4],[90,5,90,8],[90,9,90,10],[90,11,90,15],[90,16,90,20],[89,1,90,2],[89,3,89,4],[89,5,89,8],[89,9,89,10],[89,11,89,15],[89,16,89,20],[91,21,92,36],[92,3,92,4],[92,5,92,8],[92,9,92,10],[92,11,92,15],[92,16,92,20],[91,1,92,2],[91,3,91,4],[91,5,91,8],[91,9,91,10],[91,11,91,15],[91,16,91,20],[96,19,96,36],[100,18,100,21],[102,18,102,21],[104,18,104,21],[106,0,106,37],[107,20,107,31],[107,32,107,36],[93,21,94,36],[94,3,94,4],[94,5,94,8],[94,9,94,10],[94,11,94,15],[94,16,94,20],[93,1,94,2],[93,3,93,4],[93,5,93,8],[93,9,93,10],[93,11,93,15],[93,16,93,20],[109,18,109,19],[109,20,109,21],[109,23,109,24],[109,26,109,27],[110,17,115,17],[110,18,115,18],[110,19,110,23],[110,24,110,37],[115,19,115,25],[115,27,115,35],[111,1,114,16],[111,19,111,23],[111,24,111,37],[112,19,112,23],[112,24,112,37],[113,19,113,23],[113,24,113,37],[114,19,114,23],[114,24,114,37],[115,36,115,37],[117,1,118,2],[117,3,117,15],[117,16,117,20],[117,21,118,25],[117,26,118,28],[117,29,117,32],[117,33,118,36],[118,3,118,4],[118,5,118,8],[118,9,118,10],[118,11,118,15],[118,16,118,20],[118,29,118,30],[118,31,118,32],[119,1,120,2],[119,3,119,4],[119,5,119,8],[119,9,119,10],[119,11,119,15],[119,33,120,36],[120,3,120,4],[120,5,120,8],[120,9,120,10],[120,11,120,15],[120,16,120,20],[119,16,119,20],[119,21,120,25],[119,26,120,28],[119,29,120,30],[119,31,120,31],[119,32,120,32],[121,21,122,25],[121,26,122,28],[121,29,122,30],[121,31,122,31],[121,32,122,32],[121,33,122,36],[121,1,122,2],[121,3,121,4],[121,5,121,8],[121,9,121,10],[121,11,121,15],[121,16,121,20],[122,3,122,4],[122,5,122,8],[122,9,122,10],[122,11,122,15],[122,16,122,20],[123,1,124,2],[123,3,123,4],[123,5,123,8],[123,9,123,10],[123,11,123,15],[123,16,123,20],[124,3,124,4],[124,5,124,8],[124,9,124,10],[125,21,126,25],[125,26,126,28],[125,29,126,30],[125,31,126,31],[125,32,126,32],[125,33,126,36],[124,11,124,15],[124,16,124,20],[125,1,126,2],[125,3,125,4],[125,5,125,8],[125,9,125,10],[125,11,125,15],[125,16,125,20],[126,3,126,4],[126,5,126,8],[123,21,124,25],[123,26,124,28],[123,29,124,30],[123,31,124,31],[123,32,124,32],[123,33,124,36],[126,9,126,10],[126,11,126,15],[126,16,126,20],[127,1,128,2],[127,3,127,4],[127,5,127,8],[127,9,127,10],[127,11,127,15],[127,16,127,20],[128,3,128,4],[129,21,130,25],[129,26,130,28],[129,29,130,30],[129,31,130,31],[129,32,130,32],[129,33,130,36],[128,5,128,8],[128,9,128,10],[128,11,128,15],[128,16,128,20],[129,5,129,8],[129,9,129,10],[129,11,129,15],[129,16,129,20],[127,21,128,25],[127,26,128,28],[127,29,128,30],[127,31,128,31],[127,32,128,32],[127,33,128,36],[130,3,130,4],[130,5,130,8],[130,9,130,10],[130,11,130,15],[130,16,130,20],[131,1,132,2],[131,3,131,4],[131,5,131,8],[131,9,131,10],[131,11,131,15],[129,1,130,2],[129,3,129,4],[131,33,132,36],[132,3,132,4],[132,5,132,8],[132,9,132,10],[132,11,132,15],[132,16,132,20],[131,16,131,20],[131,21,132,25],[131,26,132,28],[131,29,132,30],[131,31,132,31],[131,32,132,32],[133,21,134,25],[133,26,134,28],[133,29,134,30],[133,31,134,31],[133,32,134,32],[133,33,134,36],[133,1,134,2],[133,3,133,4],[133,5,133,8],[133,9,133,10],[133,11,133,15],[133,16,133,20],[134,3,134,4],[134,5,134,8],[134,9,134,10],[134,11,134,15],[134,16,134,20],[135,1,136,2],[135,3,135,4],[135,5,135,8],[135,9,135,10],[135,11,135,15],[135,16,135,20],[136,3,136,4],[136,5,136,8],[136,9,136,10],[137,21,138,25],[137,26,138,28],[137,29,138,30],[137,31,138,31],[137,32,138,32],[137,33,138,36],[136,11,136,15],[136,16,136,20],[137,1,138,2],[137,3,137,4],[137,5,137,8],[137,9,137,10],[137,11,137,15],[137,16,137,20],[138,3,138,4],[138,5,138,8],[135,21,136,25],[135,26,136,28],[135,29,136,30],[135,31,136,31],[135,32,136,32],[135,33,136,36],[138,9,138,10],[138,11,138,15],[138,16,138,20],[139,1,140,2],[139,3,139,4],[139,5,139,8],[139,9,139,10],[139,11,139,15],[139,16,139,20],[140,3,140,4],[141,21,142,25],[141,26,142,28],[141,29,142,30],[141,31,142,31],[141,32,142,32],[141,33,142,36],[140,5,140,8],[140,9,140,10],[140,11,140,15],[140,16,140,20],[141,5,141,8],[141,9,141,10],[141,11,141,15],[141,16,141,20],[139,21,140,25],[139,26,140,28],[139,29,140,30],[139,31,140,31],[139,32,140,32],[139,33,140,36],[142,3,142,4],[142,5,142,8],[142,9,142,10],[142,11,142,15],[142,16,142,20],[143,1,144,2],[143,3,143,4],[143,5,143,8],[143,9,143,10],[143,11,143,15],[141,1,142,2],[141,3,141,4],[143,33,144,36],[144,3,144,4],[144,5,144,8],[144,9,144,10],[144,11,144,15],[144,16,144,20],[143,16,143,20],[143,21,144,25],[143,26,144,28],[143,29,144,30],[143,31,144,31],[143,32,144,32],[145,21,146,25],[145,26,146,28],[145,29,146,30],[145,31,146,31],[145,32,146,32],[145,33,146,36],[145,1,146,2],[145,3,145,4],[145,5,145,8],[145,9,145,10],[145,11,145,15],[145,16,145,20],[146,3,146,4],[146,5,146,8],[146,9,146,10],[146,11,146,15],[146,16,146,20],[147,1,148,2],[147,3,147,4],[147,5,147,8],[147,9,147,10],[147,11,147,15],[147,16,147,20],[148,3,148,4],[148,5,148,8],[148,9,148,10],[148,11,148,15],[148,16,148,20],[150,17,154,18],[151,19,151,36],[152,19,152,36],[147,21,148,25],[147,26,148,28],[147,29,148,30],[147,31,148,31],[147,32,148,32],[147,33,148,36]]}
["様式1-(1)",null,null,null,null,null,null,null,null,null,null,null,null,null,null,null,null,null,null,null,null,null,null,null,null,null,null,null,null,null,null,"(査定協会提出用)"]
["商品中古自動車証明申請書",null,null,null,null,null,null,null,null,null,null,null,null,null,null,null,null,null,null,null,null,null,null,null,null,null,null,null,null,null,null,null,null,null,null,null,null,null,null,null,null,null,null,null,null,null,null,null,"記入箇所"]
[null,null,null,null,null,null,null,null,null,null,null,null,null,null,null,null,null,null,null,null,"（企業コード番号　　　　　　　　　　　　）",null,null,null,null,null,null,null,null,null,null,null,"（12枚目）"]
[]
[null,"一般財団法人　日本自動車査定協会",null,null,null,null,null,null,null,null,null,null,null,null,null,null,null,null,"令和",null,{"$f":"'1枚目'!U5","v":0},null,"年",{"$f":"'1枚目'!X5","v":0},null,"月",{"$f":"'1枚目'!AA5","v":0},null,"日"]
[null,"　　　　　　　　　　　　　　　京都府支所長　　様",null,null,null,null,null,null,null,null,null,null,null,null,null,null,null,"申請者","（登録名義人）","住所(所在地)",null,null,null,null,{"$f":"'1枚目'!Y6","v":0}]
[null,"　商品中古自動車確認証明業務実施要領に基づき下記の自動車が商品中古自動車であることの証明を申請します。\n　なお、下記の自動車が商品自動車であること及び記載事項に相違ないこと並びに現地調査が行われる場合には協力することを確約いたします。",null,null,null,null,null,null,null,null,null,null,null,null,null,null,null,null,null,"氏名(名称)",null,null,null,null,{"$f":"'1枚目'!Y7","v":0}]
[null,null,null,null,null,null,null,null,null,null,null,null,null,null,null,null,null,null,null,"代表者名",null,null,null,null,{"$f":"'1枚目'!Y8","v":0}]
[null,null,null,null,null,null,null,null,null,null,null,null,null,null,null,null,null,null,null,"電話番号",null,null,null,null,{"$f":"'1枚目'!Y9","v":0}]
[null,null,null,null,null,null,null,null,null,null,null,null,null,null,null,null,null,null,null,"担当者名",null,null,null,null,{"$f":"'1枚目'!Y10","v":0}]
[null,null,null,null,null,null,null,null,null,null,null,null,null,null,null,null,null,null,null,"古物商許可番号",null,null,null,null,null,null,"第",{"$f":"'1枚目'!AB11","v":0},null,null,null,null,null,null,null,null,"号"]
[]
[null,"NO.",null,"登録番号",null,null,null,null,null,null,null,null,null,null,null,null,"車台番号",null,null,null,null,"登録\n年月日",null,null,null,null,"展示場",null,null,"調査",null,null,null,"備考"]
[null,null,null,"区分",null,"車種",null,null,null,"かな",null,"番号",null,null,null,null,"(下3ｹﾀ)",null,null,null,null,null,null,null,null,null,null,null,null,"月日",null,"結果"]
[null,166,null,null,null,null,null,null,null,null,null,null,null,null,null,null,null,null,null,null,null,null,null,null,null,null,null,null,null,null,null,"現","帳"]
[null,null,null,"京都"]
[null,167,null,null,null,null,null,null,null,null,null,null,null,null,null,null,null,null,null,null,null,null,null,null,null,null,null,null,null,null,null,"現","帳"]
[null,null,null,"京都"]
[null,168,null,null,null,null,null,null,null,null,null,null,null,null,null,null,null,null,null,null,null,null,null,null,null,null,null,null,null,null,null,"現","帳"]
[null,null,null,"京都"]
[null,169,null,null,null,null,null,null,null,null,null,null,null,null,null,null,null,null,null,null,null,null,null,null,null,null,null,null,null,null,null,"現","帳"]
[null,null,null,"京都"]
[null,170,null,null,null,null,null,null,null,null,null,null,null,null,null,null,null,null,null,null,null,null,null,null,null,null,null,null,null,null,null,"現","帳"]
[null,null,null,"京都"]
[null,171,null,null,null,null,null,null,null,null,null,null,null,null,null,null,null,null,null,null,null,null,null,null,null,null,null,null,null,null,null,"現","帳"]
[null,null,null,"京都"]
[null,172,null,null,null,null,null,null,null,null,null,null,null,null,null,null,null,null,null,null,null,null,null,null,null,null,null,null,null,null,null,"現","帳"]
[null,null,null,"京都"]
[null,173,null,null,null,null,null,null,null,null,null,null,null,null,null,null,null,null,null,null,null,null,null,null,null,null,null,null,null,null,null,"現","帳"]
[null,null,null,"京都"]
[null,174,null,null,null,null,null,null,null,null,null,null,null,null,null,null,null,null,null,null,null,null,null,null,null,null,null,null,null,null,null,"現","帳"]
[null,null,null,"京都"]
[null,175,null,null,null,null,null,null,null,null,null,null,null,null,null,null,null,null,null,null,null,null,null,null,null,null,null,null,null,null,null,"現","帳"]
[null,null,null,"京都"]
[null,176,null,null,null,null,null,null,null,null,null,null,null,null,null,null,null,null,null,null,null,null,null,null,null,null,null,null,null,null,null,"現","帳"]
[null,null,null,"京都"]
[null,177,null,null,null,null,null,null,null,null,null,null,null,null,null,null,null,null,null,null,null,null,null,null,null,null,null,null,null,null,null,"現","帳"]
[null,null,null,"京都"]
[null,178,null,null,null,null,null,null,null,null,null,null,null,null,null,null,null,null,null,null,null,null,null,null,null,null,null,null,null,null,null,"現","帳"]
[null,null,null,"京都"]
[null,179,null,null,null,null,null,null,null,null,null,null,null,null,null,null,null,null,null,null,null,null,null,null,null,null,null,null,null,null,null,"現","帳"]
[null,null,null,"京都"]
[null,180,null,null,null,null,null,null,null,null,null,null,null,null,null,null,null,null,null,null,null,null,null,null,null,null,null,null,null,null,null,"現","帳"]
[null,null,null,"京都"]
[]
[null,null,null,null,null,null,null,null,null,null,null,null,null,null,null,null,null,"誓約事項"]
[null,null,null,null,null,null,null,null,null,null,null,null,null,null,null,null,null,null,null,"申請する自動車には、取得時の登録事由が新規登"]
[null,null,null,null,null,null,null,null,null,null,null,null,null,null,null,null,null,null,null,"録（新車・中古車とも）のものを含みません。"]
[]
[null,null,null,null,null,null,null,null,null,null,null,null,null,null,null,null,null,null,null,null,null,"担当者署名欄"]
["様式1-(2)",null,null,null,null,null,null,null,null,null,null,null,null,null,null,null,null,null,null,null,null,null,null,null,null,null,null,"(自動車税管理事務所提出用)"]
["商品中古自動車の自動車税の種別割減免申請書"]
[null,null,null,null,null,null,null,null,null,null,null,null,null,null,null,null,null,null,null,null,"（企業コード番号　　　　　　　　　　　　）",null,null,null,null,null,null,null,null,null,null,null,{"$f":"AG3","v":"（12枚目）"}]
[]
[null,"京都府自動車税管理事務所長　様",null,null,null,null,null,null,null,null,null,null,null,null,null,null,null,null,"令和",null,{"$f":"U5","v":0},null,"年",{"$f":"X5","v":0},null,"月",{"$f":"AA5","v":0},null,"日"]
[null,null,null,null,null,null,null,null,null,null,null,null,null,null,null,null,null,"申請者","（登録名義人）","住所(所在地)",null,null,null,null,{"$f":"Y6","v":0}]
[null,"　   京都府府税条例第70条第2項の規定に基づき、\n  下記のとおり申請します。",null,null,null,null,null,null,null,null,null,null,null,null,null,null,null,null,null,"氏名(名称)",null,null,null,null,{"$f":"Y7","v":0}]
[null,null,null,null,null,null,null,null,null,null,null,null,null,null,null,null,null,null,null,"代表者名",null,null,null,null,{"$f":"Y8","v":0}]
[null,null,null,null,null,null,null,null,null,null,null,null,null,null,null,null,null,null,null,"電話番号",null,null,null,null,{"$f":"Y9","v":0}]
[null,null,null,null,null,null,null,null,null,null,null,null,null,null,null,null,null,null,null,"担当者名",null,null,null,null,{"$f":"Y10","v":0}]
[null,null,null,null,null,null,null,null,null,null,null,null,null,null,null,null,null,null,null,"古物商許可番号",null,null,null,null,null,null,"第",{"$f":"AB11","v":0},null,null,null,null,null,null,null,null,"号"]
[]
[null,"減　免　対　象　自　動　車　の　総　台　数",null,null,null,null,null,null,null,null,null,null,null,null,null,null,null,null,null,null,null,"台"]
[null,"NO.",null,"登録番号",null,null,null,null,null,null,null,null,null,null,null,null,"車台番号",null,null,null,null,"備　　　　　考"]
[null,null,null,"区分",null,"車種",null,null,null,"かな",null,"番号",null,null,null,null,"(下3ｹﾀ)"]
[null,{"$f":"B15","v":166}]
[null,null,null,{"$f":"D16","v":"京都"},null,null,null,null,null,{"$f":"J16","v":0}]
[null,{"$f":"B17","v":167}]
[null,null,null,{"$f":"D18","v":"京都"},null,{"$f":"F18","v":0},null,null,null,{"$f":"J18","v":0},null,{"$f":"L18","v":0},null,null,null,null,{"$f":"Q18","v":0}]
[null,{"$f":"B19","v":168}]
[null,null,null,{"$f":"D20","v":"京都"},null,{"$f":"F20","v":0},null,null,null,{"$f":"J20","v":0},null,{"$f":"L20","v":0},null,null,null,null,{"$f":"Q20","v":0}]
[null,{"$f":"B21","v":169}]
[null,null,null,{"$f":"D22","v":"京都"},null,{"$f":"F22","v":0},null,null,null,{"$f":"J22","v":0},null,{"$f":"L22","v":0},null,null,null,null,{"$f":"Q22","v":0}]
[null,{"$f":"B23","v":170}]
[null,null,null,{"$f":"D24","v":"京都"},null,{"$f":"F24","v":0},null,null,null,{"$f":"J24","v":0},null,{"$f":"L24","v":0},null,null,null,null,{"$f":"Q24","v":0}]
[null,{"$f":"B25","v":171}]
[null,null,null,{"$f":"D26","v":"京都"},null,{"$f":"F26","v":0},null,null,null,{"$f":"J26","v":0},null,{"$f":"L26","v":0},null,null,null,null,{"$f":"Q26","v":0}]
[null,{"$f":"B27","v":172}]
[null,null,null,{"$f":"D28","v":"京都"},null,{"$f":"F28","v":0},null,null,null,{"$f":"J28","v":0},null,{"$f":"L28","v":0},null,null,null,null,{"$f":"Q28","v":0}]
[null,{"$f":"B29","v":173}]
[null,null,null,{"$f":"D30","v":"京都"},null,{"$f":"F30","v":0},null,null,null,{"$f":"J30","v":0},null,{"$f":"L30","v":0},null,null,null,null,{"$f":"Q30","v":0}]
[null,{"$f":"B31","v":174}]
[null,null,null,{"$f":"D32","v":"京都"},null,{"$f":"F32","v":0},null,null,null,{"$f":"J32","v":0},null,{"$f":"L32","v":0},null,null,null,null,{"$f":"Q32","v":0}]
[null,{"$f":"B33","v":175}]
[null,null,null,{"$f":"D34","v":"京都"},null,{"$f":"F34","v":0},null,null,null,{"$f":"J34","v":0},null,{"$f":"L34","v":0},null,null,null,null,{"$f":"Q34","v":0}]
[null,{"$f":"B35","v":176}]
[null,null,null,{"$f":"D36","v":"京都"},null,{"$f":"F36","v":0},null,null,null,{"$f":"J36","v":0},null,{"$f":"L36","v":0},null,null,null,null,{"$f":"Q36","v":0}]
[null,{"$f":"B37","v":177}]
[null,null,null,{"$f":"D38","v":"京都"},null,{"$f":"F38","v":0},null,null,null,{"$f":"J38","v":0},null,{"$f":"L38","v":0},null,null,null,null,{"$f":"Q38","v":0}]
[null,{"$f":"B39","v":178}]
[null,null,null,{"$f":"D40","v":"京都"},null,{"$f":"F40","v":0},null,null,null,{"$f":"J40","v":0},null,{"$f":"L40","v":0},null,null,null,null,{"$f":"Q40","v":0}]
[null,{"$f":"B41","v":179}]
[null,null,null,{"$f":"D42","v":"京都"},null,{"$f":"F42","v":0},null,null,null,{"$f":"J42","v":0},null,{"$f":"L42","v":0},null,null,null,null,{"$f":"Q42","v":0}]
[null,{"$f":"B43","v":180}]
[null,null,null,{"$f":"D44","v":"京都"},null,{"$f":"F44","v":0},null,null,null,{"$f":"J44","v":0},null,{"$f":"L44","v":0},null,null,null,null,{"$f":"Q44","v":0}]
[]
[null,null,null,null,null,null,null,null,null,null,null,null,null,null,null,null,null,null,null,"　上記は、商品中古自動車確認証明業務実施要領\nに定める商品中古自動車であることを証明する。"]
[]
[null,null,null,null,null,null,null,null,null,null,null,null,null,null,null,null,null,null,null,null,"令和　　　年　　　月　　　日"]
[]
[null,null,null,null,null,null,null,null,null,null,null,null,null,null,null,null,null,null,"住　　所"]
[]
[null,null,null,null,null,null,null,null,null,null,null,null,null,null,null,null,null,null,"支 所 名"]
[]
[null,null,null,null,null,null,null,null,null,null,null,null,null,null,null,null,null,null,"代表者名",null,null,null,null,null,null,null,null,null,null,null,null,null,null,null,null,null,"㊞"]
["様式1-(3)",null,null,null,null,null,null,null,null,null,null,null,null,null,null,null,null,null,null,null,null,null,null,null,null,null,null,null,null,null,null,null,null,"(申請者控)"]
["商品中古自動車証明申請書"]
[null,null,null,null,null,null,null,null,null,null,null,null,null,null,null,null,null,null,null,null,"（企業コード番号　　　　　　　　　　　　）",null,null,null,null,null,null,null,null,null,null,null,{"$f":"AG3","v":"（12枚目）"}]
[]
[null,"一般財団法人　日本自動車査定協会",null,null,null,null,null,null,null,null,null,null,null,null,null,null,null,null,"令和",null,{"$f":"U5","v":0},null,"年",{"$f":"X5","v":0},null,"月",{"$f":"AA5","v":0},null,"日"]
[null,"　　　　　　　　　　　　　　　京都府支所長　　様",null,null,null,null,null,null,null,null,null,null,null,null,null,null,null,"申請者","（登録名義人）","住所(所在地)",null,null,null,null,{"$f":"Y6","v":0}]
[null,"　商品中古自動車確認証明業務実施要領に基づき下記の自動車が商品中古自動車であることの証明を申請します。\n　なお、下記の自動車が商品自動車であること及び記載事項に相違ないこと並びに現地調査が行われる場合には協力することを確約いたします。",null,null,null,null,null,null,null,null,null,null,null,null,null,null,null,null,null,"氏名(名称)",null,null,null,null,{"$f":"Y7","v":0}]
[null,null,null,null,null,null,null,null,null,null,null,null,null,null,null,null,null,null,null,"代表者名",null,null,null,null,{"$f":"Y8","v":0}]
[null,null,null,null,null,null,null,null,null,null,null,null,null,null,null,null,null,null,null,"電話番号",null,null,null,null,{"$f":"Y9","v":0}]
[null,null,null,null,null,null,null,null,null,null,null,null,null,null,null,null,null,null,null,"担当者名",null,null,null,null,{"$f":"Y10","v":0}]
[null,null,null,null,null,null,null,null,null,null,null,null,null,null,null,null,null,null,null,"古物商許可番号",null,null,null,null,null,null,"第",{"$f":"AB11","v":0},null,null,null,null,null,null,null,null,"号"]
[]
[null,"NO.",null,"登録番号",null,null,null,null,null,null,null,null,null,null,null,null,"車台番号",null,null,null,null,"登録\n年月日",null,null,null,null,"展示場",null,null,"調査",null,null,null,"備考"]
[null,null,null,"区分",null,"車種",null,null,null,"かな",null,"番号",null,null,null,null,"(下3ｹﾀ)",null,null,null,null,null,null,null,null,null,null,null,null,"月日",null,"結果"]
[null,{"$f":"B15","v":166},null,null,null,null,null,null,null,null,null,null,null,null,null,null,null,null,null,null,null,{"$f":"V15","v":"00:00:00"},null,null,null,null,{"$f":"AA15","v":0},null,null,null,null,"現","帳"]
[null,null,null,{"$f":"D16","v":"京都"},null,{"$f":"F16","v":0},null,null,null,{"$f":"J16","v":0},null,{"$f":"L16","v":0},null,null,null,null,{"$f":"Q16","v":0}]
[null,{"$f":"B17","v":167},null,null,null,null,null,null,null,null,null,null,null,null,null,null,null,null,null,null,null,{"$f":"V17","v":"00:00:00"},null,null,null,null,{"$f":"AA17","v":0},null,null,null,null,"現","帳"]
[null,null,null,{"$f":"D18","v":"京都"},null,{"$f":"F18","v":0},null,null,null,{"$f":"J18","v":0},null,{"$f":"L18","v":0},null,null,null,null,{"$f":"Q18","v":0}]
[null,{"$f":"B19","v":168},null,null,null,null,null,null,null,null,null,null,null,null,null,null,null,null,null,null,null,{"$f":"V19","v":"00:00:00"},null,null,null,null,{"$f":"AA19","v":0},null,null,null,null,"現","帳"]
[null,null,null,{"$f":"D20","v":"京都"},null,{"$f":"F20","v":0},null,null,null,{"$f":"J20","v":0},null,{"$f":"L20","v":0},null,null,null,null,{"$f":"Q20","v":0}]
[null,{"$f":"B21","v":169},null,null,null,null,null,null,null,null,null,null,null,null,null,null,null,null,null,null,null,{"$f":"V21","v":"00:00:00"},null,null,null,null,{"$f":"AA21","v":0},null,null,null,null,"現","帳"]
[null,null,null,{"$f":"D22","v":"京都"},null,{"$f":"F22","v":0},null,null,null,{"$f":"J22","v":0},null,{"$f":"L22","v":0},null,null,null,null,{"$f":"Q22","v":0}]
[null,{"$f":"B23","v":170},null,null,null,null,null,null,null,null,null,null,null,null,null,null,null,null,null,null,null,{"$f":"V23","v":"00:00:00"},null,null,null,null,{"$f":"AA23","v":0},null,null,null,null,"現","帳"]
[null,null,null,{"$f":"D24","v":"京都"},null,{"$f":"F24","v":0},null,null,null,{"$f":"J24","v":0},null,{"$f":"L24","v":0},null,null,null,null,{"$f":"Q24","v":0}]
[null,{"$f":"B25","v":171},null,null,null,null,null,null,null,null,null,null,null,null,null,null,null,null,null,null,null,{"$f":"V25","v":"00:00:00"},null,null,null,null,{"$f":"AA25","v":0},null,null,null,null,"現","帳"]
[null,null,null,{"$f":"D26","v":"京都"},null,{"$f":"F26","v":0},null,null,null,{"$f":"J26","v":0},null,{"$f":"L26","v":0},null,null,null,null,{"$f":"Q26","v":0}]
[null,{"$f":"B27","v":172},null,null,null,null,null,null,null,null,null,null,null,null,null,null,null,null,null,null,null,{"$f":"V27","v":"00:00:00"},null,null,null,null,{"$f":"AA27","v":0},null,null,null,null,"現","帳"]
[null,null,null,{"$f":"D28","v":"京都"},null,{"$f":"F28","v":0},null,null,null,{"$f":"J28","v":0},null,{"$f":"L28","v":0},null,null,null,null,{"$f":"Q28","v":0}]
[null,{"$f":"B29","v":173},null,null,null,null,null,null,null,null,null,null,null,null,null,null,null,null,null,null,null,{"$f":"V29","v":"00:00:00"},null,null,null,null,{"$f":"AA29","v":0},null,null,null,null,"現","帳"]
[null,null,null,{"$f":"D30","v":"京都"},null,{"$f":"F30","v":0},null,null,null,{"$f":"J30","v":0},null,{"$f":"L30","v":0},null,null,null,null,{"$f":"Q30","v":0}]
[null,{"$f":"B31","v":174},null,null,null,null,null,null,null,null,null,null,null,null,null,null,null,null,null,null,null,{"$f":"V31","v":"00:00:00"},null,null,null,null,{"$f":"AA31","v":0},null,null,null,null,"現","帳"]
[null,null,null,{"$f":"D32","v":"京都"},null,{"$f":"F32","v":0},null,null,null,{"$f":"J32","v":0},null,{"$f":"L32","v":0},null,null,null,null,{"$f":"Q32","v":0}]
[null,{"$f":"B33","v":175},null,null,null,null,null,null,null,null,null,null,null,null,null,null,null,null,null,null,null,{"$f":"V33","v":"00:00:00"},null,null,null,null,{"$f":"AA33","v":0},null,null,null,null,"現","帳"]
[null,null,null,{"$f":"D34","v":"京都"},null,{"$f":"F34","v":0},null,null,null,{"$f":"J34","v":0},null,{"$f":"L34","v":0},null,null,null,null,{"$f":"Q34","v":0}]
[null,{"$f":"B35","v":176},null,null,null,null,null,null,null,null,null,null,null,null,null,null,null,null,null,null,null,{"$f":"V35","v":"00:00:00"},null,null,null,null,{"$f":"AA35","v":0},null,null,null,null,"現","帳"]
[null,null,null,{"$f":"D36","v":"京都"},null,{"$f":"F36","v":0},null,null,null,{"$f":"J36","v":0},null,{"$f":"L36","v":0},null,null,null,null,{"$f":"Q36","v":0}]
[null,{"$f":"B37","v":177},null,null,null,null,null,null,null,null,null,null,null,null,null,null,null,null,null,null,null,{"$f":"V37","v":"00:00:00"},null,null,null,null,{"$f":"AA37","v":0},null,null,null,null,"現","帳"]
[null,null,null,{"$f":"D38","v":"京都"},null,{"$f":"F38","v":0},null,null,null,{"$f":"J38","v":0},null,{"$f":"L38","v":0},null,null,null,null,{"$f":"Q38","v":0}]
[null,{"$f":"B39","v":178},null,null,null,null,null,null,null,null,null,null,null,null,null,null,null,null,null,null,null,{"$f":"V39","v":"00:00:00"},null,null,null,null,{"$f":"AA39","v":0},null,null,null,null,"現","帳"]
[null,null,null,{"$f":"D40","v":"京都"},null,{"$f":"F40","v":0},null,null,null,{"$f":"J40","v":0},null,{"$f":"L40","v":0},null,null,null,null,{"$f":"Q40","v":0}]
[null,{"$f":"B41","v":179},null,null,null,null,null,null,null,null,null,null,null,null,null,null,null,null,null,null,null,{"$f":"V41","v":"00:00:00"},null,null,null,null,{"$f":"AA41","v":0},null,null,null,null,"現","帳"]
[null,null,null,{"$f":"D42","v":"京都"},null,{"$f":"F42","v":0},null,null,null,{"$f":"J42","v":0},null,{"$f":"L42","v":0},null,null,null,null,{"$f":"Q42","v":0}]
[null,{"$f":"B43","v":180},null,null,null,null,null,null,null,null,null,null,null,null,null,null,null,null,null,null,null,{"$f":"V43","v":"00:00:00"},null,null,null,null,{"$f":"AA43","v":0},null,null,null,null,"現","帳"]
[null,null,null,{"$f":"D44","v":"京都"},null,{"$f":"F44","v":0},null,null,null,{"$f":"J44","v":0},null,{"$f":"L44","v":0},null,null,null,null,{"$f":"Q44","v":0}]
[]
[null,null,null,null,null,null,null,null,null,null,null,null,null,null,null,null,null,"誓約事項"]
[null,null,null,null,null,null,null,null,null,null,null,null,null,null,null,null,null,null,null,"申請する自動車には、取得時の登録事由が新規登"]
[null,null,null,null,null,null,null,null,null,null,null,null,null,null,null,null,null,null,null,"録（新車・中古車とも）のものを含みません。"]
[]
[null,null,null,null,null,null,null,null,null,null,null,null,null,null,null,null,null,null,null,null,null,"担当者署名欄"]

{"sheet":"13枚目","index":13,"n_rows":155,"n_cols":49,"rows_kept":155,"cut":false,"hidden":false,"merged":[[6,1,9,16],[6,19,6,23],[6,24,6,37],[7,19,7,23],[7,24,7,37],[8,19,8,23],[1,0,1,37],[1,48,2,51],[2,20,2,31],[2,32,2,36],[4,18,4,19],[4,20,4,21],[4,23,4,24],[4,26,4,27],[8,24,8,37],[9,19,9,23],[9,24,9,37],[10,19,10,25],[10,27,10,35],[10,36,10,37],[5,17,10,17],[5,18,10,18],[5,19,5,23],[5,24,5,37],[12,33,13,36],[13,3,13,4],[13,5,13,8],[13,9,13,10],[13,11,13,15],[13,16,13,20],[13,29,13,30],[13,31,13,32],[12,1,13,2],[12,3,12,15],[12,16,12,20],[12,21,13,25],[12,26,13,28],[12,29,12,32],[14,21,15,25],[14,26,15,28],[14,29,15,30],[14,31,15,31],[14,32,15,32],[14,33,15,36],[14,1,15,2],[14,3,14,4],[14,5,14,8],[14,9,14,10],[14,11,14,15],[14,16,14,20],[15,3,15,4],[15,5,15,8],[15,9,15,10],[15,11,15,15],[15,16,15,20],[16,1,17,2],[16,3,16,4],[16,5,16,8],[16,9,16,10],[16,11,16,15],[16,16,16,20],[17,3,17,4],[17,5,17,8],[17,9,17,10],[18,21,19,25],[18,26,19,28],[18,29,19,30],[18,31,19,31],[18,32,19,32],[18,33,19,36],[17,11,17,15],[17,16,17,20],[18,1,19,2],[18,3,18,4],[18,5,18,8],[18,9,18,10],[18,11,18,15],[18,16,18,20],[19,3,19,4],[19,5,19,8],[16,21,17,25],[16,26,17,28],[16,29,17,30],[16,31,17,31],[16,32,17,32],[16,33,17,36],[19,9,19,10],[19,11,19,15],[19,16,19,20],[20,1,21,2],[20,3,20,4],[20,5,20,8],[20,9,20,10],[20,11,20,15],[20,16,20,20],[21,3,21,4],[22,21,23,25],[22,26,23,28],[22,29,23,30],[22,31,23,31],[22,32,23,32],[22,33,23,36],[21,5,21,8],[21,9,21,10],[21,11,21,15],[21,16,21,20],[22,5,22,8],[22,9,22,10],[22,11,22,15],[22,16,22,20],[20,21,21,25],[20,26,21,28],[20,29,21,30],[20,31,21,31],[20,32,21,32],[20,33,21,36],[23,3,23,4],[23,5,23,8],[23,9,23,10],[23,11,23,15],[23,16,23,20],[24,1,25,2],[24,3,24,4],[24,5,24,8],[24,9,24,10],[24,11,24,15],[22,1,23,2],[22,3,22,4],[24,33,25,36],[25,3,25,4],[25,5,25,8],[25,9,25,10],[25,11,25,15],[25,16,25,20],[24,16,24,20],[24,21,25,25],[24,26,25,28],[24,29,25,30],[24,31,25,31],[24,32,25,32],[26,21,27,25],[26,26,27,28],[26,29,27,30],[26,31,27,31],[26,32,27,32],[26,33,27,36],[26,1,27,2],[26,3,26,4],[26,5,26,8],[26,9,26,10],[26,11,26,15],[26,16,26,20],[27,3,27,4],[27,5,27,8],[27,9,27,10],[27,11,27,15],[27,16,27,20],[28,1,29,2],[28,3,28,4],[28,5,28,8],[28,9,28,10],[28,11,28,15],[28,16,28,20],[29,3,29,4],[29,5,29,8],[29,9,29,10],[30,21,31,25],[30,26,31,28],[30,29,31,30],[30,31,31,31],[30,32,31,32],[30,33,31,36],[29,11,29,15],[29,16,29,20],[30,1,31,2],[30,3,30,4],[30,5,30,8],[30,9,30,10],[30,11,30,15],[30,16,30,20],[31,3,31,4],[31,5,31,8],[28,21,29,25],[28,26,29,28],[28,29,29,30],[28,31,29,31],[28,32,29,32],[28,33,29,36],[31,9,31,10],[31,11,31,15],[31,16,31,20],[32,1,33,2],[32,3,32,4],[32,5,32,8],[32,9,32,10],[32,11,32,15],[32,16,32,20],[33,3,33,4],[34,21,35,25],[34,26,35,28],[34,29,35,30],[34,31,35,31],[34,32,35,32],[34,33,35,36],[33,5,33,8],[33,9,33,10],[33,11,33,15],[33,16,33,20],[34,5,34,8],[34,9,34,10],[34,11,34,15],[34,16,34,20],[32,21,33,25],[32,26,33,28],[32,29,33,30],[32,31,33,31],[32,32,33,32],[32,33,33,36],[35,3,35,4],[35,5,35,8],[35,9,35,10],[35,11,35,15],[35,16,35,20],[36,1,37,2],[36,3,36,4],[36,5,36,8],[36,9,36,10],[36,11,36,15],[34,1,35,2],[34,3,34,4],[38,5,38,8],[38,9,38,10],[38,11,38,15],[38,16,38,20],[39,3,39,4],[39,5,39,8],[39,9,39,10],[39,11,39,15],[36,33,37,36],[37,3,37,4],[37,5,37,8],[37,9,37,10],[37,11,37,15],[37,16,37,20],[36,16,36,20],[36,21,37,25],[36,26,37,28],[36,29,37,30],[36,31,37,31],[36,32,37,32],[40,21,41,25],[40,26,41,28],[40,29,41,30],[40,31,41,31],[40,32,41,32],[40,33,41,36],[39,16,39,20],[40,1,41,2],[40,3,40,4],[40,5,40,8],[40,9,40,10],[40,11,40,15],[40,16,40,20],[41,3,41,4],[41,5,41,8],[41,9,41,10],[38,21,39,25],[38,26,39,28],[38,29,39,30],[38,31,39,31],[38,32,39,32],[38,33,39,36],[38,1,39,2],[38,3,38,4],[41,11,41,15],[41,16,41,20],[42,1,43,2],[42,3,42,4],[42,5,42,8],[42,9,42,10],[42,11,42,15],[42,16,42,20],[43,3,43,4],[43,5,43,8],[43,9,43,10],[43,11,43,15],[43,16,43,20],[45,17,49,18],[46,19,46,36],[47,19,47,36],[42,21,43,25],[42,26,43,28],[42,29,43,30],[42,31,43,31],[42,32,43,32],[42,33,43,36],[56,1,59,16],[56,19,56,23],[56,24,56,37],[57,19,57,23],[57,24,57,37],[58,19,58,23],[51,0,51,37],[52,20,52,31],[52,32,52,36],[54,18,54,19],[54,20,54,21],[54,23,54,24],[54,26,54,27],[58,24,58,37],[59,19,59,23],[59,24,59,37],[60,19,60,25],[60,27,60,35],[60,36,60,37],[55,17,60,17],[55,18,60,18],[55,19,55,23],[55,24,55,37],[62,1,62,20],[62,21,62,36],[63,1,64,2],[63,3,63,15],[63,16,63,20],[63,21,64,36],[64,3,64,4],[64,5,64,8],[64,9,64,10],[64,11,64,15],[65,21,66,36],[66,3,66,4],[66,5,66,8],[66,9,66,10],[66,11,66,15],[66,16,66,20],[64,16,64,20],[65,1,66,2],[65,3,65,4],[65,5,65,8],[65,9,65,10],[65,11,65,15],[65,16,65,20],[67,21,68,36],[68,3,68,4],[68,5,68,8],[68,9,68,10],[68,11,68,15],[68,16,68,20],[67,1,68,2],[67,3,67,4],[67,5,67,8],[67,9,67,10],[67,11,67,15],[67,16,67,20],[69,21,70,36],[70,3,70,4],[70,5,70,8],[70,9,70,10],[70,11,70,15],[70,16,70,20],[69,1,70,2],[69,3,69,4],[69,5,69,8],[69,9,69,10],[69,11,69,15],[69,16,69,20],[71,21,72,36],[72,3,72,4],[72,5,72,8],[72,9,72,10],[72,11,72,15],[72,16,72,20],[71,1,72,2],[71,3,71,4],[71,5,71,8],[71,9,71,10],[71,11,71,15],[71,16,71,20],[73,21,74,36],[74,3,74,4],[74,5,74,8],[74,9,74,10],[74,11,74,15],[74,16,74,20],[73,1,74,2],[73,3,73,4],[73,5,73,8],[73,9,73,10],[73,11,73,15],[73,16,73,20],[75,21,76,36],[76,3,76,4],[76,5,76,8],[76,9,76,10],[76,11,76,15],[76,16,76,20],[75,1,76,2],[75,3,75,4],[75,5,75,8],[75,9,75,10],[75,11,75,15],[75,16,75,20],[77,21,78,36],[78,3,78,4],[78,5,78,8],[78,9,78,10],[78,11,78,15],[78,16,78,20],[77,1,78,2],[77,3,77,4],[77,5,77,8],[77,9,77,10],[77,11,77,15],[77,16,77,20],[79,21,80,36],[80,3,80,4],[80,5,80,8],[80,9,80,10],[80,11,80,15],[80,16,80,20],[79,1,80,2],[79,3,79,4],[79,5,79,8],[79,9,79,10],[79,11,79,15],[79,16,79,20],[81,21,82,36],[82,3,82,4],[82,5,82,8],[82,9,82,10],[82,11,82,15],[82,16,82,20],[81,1,82,2],[81,3,81,4],[81,5,81,8],[81,9,81,10],[81,11,81,15],[81,16,81,20],[83,21,84,36],[84,3,84,4],[84,5,84,8],[84,9,84,10],[84,11,84,15],[84,16,84,20],[83,1,84,2],[83,3,83,4],[83,5,83,8],[83,9,83,10],[83,11,83,15],[83,16,83,20],[85,21,86,36],[86,3,86,4],[86,5,86,8],[86,9,86,10],[86,11,86,15],[86,16,86,20],[85,1,86,2],[85,3,85,4],[85,5,85,8],[85,9,85,10],[85,11,85,15],[85,16,85,20],[87,21,88,36],[88,3,88,4],[88,5,88,8],[88,9,88,10],[88,11,88,15],[88,16,88,20],[87,1,88,2],[87,3,87,4],[87,5,87,8],[87,9,87,10],[87,11,87,15],[87,16,87,20],[89,21,90,36],[90,3,90,4],[90,5,90,8],[90,9,90,10],[90,11,90,15],[90,16,90,20],[89,1,90,2],[89,3,89,4],[89,5,89,8],[89,9,89,10],[89,11,89,15],[89,16,89,20],[91,21,92,36],[92,3,92,4],[92,5,92,8],[92,9,92,10],[92,11,92,15],[92,16,92,20],[91,1,92,2],[91,3,91,4],[91,5,91,8],[91,9,91,10],[91,11,91,15],[91,16,91,20],[96,19,96,36],[100,18,100,21],[102,18,102,21],[104,18,104,21],[106,0,106,37],[107,20,107,31],[107,32,107,36],[93,21,94,36],[94,3,94,4],[94,5,94,8],[94,9,94,10],[94,11,94,15],[94,16,94,20],[93,1,94,2],[93,3,93,4],[93,5,93,8],[93,9,93,10],[93,11,93,15],[93,16,93,20],[109,18,109,19],[109,20,109,21],[109,23,109,24],[109,26,109,27],[110,17,115,17],[110,18,115,18],[110,19,110,23],[110,24,110,37],[115,19,115,25],[115,27,115,35],[111,1,114,16],[111,19,111,23],[111,24,111,37],[112,19,112,23],[112,24,112,37],[113,19,113,23],[113,24,113,37],[114,19,114,23],[114,24,114,37],[115,36,115,37],[117,1,118,2],[117,3,117,15],[117,16,117,20],[117,21,118,25],[117,26,118,28],[117,29,117,32],[117,33,118,36],[118,3,118,4],[118,5,118,8],[118,9,118,10],[118,11,118,15],[118,16,118,20],[118,29,118,30],[118,31,118,32],[119,1,120,2],[119,3,119,4],[119,5,119,8],[119,9,119,10],[119,11,119,15],[119,33,120,36],[120,3,120,4],[120,5,120,8],[120,9,120,10],[120,11,120,15],[120,16,120,20],[119,16,119,20],[119,21,120,25],[119,26,120,28],[119,29,120,30],[119,31,120,31],[119,32,120,32],[121,21,122,25],[121,26,122,28],[121,29,122,30],[121,31,122,31],[121,32,122,32],[121,33,122,36],[121,1,122,2],[121,3,121,4],[121,5,121,8],[121,9,121,10],[121,11,121,15],[121,16,121,20],[122,3,122,4],[122,5,122,8],[122,9,122,10],[122,11,122,15],[122,16,122,20],[123,1,124,2],[123,3,123,4],[123,5,123,8],[123,9,123,10],[123,11,123,15],[123,16,123,20],[124,3,124,4],[124,5,124,8],[124,9,124,10],[125,21,126,25],[125,26,126,28],[125,29,126,30],[125,31,126,31],[125,32,126,32],[125,33,126,36],[124,11,124,15],[124,16,124,20],[125,1,126,2],[125,3,125,4],[125,5,125,8],[125,9,125,10],[125,11,125,15],[125,16,125,20],[126,3,126,4],[126,5,126,8],[123,21,124,25],[123,26,124,28],[123,29,124,30],[123,31,124,31],[123,32,124,32],[123,33,124,36],[126,9,126,10],[126,11,126,15],[126,16,126,20],[127,1,128,2],[127,3,127,4],[127,5,127,8],[127,9,127,10],[127,11,127,15],[127,16,127,20],[128,3,128,4],[129,21,130,25],[129,26,130,28],[129,29,130,30],[129,31,130,31],[129,32,130,32],[129,33,130,36],[128,5,128,8],[128,9,128,10],[128,11,128,15],[128,16,128,20],[129,5,129,8],[129,9,129,10],[129,11,129,15],[129,16,129,20],[127,21,128,25],[127,26,128,28],[127,29,128,30],[127,31,128,31],[127,32,128,32],[127,33,128,36],[130,3,130,4],[130,5,130,8],[130,9,130,10],[130,11,130,15],[130,16,130,20],[131,1,132,2],[131,3,131,4],[131,5,131,8],[131,9,131,10],[131,11,131,15],[129,1,130,2],[129,3,129,4],[131,33,132,36],[132,3,132,4],[132,5,132,8],[132,9,132,10],[132,11,132,15],[132,16,132,20],[131,16,131,20],[131,21,132,25],[131,26,132,28],[131,29,132,30],[131,31,132,31],[131,32,132,32],[133,21,134,25],[133,26,134,28],[133,29,134,30],[133,31,134,31],[133,32,134,32],[133,33,134,36],[133,1,134,2],[133,3,133,4],[133,5,133,8],[133,9,133,10],[133,11,133,15],[133,16,133,20],[134,3,134,4],[134,5,134,8],[134,9,134,10],[134,11,134,15],[134,16,134,20],[135,1,136,2],[135,3,135,4],[135,5,135,8],[135,9,135,10],[135,11,135,15],[135,16,135,20],[136,3,136,4],[136,5,136,8],[136,9,136,10],[137,21,138,25],[137,26,138,28],[137,29,138,30],[137,31,138,31],[137,32,138,32],[137,33,138,36],[136,11,136,15],[136,16,136,20],[137,1,138,2],[137,3,137,4],[137,5,137,8],[137,9,137,10],[137,11,137,15],[137,16,137,20],[138,3,138,4],[138,5,138,8],[135,21,136,25],[135,26,136,28],[135,29,136,30],[135,31,136,31],[135,32,136,32],[135,33,136,36],[138,9,138,10],[138,11,138,15],[138,16,138,20],[139,1,140,2],[139,3,139,4],[139,5,139,8],[139,9,139,10],[139,11,139,15],[139,16,139,20],[140,3,140,4],[141,21,142,25],[141,26,142,28],[141,29,142,30],[141,31,142,31],[141,32,142,32],[141,33,142,36],[140,5,140,8],[140,9,140,10],[140,11,140,15],[140,16,140,20],[141,5,141,8],[141,9,141,10],[141,11,141,15],[141,16,141,20],[139,21,140,25],[139,26,140,28],[139,29,140,30],[139,31,140,31],[139,32,140,32],[139,33,140,36],[142,3,142,4],[142,5,142,8],[142,9,142,10],[142,11,142,15],[142,16,142,20],[143,1,144,2],[143,3,143,4],[143,5,143,8],[143,9,143,10],[143,11,143,15],[141,1,142,2],[141,3,141,4],[143,33,144,36],[144,3,144,4],[144,5,144,8],[144,9,144,10],[144,11,144,15],[144,16,144,20],[143,16,143,20],[143,21,144,25],[143,26,144,28],[143,29,144,30],[143,31,144,31],[143,32,144,32],[145,21,146,25],[145,26,146,28],[145,29,146,30],[145,31,146,31],[145,32,146,32],[145,33,146,36],[145,1,146,2],[145,3,145,4],[145,5,145,8],[145,9,145,10],[145,11,145,15],[145,16,145,20],[146,3,146,4],[146,5,146,8],[146,9,146,10],[146,11,146,15],[146,16,146,20],[147,1,148,2],[147,3,147,4],[147,5,147,8],[147,9,147,10],[147,11,147,15],[147,16,147,20],[148,3,148,4],[148,5,148,8],[148,9,148,10],[148,11,148,15],[148,16,148,20],[150,17,154,18],[151,19,151,36],[152,19,152,36],[147,21,148,25],[147,26,148,28],[147,29,148,30],[147,31,148,31],[147,32,148,32],[147,33,148,36]]}
["様式1-(1)",null,null,null,null,null,null,null,null,null,null,null,null,null,null,null,null,null,null,null,null,null,null,null,null,null,null,null,null,null,null,"(査定協会提出用)"]
["商品中古自動車証明申請書",null,null,null,null,null,null,null,null,null,null,null,null,null,null,null,null,null,null,null,null,null,null,null,null,null,null,null,null,null,null,null,null,null,null,null,null,null,null,null,null,null,null,null,null,null,null,null,"記入箇所"]
[null,null,null,null,null,null,null,null,null,null,null,null,null,null,null,null,null,null,null,null,"（企業コード番号　　　　　　　　　　　　）",null,null,null,null,null,null,null,null,null,null,null,"（13枚目）"]
[]
[null,"一般財団法人　日本自動車査定協会",null,null,null,null,null,null,null,null,null,null,null,null,null,null,null,null,"令和",null,{"$f":"'1枚目'!U5","v":0},null,"年",{"$f":"'1枚目'!X5","v":0},null,"月",{"$f":"'1枚目'!AA5","v":0},null,"日"]
[null,"　　　　　　　　　　　　　　　京都府支所長　　様",null,null,null,null,null,null,null,null,null,null,null,null,null,null,null,"申請者","（登録名義人）","住所(所在地)",null,null,null,null,{"$f":"'1枚目'!Y6","v":0}]
[null,"　商品中古自動車確認証明業務実施要領に基づき下記の自動車が商品中古自動車であることの証明を申請します。\n　なお、下記の自動車が商品自動車であること及び記載事項に相違ないこと並びに現地調査が行われる場合には協力することを確約いたします。",null,null,null,null,null,null,null,null,null,null,null,null,null,null,null,null,null,"氏名(名称)",null,null,null,null,{"$f":"'1枚目'!Y7","v":0}]
[null,null,null,null,null,null,null,null,null,null,null,null,null,null,null,null,null,null,null,"代表者名",null,null,null,null,{"$f":"'1枚目'!Y8","v":0}]
[null,null,null,null,null,null,null,null,null,null,null,null,null,null,null,null,null,null,null,"電話番号",null,null,null,null,{"$f":"'1枚目'!Y9","v":0}]
[null,null,null,null,null,null,null,null,null,null,null,null,null,null,null,null,null,null,null,"担当者名",null,null,null,null,{"$f":"'1枚目'!Y10","v":0}]
[null,null,null,null,null,null,null,null,null,null,null,null,null,null,null,null,null,null,null,"古物商許可番号",null,null,null,null,null,null,"第",{"$f":"'1枚目'!AB11","v":0},null,null,null,null,null,null,null,null,"号"]
[]
[null,"NO.",null,"登録番号",null,null,null,null,null,null,null,null,null,null,null,null,"車台番号",null,null,null,null,"登録\n年月日",null,null,null,null,"展示場",null,null,"調査",null,null,null,"備考"]
[null,null,null,"区分",null,"車種",null,null,null,"かな",null,"番号",null,null,null,null,"(下3ｹﾀ)",null,null,null,null,null,null,null,null,null,null,null,null,"月日",null,"結果"]
[null,181,null,null,null,null,null,null,null,null,null,null,null,null,null,null,null,null,null,null,null,null,null,null,null,null,null,null,null,null,null,"現","帳"]
[null,null,null,"京都"]
[null,182,null,null,null,null,null,null,null,null,null,null,null,null,null,null,null,null,null,null,null,null,null,null,null,null,null,null,null,null,null,"現","帳"]
[null,null,null,"京都"]
[null,183,null,null,null,null,null,null,null,null,null,null,null,null,null,null,null,null,null,null,null,null,null,null,null,null,null,null,null,null,null,"現","帳"]
[null,null,null,"京都"]
[null,184,null,null,null,null,null,null,null,null,null,null,null,null,null,null,null,null,null,null,null,null,null,null,null,null,null,null,null,null,null,"現","帳"]
[null,null,null,"京都"]
[null,185,null,null,null,null,null,null,null,null,null,null,null,null,null,null,null,null,null,null,null,null,null,null,null,null,null,null,null,null,null,"現","帳"]
[null,null,null,"京都"]
[null,186,null,null,null,null,null,null,null,null,null,null,null,null,null,null,null,null,null,null,null,null,null,null,null,null,null,null,null,null,null,"現","帳"]
[null,null,null,"京都"]
[null,187,null,null,null,null,null,null,null,null,null,null,null,null,null,null,null,null,null,null,null,null,null,null,null,null,null,null,null,null,null,"現","帳"]
[null,null,null,"京都"]
[null,188,null,null,null,null,null,null,null,null,null,null,null,null,null,null,null,null,null,null,null,null,null,null,null,null,null,null,null,null,null,"現","帳"]
[null,null,null,"京都"]
[null,189,null,null,null,null,null,null,null,null,null,null,null,null,null,null,null,null,null,null,null,null,null,null,null,null,null,null,null,null,null,"現","帳"]
[null,null,null,"京都"]
[null,190,null,null,null,null,null,null,null,null,null,null,null,null,null,null,null,null,null,null,null,null,null,null,null,null,null,null,null,null,null,"現","帳"]
[null,null,null,"京都"]
[null,191,null,null,null,null,null,null,null,null,null,null,null,null,null,null,null,null,null,null,null,null,null,null,null,null,null,null,null,null,null,"現","帳"]
[null,null,null,"京都"]
[null,192,null,null,null,null,null,null,null,null,null,null,null,null,null,null,null,null,null,null,null,null,null,null,null,null,null,null,null,null,null,"現","帳"]
[null,null,null,"京都"]
[null,193,null,null,null,null,null,null,null,null,null,null,null,null,null,null,null,null,null,null,null,null,null,null,null,null,null,null,null,null,null,"現","帳"]
[null,null,null,"京都"]
[null,194,null,null,null,null,null,null,null,null,null,null,null,null,null,null,null,null,null,null,null,null,null,null,null,null,null,null,null,null,null,"現","帳"]
[null,null,null,"京都"]
[null,195,null,null,null,null,null,null,null,null,null,null,null,null,null,null,null,null,null,null,null,null,null,null,null,null,null,null,null,null,null,"現","帳"]
[null,null,null,"京都"]
[]
[null,null,null,null,null,null,null,null,null,null,null,null,null,null,null,null,null,"誓約事項"]
[null,null,null,null,null,null,null,null,null,null,null,null,null,null,null,null,null,null,null,"申請する自動車には、取得時の登録事由が新規登"]
[null,null,null,null,null,null,null,null,null,null,null,null,null,null,null,null,null,null,null,"録（新車・中古車とも）のものを含みません。"]
[]
[null,null,null,null,null,null,null,null,null,null,null,null,null,null,null,null,null,null,null,null,null,"担当者署名欄"]
["様式1-(2)",null,null,null,null,null,null,null,null,null,null,null,null,null,null,null,null,null,null,null,null,null,null,null,null,null,null,"(自動車税管理事務所提出用)"]
["商品中古自動車の自動車税の種別割減免申請書"]
[null,null,null,null,null,null,null,null,null,null,null,null,null,null,null,null,null,null,null,null,"（企業コード番号　　　　　　　　　　　　）",null,null,null,null,null,null,null,null,null,null,null,{"$f":"AG3","v":"（13枚目）"}]
[]
[null,"京都府自動車税管理事務所長　様",null,null,null,null,null,null,null,null,null,null,null,null,null,null,null,null,"令和",null,{"$f":"U5","v":0},null,"年",{"$f":"X5","v":0},null,"月",{"$f":"AA5","v":0},null,"日"]
[null,null,null,null,null,null,null,null,null,null,null,null,null,null,null,null,null,"申請者","（登録名義人）","住所(所在地)",null,null,null,null,{"$f":"Y6","v":0}]
[null,"　   京都府府税条例第70条第2項の規定に基づき、\n  下記のとおり申請します。",null,null,null,null,null,null,null,null,null,null,null,null,null,null,null,null,null,"氏名(名称)",null,null,null,null,{"$f":"Y7","v":0}]
[null,null,null,null,null,null,null,null,null,null,null,null,null,null,null,null,null,null,null,"代表者名",null,null,null,null,{"$f":"Y8","v":0}]
[null,null,null,null,null,null,null,null,null,null,null,null,null,null,null,null,null,null,null,"電話番号",null,null,null,null,{"$f":"Y9","v":0}]
[null,null,null,null,null,null,null,null,null,null,null,null,null,null,null,null,null,null,null,"担当者名",null,null,null,null,{"$f":"Y10","v":0}]
[null,null,null,null,null,null,null,null,null,null,null,null,null,null,null,null,null,null,null,"古物商許可番号",null,null,null,null,null,null,"第",{"$f":"AB11","v":0},null,null,null,null,null,null,null,null,"号"]
[]
[null,"減　免　対　象　自　動　車　の　総　台　数",null,null,null,null,null,null,null,null,null,null,null,null,null,null,null,null,null,null,null,"台"]
[null,"NO.",null,"登録番号",null,null,null,null,null,null,null,null,null,null,null,null,"車台番号",null,null,null,null,"備　　　　　考"]
[null,null,null,"区分",null,"車種",null,null,null,"かな",null,"番号",null,null,null,null,"(下3ｹﾀ)"]
[null,{"$f":"B15","v":181}]
[null,null,null,{"$f":"D16","v":"京都"},null,null,null,null,null,{"$f":"J16","v":0}]
[null,{"$f":"B17","v":182}]
[null,null,null,{"$f":"D18","v":"京都"},null,{"$f":"F18","v":0},null,null,null,{"$f":"J18","v":0},null,{"$f":"L18","v":0},null,null,null,null,{"$f":"Q18","v":0}]
[null,{"$f":"B19","v":183}]
[null,null,null,{"$f":"D20","v":"京都"},null,{"$f":"F20","v":0},null,null,null,{"$f":"J20","v":0},null,{"$f":"L20","v":0},null,null,null,null,{"$f":"Q20","v":0}]
[null,{"$f":"B21","v":184}]
[null,null,null,{"$f":"D22","v":"京都"},null,{"$f":"F22","v":0},null,null,null,{"$f":"J22","v":0},null,{"$f":"L22","v":0},null,null,null,null,{"$f":"Q22","v":0}]
[null,{"$f":"B23","v":185}]
[null,null,null,{"$f":"D24","v":"京都"},null,{"$f":"F24","v":0},null,null,null,{"$f":"J24","v":0},null,{"$f":"L24","v":0},null,null,null,null,{"$f":"Q24","v":0}]
[null,{"$f":"B25","v":186}]
[null,null,null,{"$f":"D26","v":"京都"},null,{"$f":"F26","v":0},null,null,null,{"$f":"J26","v":0},null,{"$f":"L26","v":0},null,null,null,null,{"$f":"Q26","v":0}]
[null,{"$f":"B27","v":187}]
[null,null,null,{"$f":"D28","v":"京都"},null,{"$f":"F28","v":0},null,null,null,{"$f":"J28","v":0},null,{"$f":"L28","v":0},null,null,null,null,{"$f":"Q28","v":0}]
[null,{"$f":"B29","v":188}]
[null,null,null,{"$f":"D30","v":"京都"},null,{"$f":"F30","v":0},null,null,null,{"$f":"J30","v":0},null,{"$f":"L30","v":0},null,null,null,null,{"$f":"Q30","v":0}]
[null,{"$f":"B31","v":189}]
[null,null,null,{"$f":"D32","v":"京都"},null,{"$f":"F32","v":0},null,null,null,{"$f":"J32","v":0},null,{"$f":"L32","v":0},null,null,null,null,{"$f":"Q32","v":0}]
[null,{"$f":"B33","v":190}]
[null,null,null,{"$f":"D34","v":"京都"},null,{"$f":"F34","v":0},null,null,null,{"$f":"J34","v":0},null,{"$f":"L34","v":0},null,null,null,null,{"$f":"Q34","v":0}]
[null,{"$f":"B35","v":191}]
[null,null,null,{"$f":"D36","v":"京都"},null,{"$f":"F36","v":0},null,null,null,{"$f":"J36","v":0},null,{"$f":"L36","v":0},null,null,null,null,{"$f":"Q36","v":0}]
[null,{"$f":"B37","v":192}]
[null,null,null,{"$f":"D38","v":"京都"},null,{"$f":"F38","v":0},null,null,null,{"$f":"J38","v":0},null,{"$f":"L38","v":0},null,null,null,null,{"$f":"Q38","v":0}]
[null,{"$f":"B39","v":193}]
[null,null,null,{"$f":"D40","v":"京都"},null,{"$f":"F40","v":0},null,null,null,{"$f":"J40","v":0},null,{"$f":"L40","v":0},null,null,null,null,{"$f":"Q40","v":0}]
[null,{"$f":"B41","v":194}]
[null,null,null,{"$f":"D42","v":"京都"},null,{"$f":"F42","v":0},null,null,null,{"$f":"J42","v":0},null,{"$f":"L42","v":0},null,null,null,null,{"$f":"Q42","v":0}]
[null,{"$f":"B43","v":195}]
[null,null,null,{"$f":"D44","v":"京都"},null,{"$f":"F44","v":0},null,null,null,{"$f":"J44","v":0},null,{"$f":"L44","v":0},null,null,null,null,{"$f":"Q44","v":0}]
[]
[null,null,null,null,null,null,null,null,null,null,null,null,null,null,null,null,null,null,null,"　上記は、商品中古自動車確認証明業務実施要領\nに定める商品中古自動車であることを証明する。"]
[]
[null,null,null,null,null,null,null,null,null,null,null,null,null,null,null,null,null,null,null,null,"令和　　　年　　　月　　　日"]
[]
[null,null,null,null,null,null,null,null,null,null,null,null,null,null,null,null,null,null,"住　　所"]
[]
[null,null,null,null,null,null,null,null,null,null,null,null,null,null,null,null,null,null,"支 所 名"]
[]
[null,null,null,null,null,null,null,null,null,null,null,null,null,null,null,null,null,null,"代表者名",null,null,null,null,null,null,null,null,null,null,null,null,null,null,null,null,null,"㊞"]
["様式1-(3)",null,null,null,null,null,null,null,null,null,null,null,null,null,null,null,null,null,null,null,null,null,null,null,null,null,null,null,null,null,null,null,null,"(申請者控)"]
["商品中古自動車証明申請書"]
[null,null,null,null,null,null,null,null,null,null,null,null,null,null,null,null,null,null,null,null,"（企業コード番号　　　　　　　　　　　　）",null,null,null,null,null,null,null,null,null,null,null,{"$f":"AG3","v":"（13枚目）"}]
[]
[null,"一般財団法人　日本自動車査定協会",null,null,null,null,null,null,null,null,null,null,null,null,null,null,null,null,"令和",null,{"$f":"U5","v":0},null,"年",{"$f":"X5","v":0},null,"月",{"$f":"AA5","v":0},null,"日"]
[null,"　　　　　　　　　　　　　　　京都府支所長　　様",null,null,null,null,null,null,null,null,null,null,null,null,null,null,null,"申請者","（登録名義人）","住所(所在地)",null,null,null,null,{"$f":"Y6","v":0}]
[null,"　商品中古自動車確認証明業務実施要領に基づき下記の自動車が商品中古自動車であることの証明を申請します。\n　なお、下記の自動車が商品自動車であること及び記載事項に相違ないこと並びに現地調査が行われる場合には協力することを確約いたします。",null,null,null,null,null,null,null,null,null,null,null,null,null,null,null,null,null,"氏名(名称)",null,null,null,null,{"$f":"Y7","v":0}]
[null,null,null,null,null,null,null,null,null,null,null,null,null,null,null,null,null,null,null,"代表者名",null,null,null,null,{"$f":"Y8","v":0}]
[null,null,null,null,null,null,null,null,null,null,null,null,null,null,null,null,null,null,null,"電話番号",null,null,null,null,{"$f":"Y9","v":0}]
[null,null,null,null,null,null,null,null,null,null,null,null,null,null,null,null,null,null,null,"担当者名",null,null,null,null,{"$f":"Y10","v":0}]
[null,null,null,null,null,null,null,null,null,null,null,null,null,null,null,null,null,null,null,"古物商許可番号",null,null,null,null,null,null,"第",{"$f":"AB11","v":0},null,null,null,null,null,null,null,null,"号"]
[]
[null,"NO.",null,"登録番号",null,null,null,null,null,null,null,null,null,null,null,null,"車台番号",null,null,null,null,"登録\n年月日",null,null,null,null,"展示場",null,null,"調査",null,null,null,"備考"]
[null,null,null,"区分",null,"車種",null,null,null,"かな",null,"番号",null,null,null,null,"(下3ｹﾀ)",null,null,null,null,null,null,null,null,null,null,null,null,"月日",null,"結果"]
[null,{"$f":"B15","v":181},null,null,null,null,null,null,null,null,null,null,null,null,null,null,null,null,null,null,null,{"$f":"V15","v":"00:00:00"},null,null,null,null,{"$f":"AA15","v":0},null,null,null,null,"現","帳"]
[null,null,null,{"$f":"D16","v":"京都"},null,{"$f":"F16","v":0},null,null,null,{"$f":"J16","v":0},null,{"$f":"L16","v":0},null,null,null,null,{"$f":"Q16","v":0}]
[null,{"$f":"B17","v":182},null,null,null,null,null,null,null,null,null,null,null,null,null,null,null,null,null,null,null,{"$f":"V17","v":"00:00:00"},null,null,null,null,{"$f":"AA17","v":0},null,null,null,null,"現","帳"]
[null,null,null,{"$f":"D18","v":"京都"},null,{"$f":"F18","v":0},null,null,null,{"$f":"J18","v":0},null,{"$f":"L18","v":0},null,null,null,null,{"$f":"Q18","v":0}]
[null,{"$f":"B19","v":183},null,null,null,null,null,null,null,null,null,null,null,null,null,null,null,null,null,null,null,{"$f":"V19","v":"00:00:00"},null,null,null,null,{"$f":"AA19","v":0},null,null,null,null,"現","帳"]
[null,null,null,{"$f":"D20","v":"京都"},null,{"$f":"F20","v":0},null,null,null,{"$f":"J20","v":0},null,{"$f":"L20","v":0},null,null,null,null,{"$f":"Q20","v":0}]
[null,{"$f":"B21","v":184},null,null,null,null,null,null,null,null,null,null,null,null,null,null,null,null,null,null,null,{"$f":"V21","v":"00:00:00"},null,null,null,null,{"$f":"AA21","v":0},null,null,null,null,"現","帳"]
[null,null,null,{"$f":"D22","v":"京都"},null,{"$f":"F22","v":0},null,null,null,{"$f":"J22","v":0},null,{"$f":"L22","v":0},null,null,null,null,{"$f":"Q22","v":0}]
[null,{"$f":"B23","v":185},null,null,null,null,null,null,null,null,null,null,null,null,null,null,null,null,null,null,null,{"$f":"V23","v":"00:00:00"},null,null,null,null,{"$f":"AA23","v":0},null,null,null,null,"現","帳"]
[null,null,null,{"$f":"D24","v":"京都"},null,{"$f":"F24","v":0},null,null,null,{"$f":"J24","v":0},null,{"$f":"L24","v":0},null,null,null,null,{"$f":"Q24","v":0}]
[null,{"$f":"B25","v":186},null,null,null,null,null,null,null,null,null,null,null,null,null,null,null,null,null,null,null,{"$f":"V25","v":"00:00:00"},null,null,null,null,{"$f":"AA25","v":0},null,null,null,null,"現","帳"]
[null,null,null,{"$f":"D26","v":"京都"},null,{"$f":"F26","v":0},null,null,null,{"$f":"J26","v":0},null,{"$f":"L26","v":0},null,null,null,null,{"$f":"Q26","v":0}]
[null,{"$f":"B27","v":187},null,null,null,null,null,null,null,null,null,null,null,null,null,null,null,null,null,null,null,{"$f":"V27","v":"00:00:00"},null,null,null,null,{"$f":"AA27","v":0},null,null,null,null,"現","帳"]
[null,null,null,{"$f":"D28","v":"京都"},null,{"$f":"F28","v":0},null,null,null,{"$f":"J28","v":0},null,{"$f":"L28","v":0},null,null,null,null,{"$f":"Q28","v":0}]
[null,{"$f":"B29","v":188},null,null,null,null,null,null,null,null,null,null,null,null,null,null,null,null,null,null,null,{"$f":"V29","v":"00:00:00"},null,null,null,null,{"$f":"AA29","v":0},null,null,null,null,"現","帳"]
[null,null,null,{"$f":"D30","v":"京都"},null,{"$f":"F30","v":0},null,null,null,{"$f":"J30","v":0},null,{"$f":"L30","v":0},null,null,null,null,{"$f":"Q30","v":0}]
[null,{"$f":"B31","v":189},null,null,null,null,null,null,null,null,null,null,null,null,null,null,null,null,null,null,null,{"$f":"V31","v":"00:00:00"},null,null,null,null,{"$f":"AA31","v":0},null,null,null,null,"現","帳"]
[null,null,null,{"$f":"D32","v":"京都"},null,{"$f":"F32","v":0},null,null,null,{"$f":"J32","v":0},null,{"$f":"L32","v":0},null,null,null,null,{"$f":"Q32","v":0}]
[null,{"$f":"B33","v":190},null,null,null,null,null,null,null,null,null,null,null,null,null,null,null,null,null,null,null,{"$f":"V33","v":"00:00:00"},null,null,null,null,{"$f":"AA33","v":0},null,null,null,null,"現","帳"]
[null,null,null,{"$f":"D34","v":"京都"},null,{"$f":"F34","v":0},null,null,null,{"$f":"J34","v":0},null,{"$f":"L34","v":0},null,null,null,null,{"$f":"Q34","v":0}]
[null,{"$f":"B35","v":191},null,null,null,null,null,null,null,null,null,null,null,null,null,null,null,null,null,null,null,{"$f":"V35","v":"00:00:00"},null,null,null,null,{"$f":"AA35","v":0},null,null,null,null,"現","帳"]
[null,null,null,{"$f":"D36","v":"京都"},null,{"$f":"F36","v":0},null,null,null,{"$f":"J36","v":0},null,{"$f":"L36","v":0},null,null,null,null,{"$f":"Q36","v":0}]
[null,{"$f":"B37","v":192},null,null,null,null,null,null,null,null,null,null,null,null,null,null,null,null,null,null,null,{"$f":"V37","v":"00:00:00"},null,null,null,null,{"$f":"AA37","v":0},null,null,null,null,"現","帳"]
[null,null,null,{"$f":"D38","v":"京都"},null,{"$f":"F38","v":0},null,null,null,{"$f":"J38","v":0},null,{"$f":"L38","v":0},null,null,null,null,{"$f":"Q38","v":0}]
[null,{"$f":"B39","v":193},null,null,null,null,null,null,null,null,null,null,null,null,null,null,null,null,null,null,null,{"$f":"V39","v":"00:00:00"},null,null,null,null,{"$f":"AA39","v":0},null,null,null,null,"現","帳"]
[null,null,null,{"$f":"D40","v":"京都"},null,{"$f":"F40","v":0},null,null,null,{"$f":"J40","v":0},null,{"$f":"L40","v":0},null,null,null,null,{"$f":"Q40","v":0}]
[null,{"$f":"B41","v":194},null,null,null,null,null,null,null,null,null,null,null,null,null,null,null,null,null,null,null,{"$f":"V41","v":"00:00:00"},null,null,null,null,{"$f":"AA41","v":0},null,null,null,null,"現","帳"]
[null,null,null,{"$f":"D42","v":"京都"},null,{"$f":"F42","v":0},null,null,null,{"$f":"J42","v":0},null,{"$f":"L42","v":0},null,null,null,null,{"$f":"Q42","v":0}]
[null,{"$f":"B43","v":195},null,null,null,null,null,null,null,null,null,null,null,null,null,null,null,null,null,null,null,{"$f":"V43","v":"00:00:00"},null,null,null,null,{"$f":"AA43","v":0},null,null,null,null,"現","帳"]
[null,null,null,{"$f":"D44","v":"京都"},null,{"$f":"F44","v":0},null,null,null,{"$f":"J44","v":0},null,{"$f":"L44","v":0},null,null,null,null,{"$f":"Q44","v":0}]
[]
[null,null,null,null,null,null,null,null,null,null,null,null,null,null,null,null,null,"誓約事項"]
[null,null,null,null,null,null,null,null,null,null,null,null,null,null,null,null,null,null,null,"申請する自動車には、取得時の登録事由が新規登"]
[null,null,null,null,null,null,null,null,null,null,null,null,null,null,null,null,null,null,null,"録（新車・中古車とも）のものを含みません。"]
[]
[null,null,null,null,null,null,null,null,null,null,null,null,null,null,null,null,null,null,null,null,null,"担当者署名欄"]

{"sheet":"14枚目","index":14,"n_rows":155,"n_cols":49,"rows_kept":155,"cut":false,"hidden":false,"merged":[[6,1,9,16],[6,19,6,23],[6,24,6,37],[7,19,7,23],[7,24,7,37],[8,19,8,23],[1,0,1,37],[1,48,2,51],[2,20,2,31],[2,32,2,36],[4,18,4,19],[4,20,4,21],[4,23,4,24],[4,26,4,27],[8,24,8,37],[9,19,9,23],[9,24,9,37],[10,19,10,25],[10,27,10,35],[10,36,10,37],[5,17,10,17],[5,18,10,18],[5,19,5,23],[5,24,5,37],[12,33,13,36],[13,3,13,4],[13,5,13,8],[13,9,13,10],[13,11,13,15],[13,16,13,20],[13,29,13,30],[13,31,13,32],[12,1,13,2],[12,3,12,15],[12,16,12,20],[12,21,13,25],[12,26,13,28],[12,29,12,32],[14,21,15,25],[14,26,15,28],[14,29,15,30],[14,31,15,31],[14,32,15,32],[14,33,15,36],[14,1,15,2],[14,3,14,4],[14,5,14,8],[14,9,14,10],[14,11,14,15],[14,16,14,20],[15,3,15,4],[15,5,15,8],[15,9,15,10],[15,11,15,15],[15,16,15,20],[16,1,17,2],[16,3,16,4],[16,5,16,8],[16,9,16,10],[16,11,16,15],[16,16,16,20],[17,3,17,4],[17,5,17,8],[17,9,17,10],[18,21,19,25],[18,26,19,28],[18,29,19,30],[18,31,19,31],[18,32,19,32],[18,33,19,36],[17,11,17,15],[17,16,17,20],[18,1,19,2],[18,3,18,4],[18,5,18,8],[18,9,18,10],[18,11,18,15],[18,16,18,20],[19,3,19,4],[19,5,19,8],[16,21,17,25],[16,26,17,28],[16,29,17,30],[16,31,17,31],[16,32,17,32],[16,33,17,36],[19,9,19,10],[19,11,19,15],[19,16,19,20],[20,1,21,2],[20,3,20,4],[20,5,20,8],[20,9,20,10],[20,11,20,15],[20,16,20,20],[21,3,21,4],[22,21,23,25],[22,26,23,28],[22,29,23,30],[22,31,23,31],[22,32,23,32],[22,33,23,36],[21,5,21,8],[21,9,21,10],[21,11,21,15],[21,16,21,20],[22,5,22,8],[22,9,22,10],[22,11,22,15],[22,16,22,20],[20,21,21,25],[20,26,21,28],[20,29,21,30],[20,31,21,31],[20,32,21,32],[20,33,21,36],[23,3,23,4],[23,5,23,8],[23,9,23,10],[23,11,23,15],[23,16,23,20],[24,1,25,2],[24,3,24,4],[24,5,24,8],[24,9,24,10],[24,11,24,15],[22,1,23,2],[22,3,22,4],[24,33,25,36],[25,3,25,4],[25,5,25,8],[25,9,25,10],[25,11,25,15],[25,16,25,20],[24,16,24,20],[24,21,25,25],[24,26,25,28],[24,29,25,30],[24,31,25,31],[24,32,25,32],[26,21,27,25],[26,26,27,28],[26,29,27,30],[26,31,27,31],[26,32,27,32],[26,33,27,36],[26,1,27,2],[26,3,26,4],[26,5,26,8],[26,9,26,10],[26,11,26,15],[26,16,26,20],[27,3,27,4],[27,5,27,8],[27,9,27,10],[27,11,27,15],[27,16,27,20],[28,1,29,2],[28,3,28,4],[28,5,28,8],[28,9,28,10],[28,11,28,15],[28,16,28,20],[29,3,29,4],[29,5,29,8],[29,9,29,10],[30,21,31,25],[30,26,31,28],[30,29,31,30],[30,31,31,31],[30,32,31,32],[30,33,31,36],[29,11,29,15],[29,16,29,20],[30,1,31,2],[30,3,30,4],[30,5,30,8],[30,9,30,10],[30,11,30,15],[30,16,30,20],[31,3,31,4],[31,5,31,8],[28,21,29,25],[28,26,29,28],[28,29,29,30],[28,31,29,31],[28,32,29,32],[28,33,29,36],[31,9,31,10],[31,11,31,15],[31,16,31,20],[32,1,33,2],[32,3,32,4],[32,5,32,8],[32,9,32,10],[32,11,32,15],[32,16,32,20],[33,3,33,4],[34,21,35,25],[34,26,35,28],[34,29,35,30],[34,31,35,31],[34,32,35,32],[34,33,35,36],[33,5,33,8],[33,9,33,10],[33,11,33,15],[33,16,33,20],[34,5,34,8],[34,9,34,10],[34,11,34,15],[34,16,34,20],[32,21,33,25],[32,26,33,28],[32,29,33,30],[32,31,33,31],[32,32,33,32],[32,33,33,36],[35,3,35,4],[35,5,35,8],[35,9,35,10],[35,11,35,15],[35,16,35,20],[36,1,37,2],[36,3,36,4],[36,5,36,8],[36,9,36,10],[36,11,36,15],[34,1,35,2],[34,3,34,4],[38,5,38,8],[38,9,38,10],[38,11,38,15],[38,16,38,20],[39,3,39,4],[39,5,39,8],[39,9,39,10],[39,11,39,15],[36,33,37,36],[37,3,37,4],[37,5,37,8],[37,9,37,10],[37,11,37,15],[37,16,37,20],[36,16,36,20],[36,21,37,25],[36,26,37,28],[36,29,37,30],[36,31,37,31],[36,32,37,32],[40,21,41,25],[40,26,41,28],[40,29,41,30],[40,31,41,31],[40,32,41,32],[40,33,41,36],[39,16,39,20],[40,1,41,2],[40,3,40,4],[40,5,40,8],[40,9,40,10],[40,11,40,15],[40,16,40,20],[41,3,41,4],[41,5,41,8],[41,9,41,10],[38,21,39,25],[38,26,39,28],[38,29,39,30],[38,31,39,31],[38,32,39,32],[38,33,39,36],[38,1,39,2],[38,3,38,4],[41,11,41,15],[41,16,41,20],[42,1,43,2],[42,3,42,4],[42,5,42,8],[42,9,42,10],[42,11,42,15],[42,16,42,20],[43,3,43,4],[43,5,43,8],[43,9,43,10],[43,11,43,15],[43,16,43,20],[45,17,49,18],[46,19,46,36],[47,19,47,36],[42,21,43,25],[42,26,43,28],[42,29,43,30],[42,31,43,31],[42,32,43,32],[42,33,43,36],[56,1,59,16],[56,19,56,23],[56,24,56,37],[57,19,57,23],[57,24,57,37],[58,19,58,23],[51,0,51,37],[52,20,52,31],[52,32,52,36],[54,18,54,19],[54,20,54,21],[54,23,54,24],[54,26,54,27],[58,24,58,37],[59,19,59,23],[59,24,59,37],[60,19,60,25],[60,27,60,35],[60,36,60,37],[55,17,60,17],[55,18,60,18],[55,19,55,23],[55,24,55,37],[62,1,62,20],[62,21,62,36],[63,1,64,2],[63,3,63,15],[63,16,63,20],[63,21,64,36],[64,3,64,4],[64,5,64,8],[64,9,64,10],[64,11,64,15],[65,21,66,36],[66,3,66,4],[66,5,66,8],[66,9,66,10],[66,11,66,15],[66,16,66,20],[64,16,64,20],[65,1,66,2],[65,3,65,4],[65,5,65,8],[65,9,65,10],[65,11,65,15],[65,16,65,20],[67,21,68,36],[68,3,68,4],[68,5,68,8],[68,9,68,10],[68,11,68,15],[68,16,68,20],[67,1,68,2],[67,3,67,4],[67,5,67,8],[67,9,67,10],[67,11,67,15],[67,16,67,20],[69,21,70,36],[70,3,70,4],[70,5,70,8],[70,9,70,10],[70,11,70,15],[70,16,70,20],[69,1,70,2],[69,3,69,4],[69,5,69,8],[69,9,69,10],[69,11,69,15],[69,16,69,20],[71,21,72,36],[72,3,72,4],[72,5,72,8],[72,9,72,10],[72,11,72,15],[72,16,72,20],[71,1,72,2],[71,3,71,4],[71,5,71,8],[71,9,71,10],[71,11,71,15],[71,16,71,20],[73,21,74,36],[74,3,74,4],[74,5,74,8],[74,9,74,10],[74,11,74,15],[74,16,74,20],[73,1,74,2],[73,3,73,4],[73,5,73,8],[73,9,73,10],[73,11,73,15],[73,16,73,20],[75,21,76,36],[76,3,76,4],[76,5,76,8],[76,9,76,10],[76,11,76,15],[76,16,76,20],[75,1,76,2],[75,3,75,4],[75,5,75,8],[75,9,75,10],[75,11,75,15],[75,16,75,20],[77,21,78,36],[78,3,78,4],[78,5,78,8],[78,9,78,10],[78,11,78,15],[78,16,78,20],[77,1,78,2],[77,3,77,4],[77,5,77,8],[77,9,77,10],[77,11,77,15],[77,16,77,20],[79,21,80,36],[80,3,80,4],[80,5,80,8],[80,9,80,10],[80,11,80,15],[80,16,80,20],[79,1,80,2],[79,3,79,4],[79,5,79,8],[79,9,79,10],[79,11,79,15],[79,16,79,20],[81,21,82,36],[82,3,82,4],[82,5,82,8],[82,9,82,10],[82,11,82,15],[82,16,82,20],[81,1,82,2],[81,3,81,4],[81,5,81,8],[81,9,81,10],[81,11,81,15],[81,16,81,20],[83,21,84,36],[84,3,84,4],[84,5,84,8],[84,9,84,10],[84,11,84,15],[84,16,84,20],[83,1,84,2],[83,3,83,4],[83,5,83,8],[83,9,83,10],[83,11,83,15],[83,16,83,20],[85,21,86,36],[86,3,86,4],[86,5,86,8],[86,9,86,10],[86,11,86,15],[86,16,86,20],[85,1,86,2],[85,3,85,4],[85,5,85,8],[85,9,85,10],[85,11,85,15],[85,16,85,20],[87,21,88,36],[88,3,88,4],[88,5,88,8],[88,9,88,10],[88,11,88,15],[88,16,88,20],[87,1,88,2],[87,3,87,4],[87,5,87,8],[87,9,87,10],[87,11,87,15],[87,16,87,20],[89,21,90,36],[90,3,90,4],[90,5,90,8],[90,9,90,10],[90,11,90,15],[90,16,90,20],[89,1,90,2],[89,3,89,4],[89,5,89,8],[89,9,89,10],[89,11,89,15],[89,16,89,20],[91,21,92,36],[92,3,92,4],[92,5,92,8],[92,9,92,10],[92,11,92,15],[92,16,92,20],[91,1,92,2],[91,3,91,4],[91,5,91,8],[91,9,91,10],[91,11,91,15],[91,16,91,20],[96,19,96,36],[100,18,100,21],[102,18,102,21],[104,18,104,21],[106,0,106,37],[107,20,107,31],[107,32,107,36],[93,21,94,36],[94,3,94,4],[94,5,94,8],[94,9,94,10],[94,11,94,15],[94,16,94,20],[93,1,94,2],[93,3,93,4],[93,5,93,8],[93,9,93,10],[93,11,93,15],[93,16,93,20],[109,18,109,19],[109,20,109,21],[109,23,109,24],[109,26,109,27],[110,17,115,17],[110,18,115,18],[110,19,110,23],[110,24,110,37],[115,19,115,25],[115,27,115,35],[111,1,114,16],[111,19,111,23],[111,24,111,37],[112,19,112,23],[112,24,112,37],[113,19,113,23],[113,24,113,37],[114,19,114,23],[114,24,114,37],[115,36,115,37],[117,1,118,2],[117,3,117,15],[117,16,117,20],[117,21,118,25],[117,26,118,28],[117,29,117,32],[117,33,118,36],[118,3,118,4],[118,5,118,8],[118,9,118,10],[118,11,118,15],[118,16,118,20],[118,29,118,30],[118,31,118,32],[119,1,120,2],[119,3,119,4],[119,5,119,8],[119,9,119,10],[119,11,119,15],[119,33,120,36],[120,3,120,4],[120,5,120,8],[120,9,120,10],[120,11,120,15],[120,16,120,20],[119,16,119,20],[119,21,120,25],[119,26,120,28],[119,29,120,30],[119,31,120,31],[119,32,120,32],[121,21,122,25],[121,26,122,28],[121,29,122,30],[121,31,122,31],[121,32,122,32],[121,33,122,36],[121,1,122,2],[121,3,121,4],[121,5,121,8],[121,9,121,10],[121,11,121,15],[121,16,121,20],[122,3,122,4],[122,5,122,8],[122,9,122,10],[122,11,122,15],[122,16,122,20],[123,1,124,2],[123,3,123,4],[123,5,123,8],[123,9,123,10],[123,11,123,15],[123,16,123,20],[124,3,124,4],[124,5,124,8],[124,9,124,10],[125,21,126,25],[125,26,126,28],[125,29,126,30],[125,31,126,31],[125,32,126,32],[125,33,126,36],[124,11,124,15],[124,16,124,20],[125,1,126,2],[125,3,125,4],[125,5,125,8],[125,9,125,10],[125,11,125,15],[125,16,125,20],[126,3,126,4],[126,5,126,8],[123,21,124,25],[123,26,124,28],[123,29,124,30],[123,31,124,31],[123,32,124,32],[123,33,124,36],[126,9,126,10],[126,11,126,15],[126,16,126,20],[127,1,128,2],[127,3,127,4],[127,5,127,8],[127,9,127,10],[127,11,127,15],[127,16,127,20],[128,3,128,4],[129,21,130,25],[129,26,130,28],[129,29,130,30],[129,31,130,31],[129,32,130,32],[129,33,130,36],[128,5,128,8],[128,9,128,10],[128,11,128,15],[128,16,128,20],[129,5,129,8],[129,9,129,10],[129,11,129,15],[129,16,129,20],[127,21,128,25],[127,26,128,28],[127,29,128,30],[127,31,128,31],[127,32,128,32],[127,33,128,36],[130,3,130,4],[130,5,130,8],[130,9,130,10],[130,11,130,15],[130,16,130,20],[131,1,132,2],[131,3,131,4],[131,5,131,8],[131,9,131,10],[131,11,131,15],[129,1,130,2],[129,3,129,4],[131,33,132,36],[132,3,132,4],[132,5,132,8],[132,9,132,10],[132,11,132,15],[132,16,132,20],[131,16,131,20],[131,21,132,25],[131,26,132,28],[131,29,132,30],[131,31,132,31],[131,32,132,32],[133,21,134,25],[133,26,134,28],[133,29,134,30],[133,31,134,31],[133,32,134,32],[133,33,134,36],[133,1,134,2],[133,3,133,4],[133,5,133,8],[133,9,133,10],[133,11,133,15],[133,16,133,20],[134,3,134,4],[134,5,134,8],[134,9,134,10],[134,11,134,15],[134,16,134,20],[135,1,136,2],[135,3,135,4],[135,5,135,8],[135,9,135,10],[135,11,135,15],[135,16,135,20],[136,3,136,4],[136,5,136,8],[136,9,136,10],[137,21,138,25],[137,26,138,28],[137,29,138,30],[137,31,138,31],[137,32,138,32],[137,33,138,36],[136,11,136,15],[136,16,136,20],[137,1,138,2],[137,3,137,4],[137,5,137,8],[137,9,137,10],[137,11,137,15],[137,16,137,20],[138,3,138,4],[138,5,138,8],[135,21,136,25],[135,26,136,28],[135,29,136,30],[135,31,136,31],[135,32,136,32],[135,33,136,36],[138,9,138,10],[138,11,138,15],[138,16,138,20],[139,1,140,2],[139,3,139,4],[139,5,139,8],[139,9,139,10],[139,11,139,15],[139,16,139,20],[140,3,140,4],[141,21,142,25],[141,26,142,28],[141,29,142,30],[141,31,142,31],[141,32,142,32],[141,33,142,36],[140,5,140,8],[140,9,140,10],[140,11,140,15],[140,16,140,20],[141,5,141,8],[141,9,141,10],[141,11,141,15],[141,16,141,20],[139,21,140,25],[139,26,140,28],[139,29,140,30],[139,31,140,31],[139,32,140,32],[139,33,140,36],[142,3,142,4],[142,5,142,8],[142,9,142,10],[142,11,142,15],[142,16,142,20],[143,1,144,2],[143,3,143,4],[143,5,143,8],[143,9,143,10],[143,11,143,15],[141,1,142,2],[141,3,141,4],[143,33,144,36],[144,3,144,4],[144,5,144,8],[144,9,144,10],[144,11,144,15],[144,16,144,20],[143,16,143,20],[143,21,144,25],[143,26,144,28],[143,29,144,30],[143,31,144,31],[143,32,144,32],[145,21,146,25],[145,26,146,28],[145,29,146,30],[145,31,146,31],[145,32,146,32],[145,33,146,36],[145,1,146,2],[145,3,145,4],[145,5,145,8],[145,9,145,10],[145,11,145,15],[145,16,145,20],[146,3,146,4],[146,5,146,8],[146,9,146,10],[146,11,146,15],[146,16,146,20],[147,1,148,2],[147,3,147,4],[147,5,147,8],[147,9,147,10],[147,11,147,15],[147,16,147,20],[148,3,148,4],[148,5,148,8],[148,9,148,10],[148,11,148,15],[148,16,148,20],[150,17,154,18],[151,19,151,36],[152,19,152,36],[147,21,148,25],[147,26,148,28],[147,29,148,30],[147,31,148,31],[147,32,148,32],[147,33,148,36]]}
["様式1-(1)",null,null,null,null,null,null,null,null,null,null,null,null,null,null,null,null,null,null,null,null,null,null,null,null,null,null,null,null,null,null,"(査定協会提出用)"]
["商品中古自動車証明申請書",null,null,null,null,null,null,null,null,null,null,null,null,null,null,null,null,null,null,null,null,null,null,null,null,null,null,null,null,null,null,null,null,null,null,null,null,null,null,null,null,null,null,null,null,null,null,null,"記入箇所"]
[null,null,null,null,null,null,null,null,null,null,null,null,null,null,null,null,null,null,null,null,"（企業コード番号　　　　　　　　　　　　）",null,null,null,null,null,null,null,null,null,null,null,"（14枚目）"]
[]
[null,"一般財団法人　日本自動車査定協会",null,null,null,null,null,null,null,null,null,null,null,null,null,null,null,null,"令和",null,{"$f":"'1枚目'!U5","v":0},null,"年",{"$f":"'1枚目'!X5","v":0},null,"月",{"$f":"'1枚目'!AA5","v":0},null,"日"]
[null,"　　　　　　　　　　　　　　　京都府支所長　　様",null,null,null,null,null,null,null,null,null,null,null,null,null,null,null,"申請者","（登録名義人）","住所(所在地)",null,null,null,null,{"$f":"'1枚目'!Y6","v":0}]
[null,"　商品中古自動車確認証明業務実施要領に基づき下記の自動車が商品中古自動車であることの証明を申請します。\n　なお、下記の自動車が商品自動車であること及び記載事項に相違ないこと並びに現地調査が行われる場合には協力することを確約いたします。",null,null,null,null,null,null,null,null,null,null,null,null,null,null,null,null,null,"氏名(名称)",null,null,null,null,{"$f":"'1枚目'!Y7","v":0}]
[null,null,null,null,null,null,null,null,null,null,null,null,null,null,null,null,null,null,null,"代表者名",null,null,null,null,{"$f":"'1枚目'!Y8","v":0}]
[null,null,null,null,null,null,null,null,null,null,null,null,null,null,null,null,null,null,null,"電話番号",null,null,null,null,{"$f":"'1枚目'!Y9","v":0}]
[null,null,null,null,null,null,null,null,null,null,null,null,null,null,null,null,null,null,null,"担当者名",null,null,null,null,{"$f":"'1枚目'!Y10","v":0}]
[null,null,null,null,null,null,null,null,null,null,null,null,null,null,null,null,null,null,null,"古物商許可番号",null,null,null,null,null,null,"第",{"$f":"'1枚目'!AB11","v":0},null,null,null,null,null,null,null,null,"号"]
[]
[null,"NO.",null,"登録番号",null,null,null,null,null,null,null,null,null,null,null,null,"車台番号",null,null,null,null,"登録\n年月日",null,null,null,null,"展示場",null,null,"調査",null,null,null,"備考"]
[null,null,null,"区分",null,"車種",null,null,null,"かな",null,"番号",null,null,null,null,"(下3ｹﾀ)",null,null,null,null,null,null,null,null,null,null,null,null,"月日",null,"結果"]
[null,196,null,null,null,null,null,null,null,null,null,null,null,null,null,null,null,null,null,null,null,null,null,null,null,null,null,null,null,null,null,"現","帳"]
[null,null,null,"京都"]
[null,197,null,null,null,null,null,null,null,null,null,null,null,null,null,null,null,null,null,null,null,null,null,null,null,null,null,null,null,null,null,"現","帳"]
[null,null,null,"京都"]
[null,198,null,null,null,null,null,null,null,null,null,null,null,null,null,null,null,null,null,null,null,null,null,null,null,null,null,null,null,null,null,"現","帳"]
[null,null,null,"京都"]
[null,199,null,null,null,null,null,null,null,null,null,null,null,null,null,null,null,null,null,null,null,null,null,null,null,null,null,null,null,null,null,"現","帳"]
[null,null,null,"京都"]
[null,200,null,null,null,null,null,null,null,null,null,null,null,null,null,null,null,null,null,null,null,null,null,null,null,null,null,null,null,null,null,"現","帳"]
[null,null,null,"京都"]
[null,201,null,null,null,null,null,null,null,null,null,null,null,null,null,null,null,null,null,null,null,null,null,null,null,null,null,null,null,null,null,"現","帳"]
[null,null,null,"京都"]
[null,202,null,null,null,null,null,null,null,null,null,null,null,null,null,null,null,null,null,null,null,null,null,null,null,null,null,null,null,null,null,"現","帳"]
[null,null,null,"京都"]
[null,203,null,null,null,null,null,null,null,null,null,null,null,null,null,null,null,null,null,null,null,null,null,null,null,null,null,null,null,null,null,"現","帳"]
[null,null,null,"京都"]
[null,204,null,null,null,null,null,null,null,null,null,null,null,null,null,null,null,null,null,null,null,null,null,null,null,null,null,null,null,null,null,"現","帳"]
[null,null,null,"京都"]
[null,205,null,null,null,null,null,null,null,null,null,null,null,null,null,null,null,null,null,null,null,null,null,null,null,null,null,null,null,null,null,"現","帳"]
[null,null,null,"京都"]
[null,206,null,null,null,null,null,null,null,null,null,null,null,null,null,null,null,null,null,null,null,null,null,null,null,null,null,null,null,null,null,"現","帳"]
[null,null,null,"京都"]
[null,207,null,null,null,null,null,null,null,null,null,null,null,null,null,null,null,null,null,null,null,null,null,null,null,null,null,null,null,null,null,"現","帳"]
[null,null,null,"京都"]
[null,208,null,null,null,null,null,null,null,null,null,null,null,null,null,null,null,null,null,null,null,null,null,null,null,null,null,null,null,null,null,"現","帳"]
[null,null,null,"京都"]
[null,209,null,null,null,null,null,null,null,null,null,null,null,null,null,null,null,null,null,null,null,null,null,null,null,null,null,null,null,null,null,"現","帳"]
[null,null,null,"京都"]
[null,210,null,null,null,null,null,null,null,null,null,null,null,null,null,null,null,null,null,null,null,null,null,null,null,null,null,null,null,null,null,"現","帳"]
[null,null,null,"京都"]
[]
[null,null,null,null,null,null,null,null,null,null,null,null,null,null,null,null,null,"誓約事項"]
[null,null,null,null,null,null,null,null,null,null,null,null,null,null,null,null,null,null,null,"申請する自動車には、取得時の登録事由が新規登"]
[null,null,null,null,null,null,null,null,null,null,null,null,null,null,null,null,null,null,null,"録（新車・中古車とも）のものを含みません。"]
[]
[null,null,null,null,null,null,null,null,null,null,null,null,null,null,null,null,null,null,null,null,null,"担当者署名欄"]
["様式1-(2)",null,null,null,null,null,null,null,null,null,null,null,null,null,null,null,null,null,null,null,null,null,null,null,null,null,null,"(自動車税管理事務所提出用)"]
["商品中古自動車の自動車税の種別割減免申請書"]
[null,null,null,null,null,null,null,null,null,null,null,null,null,null,null,null,null,null,null,null,"（企業コード番号　　　　　　　　　　　　）",null,null,null,null,null,null,null,null,null,null,null,{"$f":"AG3","v":"（14枚目）"}]
[]
[null,"京都府自動車税管理事務所長　様",null,null,null,null,null,null,null,null,null,null,null,null,null,null,null,null,"令和",null,{"$f":"U5","v":0},null,"年",{"$f":"X5","v":0},null,"月",{"$f":"AA5","v":0},null,"日"]
[null,null,null,null,null,null,null,null,null,null,null,null,null,null,null,null,null,"申請者","（登録名義人）","住所(所在地)",null,null,null,null,{"$f":"Y6","v":0}]
[null,"　   京都府府税条例第70条第2項の規定に基づき、\n  下記のとおり申請します。",null,null,null,null,null,null,null,null,null,null,null,null,null,null,null,null,null,"氏名(名称)",null,null,null,null,{"$f":"Y7","v":0}]
[null,null,null,null,null,null,null,null,null,null,null,null,null,null,null,null,null,null,null,"代表者名",null,null,null,null,{"$f":"Y8","v":0}]
[null,null,null,null,null,null,null,null,null,null,null,null,null,null,null,null,null,null,null,"電話番号",null,null,null,null,{"$f":"Y9","v":0}]
[null,null,null,null,null,null,null,null,null,null,null,null,null,null,null,null,null,null,null,"担当者名",null,null,null,null,{"$f":"Y10","v":0}]
[null,null,null,null,null,null,null,null,null,null,null,null,null,null,null,null,null,null,null,"古物商許可番号",null,null,null,null,null,null,"第",{"$f":"AB11","v":0},null,null,null,null,null,null,null,null,"号"]
[]
[null,"減　免　対　象　自　動　車　の　総　台　数",null,null,null,null,null,null,null,null,null,null,null,null,null,null,null,null,null,null,null,"台"]
[null,"NO.",null,"登録番号",null,null,null,null,null,null,null,null,null,null,null,null,"車台番号",null,null,null,null,"備　　　　　考"]
[null,null,null,"区分",null,"車種",null,null,null,"かな",null,"番号",null,null,null,null,"(下3ｹﾀ)"]
[null,{"$f":"B15","v":196}]
[null,null,null,{"$f":"D16","v":"京都"},null,null,null,null,null,{"$f":"J16","v":0}]
[null,{"$f":"B17","v":197}]
[null,null,null,{"$f":"D18","v":"京都"},null,{"$f":"F18","v":0},null,null,null,{"$f":"J18","v":0},null,{"$f":"L18","v":0},null,null,null,null,{"$f":"Q18","v":0}]
[null,{"$f":"B19","v":198}]
[null,null,null,{"$f":"D20","v":"京都"},null,{"$f":"F20","v":0},null,null,null,{"$f":"J20","v":0},null,{"$f":"L20","v":0},null,null,null,null,{"$f":"Q20","v":0}]
[null,{"$f":"B21","v":199}]
[null,null,null,{"$f":"D22","v":"京都"},null,{"$f":"F22","v":0},null,null,null,{"$f":"J22","v":0},null,{"$f":"L22","v":0},null,null,null,null,{"$f":"Q22","v":0}]
[null,{"$f":"B23","v":200}]
[null,null,null,{"$f":"D24","v":"京都"},null,{"$f":"F24","v":0},null,null,null,{"$f":"J24","v":0},null,{"$f":"L24","v":0},null,null,null,null,{"$f":"Q24","v":0}]
[null,{"$f":"B25","v":201}]
[null,null,null,{"$f":"D26","v":"京都"},null,{"$f":"F26","v":0},null,null,null,{"$f":"J26","v":0},null,{"$f":"L26","v":0},null,null,null,null,{"$f":"Q26","v":0}]
[null,{"$f":"B27","v":202}]
[null,null,null,{"$f":"D28","v":"京都"},null,{"$f":"F28","v":0},null,null,null,{"$f":"J28","v":0},null,{"$f":"L28","v":0},null,null,null,null,{"$f":"Q28","v":0}]
[null,{"$f":"B29","v":203}]
[null,null,null,{"$f":"D30","v":"京都"},null,{"$f":"F30","v":0},null,null,null,{"$f":"J30","v":0},null,{"$f":"L30","v":0},null,null,null,null,{"$f":"Q30","v":0}]
[null,{"$f":"B31","v":204}]
[null,null,null,{"$f":"D32","v":"京都"},null,{"$f":"F32","v":0},null,null,null,{"$f":"J32","v":0},null,{"$f":"L32","v":0},null,null,null,null,{"$f":"Q32","v":0}]
[null,{"$f":"B33","v":205}]
[null,null,null,{"$f":"D34","v":"京都"},null,{"$f":"F34","v":0},null,null,null,{"$f":"J34","v":0},null,{"$f":"L34","v":0},null,null,null,null,{"$f":"Q34","v":0}]
[null,{"$f":"B35","v":206}]
[null,null,null,{"$f":"D36","v":"京都"},null,{"$f":"F36","v":0},null,null,null,{"$f":"J36","v":0},null,{"$f":"L36","v":0},null,null,null,null,{"$f":"Q36","v":0}]
[null,{"$f":"B37","v":207}]
[null,null,null,{"$f":"D38","v":"京都"},null,{"$f":"F38","v":0},null,null,null,{"$f":"J38","v":0},null,{"$f":"L38","v":0},null,null,null,null,{"$f":"Q38","v":0}]
[null,{"$f":"B39","v":208}]
[null,null,null,{"$f":"D40","v":"京都"},null,{"$f":"F40","v":0},null,null,null,{"$f":"J40","v":0},null,{"$f":"L40","v":0},null,null,null,null,{"$f":"Q40","v":0}]
[null,{"$f":"B41","v":209}]
[null,null,null,{"$f":"D42","v":"京都"},null,{"$f":"F42","v":0},null,null,null,{"$f":"J42","v":0},null,{"$f":"L42","v":0},null,null,null,null,{"$f":"Q42","v":0}]
[null,{"$f":"B43","v":210}]
[null,null,null,{"$f":"D44","v":"京都"},null,{"$f":"F44","v":0},null,null,null,{"$f":"J44","v":0},null,{"$f":"L44","v":0},null,null,null,null,{"$f":"Q44","v":0}]
[]
[null,null,null,null,null,null,null,null,null,null,null,null,null,null,null,null,null,null,null,"　上記は、商品中古自動車確認証明業務実施要領\nに定める商品中古自動車であることを証明する。"]
[]
[null,null,null,null,null,null,null,null,null,null,null,null,null,null,null,null,null,null,null,null,"令和　　　年　　　月　　　日"]
[]
[null,null,null,null,null,null,null,null,null,null,null,null,null,null,null,null,null,null,"住　　所"]
[]
[null,null,null,null,null,null,null,null,null,null,null,null,null,null,null,null,null,null,"支 所 名"]
[]
[null,null,null,null,null,null,null,null,null,null,null,null,null,null,null,null,null,null,"代表者名",null,null,null,null,null,null,null,null,null,null,null,null,null,null,null,null,null,"㊞"]
["様式1-(3)",null,null,null,null,null,null,null,null,null,null,null,null,null,null,null,null,null,null,null,null,null,null,null,null,null,null,null,null,null,null,null,null,"(申請者控)"]
["商品中古自動車証明申請書"]
[null,null,null,null,null,null,null,null,null,null,null,null,null,null,null,null,null,null,null,null,"（企業コード番号　　　　　　　　　　　　）",null,null,null,null,null,null,null,null,null,null,null,{"$f":"AG3","v":"（14枚目）"}]
[]
[null,"一般財団法人　日本自動車査定協会",null,null,null,null,null,null,null,null,null,null,null,null,null,null,null,null,"令和",null,{"$f":"U5","v":0},null,"年",{"$f":"X5","v":0},null,"月",{"$f":"AA5","v":0},null,"日"]
[null,"　　　　　　　　　　　　　　　京都府支所長　　様",null,null,null,null,null,null,null,null,null,null,null,null,null,null,null,"申請者","（登録名義人）","住所(所在地)",null,null,null,null,{"$f":"Y6","v":0}]
[null,"　商品中古自動車確認証明業務実施要領に基づき下記の自動車が商品中古自動車であることの証明を申請します。\n　なお、下記の自動車が商品自動車であること及び記載事項に相違ないこと並びに現地調査が行われる場合には協力することを確約いたします。",null,null,null,null,null,null,null,null,null,null,null,null,null,null,null,null,null,"氏名(名称)",null,null,null,null,{"$f":"Y7","v":0}]
[null,null,null,null,null,null,null,null,null,null,null,null,null,null,null,null,null,null,null,"代表者名",null,null,null,null,{"$f":"Y8","v":0}]
[null,null,null,null,null,null,null,null,null,null,null,null,null,null,null,null,null,null,null,"電話番号",null,null,null,null,{"$f":"Y9","v":0}]
[null,null,null,null,null,null,null,null,null,null,null,null,null,null,null,null,null,null,null,"担当者名",null,null,null,null,{"$f":"Y10","v":0}]
[null,null,null,null,null,null,null,null,null,null,null,null,null,null,null,null,null,null,null,"古物商許可番号",null,null,null,null,null,null,"第",{"$f":"AB11","v":0},null,null,null,null,null,null,null,null,"号"]
[]
[null,"NO.",null,"登録番号",null,null,null,null,null,null,null,null,null,null,null,null,"車台番号",null,null,null,null,"登録\n年月日",null,null,null,null,"展示場",null,null,"調査",null,null,null,"備考"]
[null,null,null,"区分",null,"車種",null,null,null,"かな",null,"番号",null,null,null,null,"(下3ｹﾀ)",null,null,null,null,null,null,null,null,null,null,null,null,"月日",null,"結果"]
[null,{"$f":"B15","v":196},null,null,null,null,null,null,null,null,null,null,null,null,null,null,null,null,null,null,null,{"$f":"V15","v":"00:00:00"},null,null,null,null,{"$f":"AA15","v":0},null,null,null,null,"現","帳"]
[null,null,null,{"$f":"D16","v":"京都"},null,{"$f":"F16","v":0},null,null,null,{"$f":"J16","v":0},null,{"$f":"L16","v":0},null,null,null,null,{"$f":"Q16","v":0}]
[null,{"$f":"B17","v":197},null,null,null,null,null,null,null,null,null,null,null,null,null,null,null,null,null,null,null,{"$f":"V17","v":"00:00:00"},null,null,null,null,{"$f":"AA17","v":0},null,null,null,null,"現","帳"]
[null,null,null,{"$f":"D18","v":"京都"},null,{"$f":"F18","v":0},null,null,null,{"$f":"J18","v":0},null,{"$f":"L18","v":0},null,null,null,null,{"$f":"Q18","v":0}]
[null,{"$f":"B19","v":198},null,null,null,null,null,null,null,null,null,null,null,null,null,null,null,null,null,null,null,{"$f":"V19","v":"00:00:00"},null,null,null,null,{"$f":"AA19","v":0},null,null,null,null,"現","帳"]
[null,null,null,{"$f":"D20","v":"京都"},null,{"$f":"F20","v":0},null,null,null,{"$f":"J20","v":0},null,{"$f":"L20","v":0},null,null,null,null,{"$f":"Q20","v":0}]
[null,{"$f":"B21","v":199},null,null,null,null,null,null,null,null,null,null,null,null,null,null,null,null,null,null,null,{"$f":"V21","v":"00:00:00"},null,null,null,null,{"$f":"AA21","v":0},null,null,null,null,"現","帳"]
[null,null,null,{"$f":"D22","v":"京都"},null,{"$f":"F22","v":0},null,null,null,{"$f":"J22","v":0},null,{"$f":"L22","v":0},null,null,null,null,{"$f":"Q22","v":0}]
[null,{"$f":"B23","v":200},null,null,null,null,null,null,null,null,null,null,null,null,null,null,null,null,null,null,null,{"$f":"V23","v":"00:00:00"},null,null,null,null,{"$f":"AA23","v":0},null,null,null,null,"現","帳"]
[null,null,null,{"$f":"D24","v":"京都"},null,{"$f":"F24","v":0},null,null,null,{"$f":"J24","v":0},null,{"$f":"L24","v":0},null,null,null,null,{"$f":"Q24","v":0}]
[null,{"$f":"B25","v":201},null,null,null,null,null,null,null,null,null,null,null,null,null,null,null,null,null,null,null,{"$f":"V25","v":"00:00:00"},null,null,null,null,{"$f":"AA25","v":0},null,null,null,null,"現","帳"]
[null,null,null,{"$f":"D26","v":"京都"},null,{"$f":"F26","v":0},null,null,null,{"$f":"J26","v":0},null,{"$f":"L26","v":0},null,null,null,null,{"$f":"Q26","v":0}]
[null,{"$f":"B27","v":202},null,null,null,null,null,null,null,null,null,null,null,null,null,null,null,null,null,null,null,{"$f":"V27","v":"00:00:00"},null,null,null,null,{"$f":"AA27","v":0},null,null,null,null,"現","帳"]
[null,null,null,{"$f":"D28","v":"京都"},null,{"$f":"F28","v":0},null,null,null,{"$f":"J28","v":0},null,{"$f":"L28","v":0},null,null,null,null,{"$f":"Q28","v":0}]
[null,{"$f":"B29","v":203},null,null,null,null,null,null,null,null,null,null,null,null,null,null,null,null,null,null,null,{"$f":"V29","v":"00:00:00"},null,null,null,null,{"$f":"AA29","v":0},null,null,null,null,"現","帳"]
[null,null,null,{"$f":"D30","v":"京都"},null,{"$f":"F30","v":0},null,null,null,{"$f":"J30","v":0},null,{"$f":"L30","v":0},null,null,null,null,{"$f":"Q30","v":0}]
[null,{"$f":"B31","v":204},null,null,null,null,null,null,null,null,null,null,null,null,null,null,null,null,null,null,null,{"$f":"V31","v":"00:00:00"},null,null,null,null,{"$f":"AA31","v":0},null,null,null,null,"現","帳"]
[null,null,null,{"$f":"D32","v":"京都"},null,{"$f":"F32","v":0},null,null,null,{"$f":"J32","v":0},null,{"$f":"L32","v":0},null,null,null,null,{"$f":"Q32","v":0}]
[null,{"$f":"B33","v":205},null,null,null,null,null,null,null,null,null,null,null,null,null,null,null,null,null,null,null,{"$f":"V33","v":"00:00:00"},null,null,null,null,{"$f":"AA33","v":0},null,null,null,null,"現","帳"]
[null,null,null,{"$f":"D34","v":"京都"},null,{"$f":"F34","v":0},null,null,null,{"$f":"J34","v":0},null,{"$f":"L34","v":0},null,null,null,null,{"$f":"Q34","v":0}]
[null,{"$f":"B35","v":206},null,null,null,null,null,null,null,null,null,null,null,null,null,null,null,null,null,null,null,{"$f":"V35","v":"00:00:00"},null,null,null,null,{"$f":"AA35","v":0},null,null,null,null,"現","帳"]
[null,null,null,{"$f":"D36","v":"京都"},null,{"$f":"F36","v":0},null,null,null,{"$f":"J36","v":0},null,{"$f":"L36","v":0},null,null,null,null,{"$f":"Q36","v":0}]
[null,{"$f":"B37","v":207},null,null,null,null,null,null,null,null,null,null,null,null,null,null,null,null,null,null,null,{"$f":"V37","v":"00:00:00"},null,null,null,null,{"$f":"AA37","v":0},null,null,null,null,"現","帳"]
[null,null,null,{"$f":"D38","v":"京都"},null,{"$f":"F38","v":0},null,null,null,{"$f":"J38","v":0},null,{"$f":"L38","v":0},null,null,null,null,{"$f":"Q38","v":0}]
[null,{"$f":"B39","v":208},null,null,null,null,null,null,null,null,null,null,null,null,null,null,null,null,null,null,null,{"$f":"V39","v":"00:00:00"},null,null,null,null,{"$f":"AA39","v":0},null,null,null,null,"現","帳"]
[null,null,null,{"$f":"D40","v":"京都"},null,{"$f":"F40","v":0},null,null,null,{"$f":"J40","v":0},null,{"$f":"L40","v":0},null,null,null,null,{"$f":"Q40","v":0}]
[null,{"$f":"B41","v":209},null,null,null,null,null,null,null,null,null,null,null,null,null,null,null,null,null,null,null,{"$f":"V41","v":"00:00:00"},null,null,null,null,{"$f":"AA41","v":0},null,null,null,null,"現","帳"]
[null,null,null,{"$f":"D42","v":"京都"},null,{"$f":"F42","v":0},null,null,null,{"$f":"J42","v":0},null,{"$f":"L42","v":0},null,null,null,null,{"$f":"Q42","v":0}]
[null,{"$f":"B43","v":210},null,null,null,null,null,null,null,null,null,null,null,null,null,null,null,null,null,null,null,{"$f":"V43","v":"00:00:00"},null,null,null,null,{"$f":"AA43","v":0},null,null,null,null,"現","帳"]
[null,null,null,{"$f":"D44","v":"京都"},null,{"$f":"F44","v":0},null,null,null,{"$f":"J44","v":0},null,{"$f":"L44","v":0},null,null,null,null,{"$f":"Q44","v":0}]
[]
[null,null,null,null,null,null,null,null,null,null,null,null,null,null,null,null,null,"誓約事項"]
[null,null,null,null,null,null,null,null,null,null,null,null,null,null,null,null,null,null,null,"申請する自動車には、取得時の登録事由が新規登"]
[null,null,null,null,null,null,null,null,null,null,null,null,null,null,null,null,null,null,null,"録（新車・中古車とも）のものを含みません。"]
[]
[null,null,null,null,null,null,null,null,null,null,null,null,null,null,null,null,null,null,null,null,null,"担当者署名欄"]

{"sheet":"15枚目","index":15,"n_rows":155,"n_cols":49,"rows_kept":155,"cut":false,"hidden":false,"merged":[[6,1,9,16],[6,19,6,23],[6,24,6,37],[7,19,7,23],[7,24,7,37],[8,19,8,23],[1,0,1,37],[1,48,2,51],[2,20,2,31],[2,32,2,36],[4,18,4,19],[4,20,4,21],[4,23,4,24],[4,26,4,27],[8,24,8,37],[9,19,9,23],[9,24,9,37],[10,19,10,25],[10,27,10,35],[10,36,10,37],[5,17,10,17],[5,18,10,18],[5,19,5,23],[5,24,5,37],[12,33,13,36],[13,3,13,4],[13,5,13,8],[13,9,13,10],[13,11,13,15],[13,16,13,20],[13,29,13,30],[13,31,13,32],[12,1,13,2],[12,3,12,15],[12,16,12,20],[12,21,13,25],[12,26,13,28],[12,29,12,32],[14,21,15,25],[14,26,15,28],[14,29,15,30],[14,31,15,31],[14,32,15,32],[14,33,15,36],[14,1,15,2],[14,3,14,4],[14,5,14,8],[14,9,14,10],[14,11,14,15],[14,16,14,20],[15,3,15,4],[15,5,15,8],[15,9,15,10],[15,11,15,15],[15,16,15,20],[16,1,17,2],[16,3,16,4],[16,5,16,8],[16,9,16,10],[16,11,16,15],[16,16,16,20],[17,3,17,4],[17,5,17,8],[17,9,17,10],[18,21,19,25],[18,26,19,28],[18,29,19,30],[18,31,19,31],[18,32,19,32],[18,33,19,36],[17,11,17,15],[17,16,17,20],[18,1,19,2],[18,3,18,4],[18,5,18,8],[18,9,18,10],[18,11,18,15],[18,16,18,20],[19,3,19,4],[19,5,19,8],[16,21,17,25],[16,26,17,28],[16,29,17,30],[16,31,17,31],[16,32,17,32],[16,33,17,36],[19,9,19,10],[19,11,19,15],[19,16,19,20],[20,1,21,2],[20,3,20,4],[20,5,20,8],[20,9,20,10],[20,11,20,15],[20,16,20,20],[21,3,21,4],[22,21,23,25],[22,26,23,28],[22,29,23,30],[22,31,23,31],[22,32,23,32],[22,33,23,36],[21,5,21,8],[21,9,21,10],[21,11,21,15],[21,16,21,20],[22,5,22,8],[22,9,22,10],[22,11,22,15],[22,16,22,20],[20,21,21,25],[20,26,21,28],[20,29,21,30],[20,31,21,31],[20,32,21,32],[20,33,21,36],[23,3,23,4],[23,5,23,8],[23,9,23,10],[23,11,23,15],[23,16,23,20],[24,1,25,2],[24,3,24,4],[24,5,24,8],[24,9,24,10],[24,11,24,15],[22,1,23,2],[22,3,22,4],[24,33,25,36],[25,3,25,4],[25,5,25,8],[25,9,25,10],[25,11,25,15],[25,16,25,20],[24,16,24,20],[24,21,25,25],[24,26,25,28],[24,29,25,30],[24,31,25,31],[24,32,25,32],[26,21,27,25],[26,26,27,28],[26,29,27,30],[26,31,27,31],[26,32,27,32],[26,33,27,36],[26,1,27,2],[26,3,26,4],[26,5,26,8],[26,9,26,10],[26,11,26,15],[26,16,26,20],[27,3,27,4],[27,5,27,8],[27,9,27,10],[27,11,27,15],[27,16,27,20],[28,1,29,2],[28,3,28,4],[28,5,28,8],[28,9,28,10],[28,11,28,15],[28,16,28,20],[29,3,29,4],[29,5,29,8],[29,9,29,10],[30,21,31,25],[30,26,31,28],[30,29,31,30],[30,31,31,31],[30,32,31,32],[30,33,31,36],[29,11,29,15],[29,16,29,20],[30,1,31,2],[30,3,30,4],[30,5,30,8],[30,9,30,10],[30,11,30,15],[30,16,30,20],[31,3,31,4],[31,5,31,8],[28,21,29,25],[28,26,29,28],[28,29,29,30],[28,31,29,31],[28,32,29,32],[28,33,29,36],[31,9,31,10],[31,11,31,15],[31,16,31,20],[32,1,33,2],[32,3,32,4],[32,5,32,8],[32,9,32,10],[32,11,32,15],[32,16,32,20],[33,3,33,4],[34,21,35,25],[34,26,35,28],[34,29,35,30],[34,31,35,31],[34,32,35,32],[34,33,35,36],[33,5,33,8],[33,9,33,10],[33,11,33,15],[33,16,33,20],[34,5,34,8],[34,9,34,10],[34,11,34,15],[34,16,34,20],[32,21,33,25],[32,26,33,28],[32,29,33,30],[32,31,33,31],[32,32,33,32],[32,33,33,36],[35,3,35,4],[35,5,35,8],[35,9,35,10],[35,11,35,15],[35,16,35,20],[36,1,37,2],[36,3,36,4],[36,5,36,8],[36,9,36,10],[36,11,36,15],[34,1,35,2],[34,3,34,4],[38,5,38,8],[38,9,38,10],[38,11,38,15],[38,16,38,20],[39,3,39,4],[39,5,39,8],[39,9,39,10],[39,11,39,15],[36,33,37,36],[37,3,37,4],[37,5,37,8],[37,9,37,10],[37,11,37,15],[37,16,37,20],[36,16,36,20],[36,21,37,25],[36,26,37,28],[36,29,37,30],[36,31,37,31],[36,32,37,32],[40,21,41,25],[40,26,41,28],[40,29,41,30],[40,31,41,31],[40,32,41,32],[40,33,41,36],[39,16,39,20],[40,1,41,2],[40,3,40,4],[40,5,40,8],[40,9,40,10],[40,11,40,15],[40,16,40,20],[41,3,41,4],[41,5,41,8],[41,9,41,10],[38,21,39,25],[38,26,39,28],[38,29,39,30],[38,31,39,31],[38,32,39,32],[38,33,39,36],[38,1,39,2],[38,3,38,4],[41,11,41,15],[41,16,41,20],[42,1,43,2],[42,3,42,4],[42,5,42,8],[42,9,42,10],[42,11,42,15],[42,16,42,20],[43,3,43,4],[43,5,43,8],[43,9,43,10],[43,11,43,15],[43,16,43,20],[45,17,49,18],[46,19,46,36],[47,19,47,36],[42,21,43,25],[42,26,43,28],[42,29,43,30],[42,31,43,31],[42,32,43,32],[42,33,43,36],[56,1,59,16],[56,19,56,23],[56,24,56,37],[57,19,57,23],[57,24,57,37],[58,19,58,23],[51,0,51,37],[52,20,52,31],[52,32,52,36],[54,18,54,19],[54,20,54,21],[54,23,54,24],[54,26,54,27],[58,24,58,37],[59,19,59,23],[59,24,59,37],[60,19,60,25],[60,27,60,35],[60,36,60,37],[55,17,60,17],[55,18,60,18],[55,19,55,23],[55,24,55,37],[62,1,62,20],[62,21,62,36],[63,1,64,2],[63,3,63,15],[63,16,63,20],[63,21,64,36],[64,3,64,4],[64,5,64,8],[64,9,64,10],[64,11,64,15],[65,21,66,36],[66,3,66,4],[66,5,66,8],[66,9,66,10],[66,11,66,15],[66,16,66,20],[64,16,64,20],[65,1,66,2],[65,3,65,4],[65,5,65,8],[65,9,65,10],[65,11,65,15],[65,16,65,20],[67,21,68,36],[68,3,68,4],[68,5,68,8],[68,9,68,10],[68,11,68,15],[68,16,68,20],[67,1,68,2],[67,3,67,4],[67,5,67,8],[67,9,67,10],[67,11,67,15],[67,16,67,20],[69,21,70,36],[70,3,70,4],[70,5,70,8],[70,9,70,10],[70,11,70,15],[70,16,70,20],[69,1,70,2],[69,3,69,4],[69,5,69,8],[69,9,69,10],[69,11,69,15],[69,16,69,20],[71,21,72,36],[72,3,72,4],[72,5,72,8],[72,9,72,10],[72,11,72,15],[72,16,72,20],[71,1,72,2],[71,3,71,4],[71,5,71,8],[71,9,71,10],[71,11,71,15],[71,16,71,20],[73,21,74,36],[74,3,74,4],[74,5,74,8],[74,9,74,10],[74,11,74,15],[74,16,74,20],[73,1,74,2],[73,3,73,4],[73,5,73,8],[73,9,73,10],[73,11,73,15],[73,16,73,20],[75,21,76,36],[76,3,76,4],[76,5,76,8],[76,9,76,10],[76,11,76,15],[76,16,76,20],[75,1,76,2],[75,3,75,4],[75,5,75,8],[75,9,75,10],[75,11,75,15],[75,16,75,20],[77,21,78,36],[78,3,78,4],[78,5,78,8],[78,9,78,10],[78,11,78,15],[78,16,78,20],[77,1,78,2],[77,3,77,4],[77,5,77,8],[77,9,77,10],[77,11,77,15],[77,16,77,20],[79,21,80,36],[80,3,80,4],[80,5,80,8],[80,9,80,10],[80,11,80,15],[80,16,80,20],[79,1,80,2],[79,3,79,4],[79,5,79,8],[79,9,79,10],[79,11,79,15],[79,16,79,20],[81,21,82,36],[82,3,82,4],[82,5,82,8],[82,9,82,10],[82,11,82,15],[82,16,82,20],[81,1,82,2],[81,3,81,4],[81,5,81,8],[81,9,81,10],[81,11,81,15],[81,16,81,20],[83,21,84,36],[84,3,84,4],[84,5,84,8],[84,9,84,10],[84,11,84,15],[84,16,84,20],[83,1,84,2],[83,3,83,4],[83,5,83,8],[83,9,83,10],[83,11,83,15],[83,16,83,20],[85,21,86,36],[86,3,86,4],[86,5,86,8],[86,9,86,10],[86,11,86,15],[86,16,86,20],[85,1,86,2],[85,3,85,4],[85,5,85,8],[85,9,85,10],[85,11,85,15],[85,16,85,20],[87,21,88,36],[88,3,88,4],[88,5,88,8],[88,9,88,10],[88,11,88,15],[88,16,88,20],[87,1,88,2],[87,3,87,4],[87,5,87,8],[87,9,87,10],[87,11,87,15],[87,16,87,20],[89,21,90,36],[90,3,90,4],[90,5,90,8],[90,9,90,10],[90,11,90,15],[90,16,90,20],[89,1,90,2],[89,3,89,4],[89,5,89,8],[89,9,89,10],[89,11,89,15],[89,16,89,20],[91,21,92,36],[92,3,92,4],[92,5,92,8],[92,9,92,10],[92,11,92,15],[92,16,92,20],[91,1,92,2],[91,3,91,4],[91,5,91,8],[91,9,91,10],[91,11,91,15],[91,16,91,20],[96,19,96,36],[100,18,100,21],[102,18,102,21],[104,18,104,21],[106,0,106,37],[107,20,107,31],[107,32,107,36],[93,21,94,36],[94,3,94,4],[94,5,94,8],[94,9,94,10],[94,11,94,15],[94,16,94,20],[93,1,94,2],[93,3,93,4],[93,5,93,8],[93,9,93,10],[93,11,93,15],[93,16,93,20],[109,18,109,19],[109,20,109,21],[109,23,109,24],[109,26,109,27],[110,17,115,17],[110,18,115,18],[110,19,110,23],[110,24,110,37],[115,19,115,25],[115,27,115,35],[111,1,114,16],[111,19,111,23],[111,24,111,37],[112,19,112,23],[112,24,112,37],[113,19,113,23],[113,24,113,37],[114,19,114,23],[114,24,114,37],[115,36,115,37],[117,1,118,2],[117,3,117,15],[117,16,117,20],[117,21,118,25],[117,26,118,28],[117,29,117,32],[117,33,118,36],[118,3,118,4],[118,5,118,8],[118,9,118,10],[118,11,118,15],[118,16,118,20],[118,29,118,30],[118,31,118,32],[119,1,120,2],[119,3,119,4],[119,5,119,8],[119,9,119,10],[119,11,119,15],[119,33,120,36],[120,3,120,4],[120,5,120,8],[120,9,120,10],[120,11,120,15],[120,16,120,20],[119,16,119,20],[119,21,120,25],[119,26,120,28],[119,29,120,30],[119,31,120,31],[119,32,120,32],[121,21,122,25],[121,26,122,28],[121,29,122,30],[121,31,122,31],[121,32,122,32],[121,33,122,36],[121,1,122,2],[121,3,121,4],[121,5,121,8],[121,9,121,10],[121,11,121,15],[121,16,121,20],[122,3,122,4],[122,5,122,8],[122,9,122,10],[122,11,122,15],[122,16,122,20],[123,1,124,2],[123,3,123,4],[123,5,123,8],[123,9,123,10],[123,11,123,15],[123,16,123,20],[124,3,124,4],[124,5,124,8],[124,9,124,10],[125,21,126,25],[125,26,126,28],[125,29,126,30],[125,31,126,31],[125,32,126,32],[125,33,126,36],[124,11,124,15],[124,16,124,20],[125,1,126,2],[125,3,125,4],[125,5,125,8],[125,9,125,10],[125,11,125,15],[125,16,125,20],[126,3,126,4],[126,5,126,8],[123,21,124,25],[123,26,124,28],[123,29,124,30],[123,31,124,31],[123,32,124,32],[123,33,124,36],[126,9,126,10],[126,11,126,15],[126,16,126,20],[127,1,128,2],[127,3,127,4],[127,5,127,8],[127,9,127,10],[127,11,127,15],[127,16,127,20],[128,3,128,4],[129,21,130,25],[129,26,130,28],[129,29,130,30],[129,31,130,31],[129,32,130,32],[129,33,130,36],[128,5,128,8],[128,9,128,10],[128,11,128,15],[128,16,128,20],[129,5,129,8],[129,9,129,10],[129,11,129,15],[129,16,129,20],[127,21,128,25],[127,26,128,28],[127,29,128,30],[127,31,128,31],[127,32,128,32],[127,33,128,36],[130,3,130,4],[130,5,130,8],[130,9,130,10],[130,11,130,15],[130,16,130,20],[131,1,132,2],[131,3,131,4],[131,5,131,8],[131,9,131,10],[131,11,131,15],[129,1,130,2],[129,3,129,4],[131,33,132,36],[132,3,132,4],[132,5,132,8],[132,9,132,10],[132,11,132,15],[132,16,132,20],[131,16,131,20],[131,21,132,25],[131,26,132,28],[131,29,132,30],[131,31,132,31],[131,32,132,32],[133,21,134,25],[133,26,134,28],[133,29,134,30],[133,31,134,31],[133,32,134,32],[133,33,134,36],[133,1,134,2],[133,3,133,4],[133,5,133,8],[133,9,133,10],[133,11,133,15],[133,16,133,20],[134,3,134,4],[134,5,134,8],[134,9,134,10],[134,11,134,15],[134,16,134,20],[135,1,136,2],[135,3,135,4],[135,5,135,8],[135,9,135,10],[135,11,135,15],[135,16,135,20],[136,3,136,4],[136,5,136,8],[136,9,136,10],[137,21,138,25],[137,26,138,28],[137,29,138,30],[137,31,138,31],[137,32,138,32],[137,33,138,36],[136,11,136,15],[136,16,136,20],[137,1,138,2],[137,3,137,4],[137,5,137,8],[137,9,137,10],[137,11,137,15],[137,16,137,20],[138,3,138,4],[138,5,138,8],[135,21,136,25],[135,26,136,28],[135,29,136,30],[135,31,136,31],[135,32,136,32],[135,33,136,36],[138,9,138,10],[138,11,138,15],[138,16,138,20],[139,1,140,2],[139,3,139,4],[139,5,139,8],[139,9,139,10],[139,11,139,15],[139,16,139,20],[140,3,140,4],[141,21,142,25],[141,26,142,28],[141,29,142,30],[141,31,142,31],[141,32,142,32],[141,33,142,36],[140,5,140,8],[140,9,140,10],[140,11,140,15],[140,16,140,20],[141,5,141,8],[141,9,141,10],[141,11,141,15],[141,16,141,20],[139,21,140,25],[139,26,140,28],[139,29,140,30],[139,31,140,31],[139,32,140,32],[139,33,140,36],[142,3,142,4],[142,5,142,8],[142,9,142,10],[142,11,142,15],[142,16,142,20],[143,1,144,2],[143,3,143,4],[143,5,143,8],[143,9,143,10],[143,11,143,15],[141,1,142,2],[141,3,141,4],[143,33,144,36],[144,3,144,4],[144,5,144,8],[144,9,144,10],[144,11,144,15],[144,16,144,20],[143,16,143,20],[143,21,144,25],[143,26,144,28],[143,29,144,30],[143,31,144,31],[143,32,144,32],[145,21,146,25],[145,26,146,28],[145,29,146,30],[145,31,146,31],[145,32,146,32],[145,33,146,36],[145,1,146,2],[145,3,145,4],[145,5,145,8],[145,9,145,10],[145,11,145,15],[145,16,145,20],[146,3,146,4],[146,5,146,8],[146,9,146,10],[146,11,146,15],[146,16,146,20],[147,1,148,2],[147,3,147,4],[147,5,147,8],[147,9,147,10],[147,11,147,15],[147,16,147,20],[148,3,148,4],[148,5,148,8],[148,9,148,10],[148,11,148,15],[148,16,148,20],[150,17,154,18],[151,19,151,36],[152,19,152,36],[147,21,148,25],[147,26,148,28],[147,29,148,30],[147,31,148,31],[147,32,148,32],[147,33,148,36]]}
["様式1-(1)",null,null,null,null,null,null,null,null,null,null,null,null,null,null,null,null,null,null,null,null,null,null,null,null,null,null,null,null,null,null,"(査定協会提出用)"]
["商品中古自動車証明申請書",null,null,null,null,null,null,null,null,null,null,null,null,null,null,null,null,null,null,null,null,null,null,null,null,null,null,null,null,null,null,null,null,null,null,null,null,null,null,null,null,null,null,null,null,null,null,null,"記入箇所"]
[null,null,null,null,null,null,null,null,null,null,null,null,null,null,null,null,null,null,null,null,"（企業コード番号　　　　　　　　　　　　）",null,null,null,null,null,null,null,null,null,null,null,"（15枚目）"]
[]
[null,"一般財団法人　日本自動車査定協会",null,null,null,null,null,null,null,null,null,null,null,null,null,null,null,null,"令和",null,{"$f":"'1枚目'!U5","v":0},null,"年",{"$f":"'1枚目'!X5","v":0},null,"月",{"$f":"'1枚目'!AA5","v":0},null,"日"]
[null,"　　　　　　　　　　　　　　　京都府支所長　　様",null,null,null,null,null,null,null,null,null,null,null,null,null,null,null,"申請者","（登録名義人）","住所(所在地)",null,null,null,null,{"$f":"'1枚目'!Y6","v":0}]
[null,"　商品中古自動車確認証明業務実施要領に基づき下記の自動車が商品中古自動車であることの証明を申請します。\n　なお、下記の自動車が商品自動車であること及び記載事項に相違ないこと並びに現地調査が行われる場合には協力することを確約いたします。",null,null,null,null,null,null,null,null,null,null,null,null,null,null,null,null,null,"氏名(名称)",null,null,null,null,{"$f":"'1枚目'!Y7","v":0}]
[null,null,null,null,null,null,null,null,null,null,null,null,null,null,null,null,null,null,null,"代表者名",null,null,null,null,{"$f":"'1枚目'!Y8","v":0}]
[null,null,null,null,null,null,null,null,null,null,null,null,null,null,null,null,null,null,null,"電話番号",null,null,null,null,{"$f":"'1枚目'!Y9","v":0}]
[null,null,null,null,null,null,null,null,null,null,null,null,null,null,null,null,null,null,null,"担当者名",null,null,null,null,{"$f":"'1枚目'!Y10","v":0}]
[null,null,null,null,null,null,null,null,null,null,null,null,null,null,null,null,null,null,null,"古物商許可番号",null,null,null,null,null,null,"第",{"$f":"'1枚目'!AB11","v":0},null,null,null,null,null,null,null,null,"号"]
[]
[null,"NO.",null,"登録番号",null,null,null,null,null,null,null,null,null,null,null,null,"車台番号",null,null,null,null,"登録\n年月日",null,null,null,null,"展示場",null,null,"調査",null,null,null,"備考"]
[null,null,null,"区分",null,"車種",null,null,null,"かな",null,"番号",null,null,null,null,"(下3ｹﾀ)",null,null,null,null,null,null,null,null,null,null,null,null,"月日",null,"結果"]
[null,211,null,null,null,null,null,null,null,null,null,null,null,null,null,null,null,null,null,null,null,null,null,null,null,null,null,null,null,null,null,"現","帳"]
[null,null,null,"京都"]
[null,212,null,null,null,null,null,null,null,null,null,null,null,null,null,null,null,null,null,null,null,null,null,null,null,null,null,null,null,null,null,"現","帳"]
[null,null,null,"京都"]
[null,213,null,null,null,null,null,null,null,null,null,null,null,null,null,null,null,null,null,null,null,null,null,null,null,null,null,null,null,null,null,"現","帳"]
[null,null,null,"京都"]
[null,214,null,null,null,null,null,null,null,null,null,null,null,null,null,null,null,null,null,null,null,null,null,null,null,null,null,null,null,null,null,"現","帳"]
[null,null,null,"京都"]
[null,215,null,null,null,null,null,null,null,null,null,null,null,null,null,null,null,null,null,null,null,null,null,null,null,null,null,null,null,null,null,"現","帳"]
[null,null,null,"京都"]
[null,216,null,null,null,null,null,null,null,null,null,null,null,null,null,null,null,null,null,null,null,null,null,null,null,null,null,null,null,null,null,"現","帳"]
[null,null,null,"京都"]
[null,217,null,null,null,null,null,null,null,null,null,null,null,null,null,null,null,null,null,null,null,null,null,null,null,null,null,null,null,null,null,"現","帳"]
[null,null,null,"京都"]
[null,218,null,null,null,null,null,null,null,null,null,null,null,null,null,null,null,null,null,null,null,null,null,null,null,null,null,null,null,null,null,"現","帳"]
[null,null,null,"京都"]
[null,219,null,null,null,null,null,null,null,null,null,null,null,null,null,null,null,null,null,null,null,null,null,null,null,null,null,null,null,null,null,"現","帳"]
[null,null,null,"京都"]
[null,220,null,null,null,null,null,null,null,null,null,null,null,null,null,null,null,null,null,null,null,null,null,null,null,null,null,null,null,null,null,"現","帳"]
[null,null,null,"京都"]
[null,221,null,null,null,null,null,null,null,null,null,null,null,null,null,null,null,null,null,null,null,null,null,null,null,null,null,null,null,null,null,"現","帳"]
[null,null,null,"京都"]
[null,222,null,null,null,null,null,null,null,null,null,null,null,null,null,null,null,null,null,null,null,null,null,null,null,null,null,null,null,null,null,"現","帳"]
[null,null,null,"京都"]
[null,223,null,null,null,null,null,null,null,null,null,null,null,null,null,null,null,null,null,null,null,null,null,null,null,null,null,null,null,null,null,"現","帳"]
[null,null,null,"京都"]
[null,224,null,null,null,null,null,null,null,null,null,null,null,null,null,null,null,null,null,null,null,null,null,null,null,null,null,null,null,null,null,"現","帳"]
[null,null,null,"京都"]
[null,225,null,null,null,null,null,null,null,null,null,null,null,null,null,null,null,null,null,null,null,null,null,null,null,null,null,null,null,null,null,"現","帳"]
[null,null,null,"京都"]
[]
[null,null,null,null,null,null,null,null,null,null,null,null,null,null,null,null,null,"誓約事項"]
[null,null,null,null,null,null,null,null,null,null,null,null,null,null,null,null,null,null,null,"申請する自動車には、取得時の登録事由が新規登"]
[null,null,null,null,null,null,null,null,null,null,null,null,null,null,null,null,null,null,null,"録（新車・中古車とも）のものを含みません。"]
[]
[null,null,null,null,null,null,null,null,null,null,null,null,null,null,null,null,null,null,null,null,null,"担当者署名欄"]
["様式1-(2)",null,null,null,null,null,null,null,null,null,null,null,null,null,null,null,null,null,null,null,null,null,null,null,null,null,null,"(自動車税管理事務所提出用)"]
["商品中古自動車の自動車税の種別割減免申請書"]
[null,null,null,null,null,null,null,null,null,null,null,null,null,null,null,null,null,null,null,null,"（企業コード番号　　　　　　　　　　　　）",null,null,null,null,null,null,null,null,null,null,null,{"$f":"AG3","v":"（15枚目）"}]
[]
[null,"京都府自動車税管理事務所長　様",null,null,null,null,null,null,null,null,null,null,null,null,null,null,null,null,"令和",null,{"$f":"U5","v":0},null,"年",{"$f":"X5","v":0},null,"月",{"$f":"AA5","v":0},null,"日"]
[null,null,null,null,null,null,null,null,null,null,null,null,null,null,null,null,null,"申請者","（登録名義人）","住所(所在地)",null,null,null,null,{"$f":"Y6","v":0}]
[null,"　   京都府府税条例第70条第2項の規定に基づき、\n  下記のとおり申請します。",null,null,null,null,null,null,null,null,null,null,null,null,null,null,null,null,null,"氏名(名称)",null,null,null,null,{"$f":"Y7","v":0}]
[null,null,null,null,null,null,null,null,null,null,null,null,null,null,null,null,null,null,null,"代表者名",null,null,null,null,{"$f":"Y8","v":0}]
[null,null,null,null,null,null,null,null,null,null,null,null,null,null,null,null,null,null,null,"電話番号",null,null,null,null,{"$f":"Y9","v":0}]
[null,null,null,null,null,null,null,null,null,null,null,null,null,null,null,null,null,null,null,"担当者名",null,null,null,null,{"$f":"Y10","v":0}]
[null,null,null,null,null,null,null,null,null,null,null,null,null,null,null,null,null,null,null,"古物商許可番号",null,null,null,null,null,null,"第",{"$f":"AB11","v":0},null,null,null,null,null,null,null,null,"号"]
[]
[null,"減　免　対　象　自　動　車　の　総　台　数",null,null,null,null,null,null,null,null,null,null,null,null,null,null,null,null,null,null,null,"台"]
[null,"NO.",null,"登録番号",null,null,null,null,null,null,null,null,null,null,null,null,"車台番号",null,null,null,null,"備　　　　　考"]
[null,null,null,"区分",null,"車種",null,null,null,"かな",null,"番号",null,null,null,null,"(下3ｹﾀ)"]
[null,{"$f":"B15","v":211}]
[null,null,null,{"$f":"D16","v":"京都"},null,null,null,null,null,{"$f":"J16","v":0}]
[null,{"$f":"B17","v":212}]
[null,null,null,{"$f":"D18","v":"京都"},null,{"$f":"F18","v":0},null,null,null,{"$f":"J18","v":0},null,{"$f":"L18","v":0},null,null,null,null,{"$f":"Q18","v":0}]
[null,{"$f":"B19","v":213}]
[null,null,null,{"$f":"D20","v":"京都"},null,{"$f":"F20","v":0},null,null,null,{"$f":"J20","v":0},null,{"$f":"L20","v":0},null,null,null,null,{"$f":"Q20","v":0}]
[null,{"$f":"B21","v":214}]
[null,null,null,{"$f":"D22","v":"京都"},null,{"$f":"F22","v":0},null,null,null,{"$f":"J22","v":0},null,{"$f":"L22","v":0},null,null,null,null,{"$f":"Q22","v":0}]
[null,{"$f":"B23","v":215}]
[null,null,null,{"$f":"D24","v":"京都"},null,{"$f":"F24","v":0},null,null,null,{"$f":"J24","v":0},null,{"$f":"L24","v":0},null,null,null,null,{"$f":"Q24","v":0}]
[null,{"$f":"B25","v":216}]
[null,null,null,{"$f":"D26","v":"京都"},null,{"$f":"F26","v":0},null,null,null,{"$f":"J26","v":0},null,{"$f":"L26","v":0},null,null,null,null,{"$f":"Q26","v":0}]
[null,{"$f":"B27","v":217}]
[null,null,null,{"$f":"D28","v":"京都"},null,{"$f":"F28","v":0},null,null,null,{"$f":"J28","v":0},null,{"$f":"L28","v":0},null,null,null,null,{"$f":"Q28","v":0}]
[null,{"$f":"B29","v":218}]
[null,null,null,{"$f":"D30","v":"京都"},null,{"$f":"F30","v":0},null,null,null,{"$f":"J30","v":0},null,{"$f":"L30","v":0},null,null,null,null,{"$f":"Q30","v":0}]
[null,{"$f":"B31","v":219}]
[null,null,null,{"$f":"D32","v":"京都"},null,{"$f":"F32","v":0},null,null,null,{"$f":"J32","v":0},null,{"$f":"L32","v":0},null,null,null,null,{"$f":"Q32","v":0}]
[null,{"$f":"B33","v":220}]
[null,null,null,{"$f":"D34","v":"京都"},null,{"$f":"F34","v":0},null,null,null,{"$f":"J34","v":0},null,{"$f":"L34","v":0},null,null,null,null,{"$f":"Q34","v":0}]
[null,{"$f":"B35","v":221}]
[null,null,null,{"$f":"D36","v":"京都"},null,{"$f":"F36","v":0},null,null,null,{"$f":"J36","v":0},null,{"$f":"L36","v":0},null,null,null,null,{"$f":"Q36","v":0}]
[null,{"$f":"B37","v":222}]
[null,null,null,{"$f":"D38","v":"京都"},null,{"$f":"F38","v":0},null,null,null,{"$f":"J38","v":0},null,{"$f":"L38","v":0},null,null,null,null,{"$f":"Q38","v":0}]
[null,{"$f":"B39","v":223}]
[null,null,null,{"$f":"D40","v":"京都"},null,{"$f":"F40","v":0},null,null,null,{"$f":"J40","v":0},null,{"$f":"L40","v":0},null,null,null,null,{"$f":"Q40","v":0}]
[null,{"$f":"B41","v":224}]
[null,null,null,{"$f":"D42","v":"京都"},null,{"$f":"F42","v":0},null,null,null,{"$f":"J42","v":0},null,{"$f":"L42","v":0},null,null,null,null,{"$f":"Q42","v":0}]
[null,{"$f":"B43","v":225}]
[null,null,null,{"$f":"D44","v":"京都"},null,{"$f":"F44","v":0},null,null,null,{"$f":"J44","v":0},null,{"$f":"L44","v":0},null,null,null,null,{"$f":"Q44","v":0}]
[]
[null,null,null,null,null,null,null,null,null,null,null,null,null,null,null,null,null,null,null,"　上記は、商品中古自動車確認証明業務実施要領\nに定める商品中古自動車であることを証明する。"]
[]
[null,null,null,null,null,null,null,null,null,null,null,null,null,null,null,null,null,null,null,null,"令和　　　年　　　月　　　日"]
[]
[null,null,null,null,null,null,null,null,null,null,null,null,null,null,null,null,null,null,"住　　所"]
[]
[null,null,null,null,null,null,null,null,null,null,null,null,null,null,null,null,null,null,"支 所 名"]
[]
[null,null,null,null,null,null,null,null,null,null,null,null,null,null,null,null,null,null,"代表者名",null,null,null,null,null,null,null,null,null,null,null,null,null,null,null,null,null,"㊞"]
["様式1-(3)",null,null,null,null,null,null,null,null,null,null,null,null,null,null,null,null,null,null,null,null,null,null,null,null,null,null,null,null,null,null,null,null,"(申請者控)"]
["商品中古自動車証明申請書"]
[null,null,null,null,null,null,null,null,null,null,null,null,null,null,null,null,null,null,null,null,"（企業コード番号　　　　　　　　　　　　）",null,null,null,null,null,null,null,null,null,null,null,{"$f":"AG3","v":"（15枚目）"}]
[]
[null,"一般財団法人　日本自動車査定協会",null,null,null,null,null,null,null,null,null,null,null,null,null,null,null,null,"令和",null,{"$f":"U5","v":0},null,"年",{"$f":"X5","v":0},null,"月",{"$f":"AA5","v":0},null,"日"]
[null,"　　　　　　　　　　　　　　　京都府支所長　　様",null,null,null,null,null,null,null,null,null,null,null,null,null,null,null,"申請者","（登録名義人）","住所(所在地)",null,null,null,null,{"$f":"Y6","v":0}]
[null,"　商品中古自動車確認証明業務実施要領に基づき下記の自動車が商品中古自動車であることの証明を申請します。\n　なお、下記の自動車が商品自動車であること及び記載事項に相違ないこと並びに現地調査が行われる場合には協力することを確約いたします。",null,null,null,null,null,null,null,null,null,null,null,null,null,null,null,null,null,"氏名(名称)",null,null,null,null,{"$f":"Y7","v":0}]
[null,null,null,null,null,null,null,null,null,null,null,null,null,null,null,null,null,null,null,"代表者名",null,null,null,null,{"$f":"Y8","v":0}]
[null,null,null,null,null,null,null,null,null,null,null,null,null,null,null,null,null,null,null,"電話番号",null,null,null,null,{"$f":"Y9","v":0}]
[null,null,null,null,null,null,null,null,null,null,null,null,null,null,null,null,null,null,null,"担当者名",null,null,null,null,{"$f":"Y10","v":0}]
[null,null,null,null,null,null,null,null,null,null,null,null,null,null,null,null,null,null,null,"古物商許可番号",null,null,null,null,null,null,"第",{"$f":"AB11","v":0},null,null,null,null,null,null,null,null,"号"]
[]
[null,"NO.",null,"登録番号",null,null,null,null,null,null,null,null,null,null,null,null,"車台番号",null,null,null,null,"登録\n年月日",null,null,null,null,"展示場",null,null,"調査",null,null,null,"備考"]
[null,null,null,"区分",null,"車種",null,null,null,"かな",null,"番号",null,null,null,null,"(下3ｹﾀ)",null,null,null,null,null,null,null,null,null,null,null,null,"月日",null,"結果"]
[null,{"$f":"B15","v":211},null,null,null,null,null,null,null,null,null,null,null,null,null,null,null,null,null,null,null,{"$f":"V15","v":"00:00:00"},null,null,null,null,{"$f":"AA15","v":0},null,null,null,null,"現","帳"]
[null,null,null,{"$f":"D16","v":"京都"},null,{"$f":"F16","v":0},null,null,null,{"$f":"J16","v":0},null,{"$f":"L16","v":0},null,null,null,null,{"$f":"Q16","v":0}]
[null,{"$f":"B17","v":212},null,null,null,null,null,null,null,null,null,null,null,null,null,null,null,null,null,null,null,{"$f":"V17","v":"00:00:00"},null,null,null,null,{"$f":"AA17","v":0},null,null,null,null,"現","帳"]
[null,null,null,{"$f":"D18","v":"京都"},null,{"$f":"F18","v":0},null,null,null,{"$f":"J18","v":0},null,{"$f":"L18","v":0},null,null,null,null,{"$f":"Q18","v":0}]
[null,{"$f":"B19","v":213},null,null,null,null,null,null,null,null,null,null,null,null,null,null,null,null,null,null,null,{"$f":"V19","v":"00:00:00"},null,null,null,null,{"$f":"AA19","v":0},null,null,null,null,"現","帳"]
[null,null,null,{"$f":"D20","v":"京都"},null,{"$f":"F20","v":0},null,null,null,{"$f":"J20","v":0},null,{"$f":"L20","v":0},null,null,null,null,{"$f":"Q20","v":0}]
[null,{"$f":"B21","v":214},null,null,null,null,null,null,null,null,null,null,null,null,null,null,null,null,null,null,null,{"$f":"V21","v":"00:00:00"},null,null,null,null,{"$f":"AA21","v":0},null,null,null,null,"現","帳"]
[null,null,null,{"$f":"D22","v":"京都"},null,{"$f":"F22","v":0},null,null,null,{"$f":"J22","v":0},null,{"$f":"L22","v":0},null,null,null,null,{"$f":"Q22","v":0}]
[null,{"$f":"B23","v":215},null,null,null,null,null,null,null,null,null,null,null,null,null,null,null,null,null,null,null,{"$f":"V23","v":"00:00:00"},null,null,null,null,{"$f":"AA23","v":0},null,null,null,null,"現","帳"]
[null,null,null,{"$f":"D24","v":"京都"},null,{"$f":"F24","v":0},null,null,null,{"$f":"J24","v":0},null,{"$f":"L24","v":0},null,null,null,null,{"$f":"Q24","v":0}]
[null,{"$f":"B25","v":216},null,null,null,null,null,null,null,null,null,null,null,null,null,null,null,null,null,null,null,{"$f":"V25","v":"00:00:00"},null,null,null,null,{"$f":"AA25","v":0},null,null,null,null,"現","帳"]
[null,null,null,{"$f":"D26","v":"京都"},null,{"$f":"F26","v":0},null,null,null,{"$f":"J26","v":0},null,{"$f":"L26","v":0},null,null,null,null,{"$f":"Q26","v":0}]
[null,{"$f":"B27","v":217},null,null,null,null,null,null,null,null,null,null,null,null,null,null,null,null,null,null,null,{"$f":"V27","v":"00:00:00"},null,null,null,null,{"$f":"AA27","v":0},null,null,null,null,"現","帳"]
[null,null,null,{"$f":"D28","v":"京都"},null,{"$f":"F28","v":0},null,null,null,{"$f":"J28","v":0},null,{"$f":"L28","v":0},null,null,null,null,{"$f":"Q28","v":0}]
[null,{"$f":"B29","v":218},null,null,null,null,null,null,null,null,null,null,null,null,null,null,null,null,null,null,null,{"$f":"V29","v":"00:00:00"},null,null,null,null,{"$f":"AA29","v":0},null,null,null,null,"現","帳"]
[null,null,null,{"$f":"D30","v":"京都"},null,{"$f":"F30","v":0},null,null,null,{"$f":"J30","v":0},null,{"$f":"L30","v":0},null,null,null,null,{"$f":"Q30","v":0}]
[null,{"$f":"B31","v":219},null,null,null,null,null,null,null,null,null,null,null,null,null,null,null,null,null,null,null,{"$f":"V31","v":"00:00:00"},null,null,null,null,{"$f":"AA31","v":0},null,null,null,null,"現","帳"]
[null,null,null,{"$f":"D32","v":"京都"},null,{"$f":"F32","v":0},null,null,null,{"$f":"J32","v":0},null,{"$f":"L32","v":0},null,null,null,null,{"$f":"Q32","v":0}]
[null,{"$f":"B33","v":220},null,null,null,null,null,null,null,null,null,null,null,null,null,null,null,null,null,null,null,{"$f":"V33","v":"00:00:00"},null,null,null,null,{"$f":"AA33","v":0},null,null,null,null,"現","帳"]
[null,null,null,{"$f":"D34","v":"京都"},null,{"$f":"F34","v":0},null,null,null,{"$f":"J34","v":0},null,{"$f":"L34","v":0},null,null,null,null,{"$f":"Q34","v":0}]
[null,{"$f":"B35","v":221},null,null,null,null,null,null,null,null,null,null,null,null,null,null,null,null,null,null,null,{"$f":"V35","v":"00:00:00"},null,null,null,null,{"$f":"AA35","v":0},null,null,null,null,"現","帳"]
[null,null,null,{"$f":"D36","v":"京都"},null,{"$f":"F36","v":0},null,null,null,{"$f":"J36","v":0},null,{"$f":"L36","v":0},null,null,null,null,{"$f":"Q36","v":0}]
[null,{"$f":"B37","v":222},null,null,null,null,null,null,null,null,null,null,null,null,null,null,null,null,null,null,null,{"$f":"V37","v":"00:00:00"},null,null,null,null,{"$f":"AA37","v":0},null,null,null,null,"現","帳"]
[null,null,null,{"$f":"D38","v":"京都"},null,{"$f":"F38","v":0},null,null,null,{"$f":"J38","v":0},null,{"$f":"L38","v":0},null,null,null,null,{"$f":"Q38","v":0}]
[null,{"$f":"B39","v":223},null,null,null,null,null,null,null,null,null,null,null,null,null,null,null,null,null,null,null,{"$f":"V39","v":"00:00:00"},null,null,null,null,{"$f":"AA39","v":0},null,null,null,null,"現","帳"]
[null,null,null,{"$f":"D40","v":"京都"},null,{"$f":"F40","v":0},null,null,null,{"$f":"J40","v":0},null,{"$f":"L40","v":0},null,null,null,null,{"$f":"Q40","v":0}]
[null,{"$f":"B41","v":224},null,null,null,null,null,null,null,null,null,null,null,null,null,null,null,null,null,null,null,{"$f":"V41","v":"00:00:00"},null,null,null,null,{"$f":"AA41","v":0},null,null,null,null,"現","帳"]
[null,null,null,{"$f":"D42","v":"京都"},null,{"$f":"F42","v":0},null,null,null,{"$f":"J42","v":0},null,{"$f":"L42","v":0},null,null,null,null,{"$f":"Q42","v":0}]
[null,{"$f":"B43","v":225},null,null,null,null,null,null,null,null,null,null,null,null,null,null,null,null,null,null,null,{"$f":"V43","v":"00:00:00"},null,null,null,null,{"$f":"AA43","v":0},null,null,null,null,"現","帳"]
[null,null,null,{"$f":"D44","v":"京都"},null,{"$f":"F44","v":0},null,null,null,{"$f":"J44","v":0},null,{"$f":"L44","v":0},null,null,null,null,{"$f":"Q44","v":0}]
[]
[null,null,null,null,null,null,null,null,null,null,null,null,null,null,null,null,null,"誓約事項"]
[null,null,null,null,null,null,null,null,null,null,null,null,null,null,null,null,null,null,null,"申請する自動車には、取得時の登録事由が新規登"]
[null,null,null,null,null,null,null,null,null,null,null,null,null,null,null,null,null,null,null,"録（新車・中古車とも）のものを含みません。"]
[]
[null,null,null,null,null,null,null,null,null,null,null,null,null,null,null,null,null,null,null,null,null,"担当者署名欄"]